BEGIN:VCALENDAR
VERSION:2.0
PRODID:-//St. Patrick&#039;s Parish - ECPv6.15.20//NONSGML v1.0//EN
CALSCALE:GREGORIAN
METHOD:PUBLISH
X-WR-CALNAME:St. Patrick&#039;s Parish
X-ORIGINAL-URL:https://www.stpatricksmapleridge.ca
X-WR-CALDESC:Events for St. Patrick&#039;s Parish
REFRESH-INTERVAL;VALUE=DURATION:PT1H
X-Robots-Tag:noindex
X-PUBLISHED-TTL:PT1H
BEGIN:VTIMEZONE
TZID:America/Vancouver
BEGIN:DAYLIGHT
TZOFFSETFROM:-0800
TZOFFSETTO:-0700
TZNAME:PDT
DTSTART:20260308T100000
END:DAYLIGHT
BEGIN:STANDARD
TZOFFSETFROM:-0700
TZOFFSETTO:-0800
TZNAME:PST
DTSTART:20261101T090000
END:STANDARD
BEGIN:DAYLIGHT
TZOFFSETFROM:-0800
TZOFFSETTO:-0700
TZNAME:PDT
DTSTART:20270314T100000
END:DAYLIGHT
BEGIN:STANDARD
TZOFFSETFROM:-0700
TZOFFSETTO:-0800
TZNAME:PST
DTSTART:20271107T090000
END:STANDARD
BEGIN:DAYLIGHT
TZOFFSETFROM:-0800
TZOFFSETTO:-0700
TZNAME:PDT
DTSTART:20280312T100000
END:DAYLIGHT
BEGIN:STANDARD
TZOFFSETFROM:-0700
TZOFFSETTO:-0800
TZNAME:PST
DTSTART:20281105T090000
END:STANDARD
END:VTIMEZONE
BEGIN:VEVENT
DTSTART;VALUE=DATE:20270328
DTEND;VALUE=DATE:20270329
DTSTAMP:20260421T020701
CREATED:20230330T060446Z
LAST-MODIFIED:20230330T060446Z
UID:10001170-1806192000-1806274799@www.stpatricksmapleridge.ca
SUMMARY:Sunday Mass – 9am\, 11:15am\, 4:30pm
DESCRIPTION:
URL:https://www.stpatricksmapleridge.ca/event/sunday-mass-9am-1115am-430pm-6/2027-03-28/
LOCATION:St. Patrick’s Parish\, 22561 121 Avenue\, Maple Ridge\, BC\, V2X 3T5\, Canada
CATEGORIES:Livestream,Mass,Worship
ATTACH;FMTTYPE=image/png:https://www.stpatricksmapleridge.ca/wp-content/uploads/2022/03/Sunday-Mass-OT.png
ORGANIZER;CN="St. Patrick's Parish":MAILTO:parish.spatmr@rcav.org
END:VEVENT
BEGIN:VEVENT
DTSTART;VALUE=DATE:20270404
DTEND;VALUE=DATE:20270405
DTSTAMP:20260421T020701
CREATED:20230330T060446Z
LAST-MODIFIED:20230330T060446Z
UID:10001171-1806796800-1806879599@www.stpatricksmapleridge.ca
SUMMARY:Sunday Mass – 9am\, 11:15am\, 4:30pm
DESCRIPTION:
URL:https://www.stpatricksmapleridge.ca/event/sunday-mass-9am-1115am-430pm-6/2027-04-04/
LOCATION:St. Patrick’s Parish\, 22561 121 Avenue\, Maple Ridge\, BC\, V2X 3T5\, Canada
CATEGORIES:Livestream,Mass,Worship
ATTACH;FMTTYPE=image/png:https://www.stpatricksmapleridge.ca/wp-content/uploads/2022/03/Sunday-Mass-OT.png
ORGANIZER;CN="St. Patrick's Parish":MAILTO:parish.spatmr@rcav.org
END:VEVENT
BEGIN:VEVENT
DTSTART;VALUE=DATE:20270411
DTEND;VALUE=DATE:20270412
DTSTAMP:20260421T020701
CREATED:20230330T060446Z
LAST-MODIFIED:20230330T060446Z
UID:10001172-1807401600-1807484399@www.stpatricksmapleridge.ca
SUMMARY:Sunday Mass – 9am\, 11:15am\, 4:30pm
DESCRIPTION:
URL:https://www.stpatricksmapleridge.ca/event/sunday-mass-9am-1115am-430pm-6/2027-04-11/
LOCATION:St. Patrick’s Parish\, 22561 121 Avenue\, Maple Ridge\, BC\, V2X 3T5\, Canada
CATEGORIES:Livestream,Mass,Worship
ATTACH;FMTTYPE=image/png:https://www.stpatricksmapleridge.ca/wp-content/uploads/2022/03/Sunday-Mass-OT.png
ORGANIZER;CN="St. Patrick's Parish":MAILTO:parish.spatmr@rcav.org
END:VEVENT
BEGIN:VEVENT
DTSTART;VALUE=DATE:20270418
DTEND;VALUE=DATE:20270419
DTSTAMP:20260421T020701
CREATED:20230330T060446Z
LAST-MODIFIED:20230330T060446Z
UID:10001173-1808006400-1808089199@www.stpatricksmapleridge.ca
SUMMARY:Sunday Mass – 9am\, 11:15am\, 4:30pm
DESCRIPTION:
URL:https://www.stpatricksmapleridge.ca/event/sunday-mass-9am-1115am-430pm-6/2027-04-18/
LOCATION:St. Patrick’s Parish\, 22561 121 Avenue\, Maple Ridge\, BC\, V2X 3T5\, Canada
CATEGORIES:Livestream,Mass,Worship
ATTACH;FMTTYPE=image/png:https://www.stpatricksmapleridge.ca/wp-content/uploads/2022/03/Sunday-Mass-OT.png
ORGANIZER;CN="St. Patrick's Parish":MAILTO:parish.spatmr@rcav.org
END:VEVENT
BEGIN:VEVENT
DTSTART;VALUE=DATE:20270425
DTEND;VALUE=DATE:20270426
DTSTAMP:20260421T020701
CREATED:20230330T060446Z
LAST-MODIFIED:20230330T060446Z
UID:10001174-1808611200-1808693999@www.stpatricksmapleridge.ca
SUMMARY:Sunday Mass – 9am\, 11:15am\, 4:30pm
DESCRIPTION:
URL:https://www.stpatricksmapleridge.ca/event/sunday-mass-9am-1115am-430pm-6/2027-04-25/
LOCATION:St. Patrick’s Parish\, 22561 121 Avenue\, Maple Ridge\, BC\, V2X 3T5\, Canada
CATEGORIES:Livestream,Mass,Worship
ATTACH;FMTTYPE=image/png:https://www.stpatricksmapleridge.ca/wp-content/uploads/2022/03/Sunday-Mass-OT.png
ORGANIZER;CN="St. Patrick's Parish":MAILTO:parish.spatmr@rcav.org
END:VEVENT
BEGIN:VEVENT
DTSTART;VALUE=DATE:20270502
DTEND;VALUE=DATE:20270503
DTSTAMP:20260421T020701
CREATED:20230330T060446Z
LAST-MODIFIED:20230330T060446Z
UID:10001175-1809216000-1809298799@www.stpatricksmapleridge.ca
SUMMARY:Sunday Mass – 9am\, 11:15am\, 4:30pm
DESCRIPTION:
URL:https://www.stpatricksmapleridge.ca/event/sunday-mass-9am-1115am-430pm-6/2027-05-02/
LOCATION:St. Patrick’s Parish\, 22561 121 Avenue\, Maple Ridge\, BC\, V2X 3T5\, Canada
CATEGORIES:Livestream,Mass,Worship
ATTACH;FMTTYPE=image/png:https://www.stpatricksmapleridge.ca/wp-content/uploads/2022/03/Sunday-Mass-OT.png
ORGANIZER;CN="St. Patrick's Parish":MAILTO:parish.spatmr@rcav.org
END:VEVENT
BEGIN:VEVENT
DTSTART;VALUE=DATE:20270509
DTEND;VALUE=DATE:20270510
DTSTAMP:20260421T020701
CREATED:20230330T060446Z
LAST-MODIFIED:20230330T060446Z
UID:10001176-1809820800-1809903599@www.stpatricksmapleridge.ca
SUMMARY:Sunday Mass – 9am\, 11:15am\, 4:30pm
DESCRIPTION:
URL:https://www.stpatricksmapleridge.ca/event/sunday-mass-9am-1115am-430pm-6/2027-05-09/
LOCATION:St. Patrick’s Parish\, 22561 121 Avenue\, Maple Ridge\, BC\, V2X 3T5\, Canada
CATEGORIES:Livestream,Mass,Worship
ATTACH;FMTTYPE=image/png:https://www.stpatricksmapleridge.ca/wp-content/uploads/2022/03/Sunday-Mass-OT.png
ORGANIZER;CN="St. Patrick's Parish":MAILTO:parish.spatmr@rcav.org
END:VEVENT
BEGIN:VEVENT
DTSTART;VALUE=DATE:20270516
DTEND;VALUE=DATE:20270517
DTSTAMP:20260421T020701
CREATED:20230330T060446Z
LAST-MODIFIED:20230330T060446Z
UID:10001177-1810425600-1810508399@www.stpatricksmapleridge.ca
SUMMARY:Sunday Mass – 9am\, 11:15am\, 4:30pm
DESCRIPTION:
URL:https://www.stpatricksmapleridge.ca/event/sunday-mass-9am-1115am-430pm-6/2027-05-16/
LOCATION:St. Patrick’s Parish\, 22561 121 Avenue\, Maple Ridge\, BC\, V2X 3T5\, Canada
CATEGORIES:Livestream,Mass,Worship
ATTACH;FMTTYPE=image/png:https://www.stpatricksmapleridge.ca/wp-content/uploads/2022/03/Sunday-Mass-OT.png
ORGANIZER;CN="St. Patrick's Parish":MAILTO:parish.spatmr@rcav.org
END:VEVENT
BEGIN:VEVENT
DTSTART;VALUE=DATE:20270523
DTEND;VALUE=DATE:20270524
DTSTAMP:20260421T020701
CREATED:20230330T060446Z
LAST-MODIFIED:20230330T060446Z
UID:10001178-1811030400-1811113199@www.stpatricksmapleridge.ca
SUMMARY:Sunday Mass – 9am\, 11:15am\, 4:30pm
DESCRIPTION:
URL:https://www.stpatricksmapleridge.ca/event/sunday-mass-9am-1115am-430pm-6/2027-05-23/
LOCATION:St. Patrick’s Parish\, 22561 121 Avenue\, Maple Ridge\, BC\, V2X 3T5\, Canada
CATEGORIES:Livestream,Mass,Worship
ATTACH;FMTTYPE=image/png:https://www.stpatricksmapleridge.ca/wp-content/uploads/2022/03/Sunday-Mass-OT.png
ORGANIZER;CN="St. Patrick's Parish":MAILTO:parish.spatmr@rcav.org
END:VEVENT
BEGIN:VEVENT
DTSTART;VALUE=DATE:20270530
DTEND;VALUE=DATE:20270531
DTSTAMP:20260421T020701
CREATED:20230330T060446Z
LAST-MODIFIED:20230330T060446Z
UID:10001179-1811635200-1811717999@www.stpatricksmapleridge.ca
SUMMARY:Sunday Mass – 9am\, 11:15am\, 4:30pm
DESCRIPTION:
URL:https://www.stpatricksmapleridge.ca/event/sunday-mass-9am-1115am-430pm-6/2027-05-30/
LOCATION:St. Patrick’s Parish\, 22561 121 Avenue\, Maple Ridge\, BC\, V2X 3T5\, Canada
CATEGORIES:Livestream,Mass,Worship
ATTACH;FMTTYPE=image/png:https://www.stpatricksmapleridge.ca/wp-content/uploads/2022/03/Sunday-Mass-OT.png
ORGANIZER;CN="St. Patrick's Parish":MAILTO:parish.spatmr@rcav.org
END:VEVENT
BEGIN:VEVENT
DTSTART;VALUE=DATE:20270606
DTEND;VALUE=DATE:20270607
DTSTAMP:20260421T020701
CREATED:20230330T060446Z
LAST-MODIFIED:20230330T060446Z
UID:10001180-1812240000-1812322799@www.stpatricksmapleridge.ca
SUMMARY:Sunday Mass – 9am\, 11:15am\, 4:30pm
DESCRIPTION:
URL:https://www.stpatricksmapleridge.ca/event/sunday-mass-9am-1115am-430pm-6/2027-06-06/
LOCATION:St. Patrick’s Parish\, 22561 121 Avenue\, Maple Ridge\, BC\, V2X 3T5\, Canada
CATEGORIES:Livestream,Mass,Worship
ATTACH;FMTTYPE=image/png:https://www.stpatricksmapleridge.ca/wp-content/uploads/2022/03/Sunday-Mass-OT.png
ORGANIZER;CN="St. Patrick's Parish":MAILTO:parish.spatmr@rcav.org
END:VEVENT
BEGIN:VEVENT
DTSTART;VALUE=DATE:20270613
DTEND;VALUE=DATE:20270614
DTSTAMP:20260421T020701
CREATED:20230330T060446Z
LAST-MODIFIED:20230330T060446Z
UID:10001181-1812844800-1812927599@www.stpatricksmapleridge.ca
SUMMARY:Sunday Mass – 9am\, 11:15am\, 4:30pm
DESCRIPTION:
URL:https://www.stpatricksmapleridge.ca/event/sunday-mass-9am-1115am-430pm-6/2027-06-13/
LOCATION:St. Patrick’s Parish\, 22561 121 Avenue\, Maple Ridge\, BC\, V2X 3T5\, Canada
CATEGORIES:Livestream,Mass,Worship
ATTACH;FMTTYPE=image/png:https://www.stpatricksmapleridge.ca/wp-content/uploads/2022/03/Sunday-Mass-OT.png
ORGANIZER;CN="St. Patrick's Parish":MAILTO:parish.spatmr@rcav.org
END:VEVENT
BEGIN:VEVENT
DTSTART;VALUE=DATE:20270620
DTEND;VALUE=DATE:20270621
DTSTAMP:20260421T020701
CREATED:20230330T060446Z
LAST-MODIFIED:20230330T060446Z
UID:10001182-1813449600-1813532399@www.stpatricksmapleridge.ca
SUMMARY:Sunday Mass – 9am\, 11:15am\, 4:30pm
DESCRIPTION:
URL:https://www.stpatricksmapleridge.ca/event/sunday-mass-9am-1115am-430pm-6/2027-06-20/
LOCATION:St. Patrick’s Parish\, 22561 121 Avenue\, Maple Ridge\, BC\, V2X 3T5\, Canada
CATEGORIES:Livestream,Mass,Worship
ATTACH;FMTTYPE=image/png:https://www.stpatricksmapleridge.ca/wp-content/uploads/2022/03/Sunday-Mass-OT.png
ORGANIZER;CN="St. Patrick's Parish":MAILTO:parish.spatmr@rcav.org
END:VEVENT
BEGIN:VEVENT
DTSTART;VALUE=DATE:20270627
DTEND;VALUE=DATE:20270628
DTSTAMP:20260421T020701
CREATED:20230330T060446Z
LAST-MODIFIED:20230330T060446Z
UID:10001183-1814054400-1814137199@www.stpatricksmapleridge.ca
SUMMARY:Sunday Mass – 9am\, 11:15am\, 4:30pm
DESCRIPTION:
URL:https://www.stpatricksmapleridge.ca/event/sunday-mass-9am-1115am-430pm-6/2027-06-27/
LOCATION:St. Patrick’s Parish\, 22561 121 Avenue\, Maple Ridge\, BC\, V2X 3T5\, Canada
CATEGORIES:Livestream,Mass,Worship
ATTACH;FMTTYPE=image/png:https://www.stpatricksmapleridge.ca/wp-content/uploads/2022/03/Sunday-Mass-OT.png
ORGANIZER;CN="St. Patrick's Parish":MAILTO:parish.spatmr@rcav.org
END:VEVENT
BEGIN:VEVENT
DTSTART;VALUE=DATE:20270704
DTEND;VALUE=DATE:20270705
DTSTAMP:20260421T020701
CREATED:20230330T060446Z
LAST-MODIFIED:20230330T060446Z
UID:10001184-1814659200-1814741999@www.stpatricksmapleridge.ca
SUMMARY:Sunday Mass – 9am\, 11:15am\, 4:30pm
DESCRIPTION:
URL:https://www.stpatricksmapleridge.ca/event/sunday-mass-9am-1115am-430pm-6/2027-07-04/
LOCATION:St. Patrick’s Parish\, 22561 121 Avenue\, Maple Ridge\, BC\, V2X 3T5\, Canada
CATEGORIES:Livestream,Mass,Worship
ATTACH;FMTTYPE=image/png:https://www.stpatricksmapleridge.ca/wp-content/uploads/2022/03/Sunday-Mass-OT.png
ORGANIZER;CN="St. Patrick's Parish":MAILTO:parish.spatmr@rcav.org
END:VEVENT
BEGIN:VEVENT
DTSTART;VALUE=DATE:20270711
DTEND;VALUE=DATE:20270712
DTSTAMP:20260421T020701
CREATED:20230330T060446Z
LAST-MODIFIED:20230330T060446Z
UID:10001185-1815264000-1815346799@www.stpatricksmapleridge.ca
SUMMARY:Sunday Mass – 9am\, 11:15am\, 4:30pm
DESCRIPTION:
URL:https://www.stpatricksmapleridge.ca/event/sunday-mass-9am-1115am-430pm-6/2027-07-11/
LOCATION:St. Patrick’s Parish\, 22561 121 Avenue\, Maple Ridge\, BC\, V2X 3T5\, Canada
CATEGORIES:Livestream,Mass,Worship
ATTACH;FMTTYPE=image/png:https://www.stpatricksmapleridge.ca/wp-content/uploads/2022/03/Sunday-Mass-OT.png
ORGANIZER;CN="St. Patrick's Parish":MAILTO:parish.spatmr@rcav.org
END:VEVENT
BEGIN:VEVENT
DTSTART;VALUE=DATE:20270718
DTEND;VALUE=DATE:20270719
DTSTAMP:20260421T020701
CREATED:20230330T060446Z
LAST-MODIFIED:20230330T060446Z
UID:10001186-1815868800-1815951599@www.stpatricksmapleridge.ca
SUMMARY:Sunday Mass – 9am\, 11:15am\, 4:30pm
DESCRIPTION:
URL:https://www.stpatricksmapleridge.ca/event/sunday-mass-9am-1115am-430pm-6/2027-07-18/
LOCATION:St. Patrick’s Parish\, 22561 121 Avenue\, Maple Ridge\, BC\, V2X 3T5\, Canada
CATEGORIES:Livestream,Mass,Worship
ATTACH;FMTTYPE=image/png:https://www.stpatricksmapleridge.ca/wp-content/uploads/2022/03/Sunday-Mass-OT.png
ORGANIZER;CN="St. Patrick's Parish":MAILTO:parish.spatmr@rcav.org
END:VEVENT
BEGIN:VEVENT
DTSTART;VALUE=DATE:20270725
DTEND;VALUE=DATE:20270726
DTSTAMP:20260421T020701
CREATED:20230330T060446Z
LAST-MODIFIED:20230330T060446Z
UID:10001187-1816473600-1816556399@www.stpatricksmapleridge.ca
SUMMARY:Sunday Mass – 9am\, 11:15am\, 4:30pm
DESCRIPTION:
URL:https://www.stpatricksmapleridge.ca/event/sunday-mass-9am-1115am-430pm-6/2027-07-25/
LOCATION:St. Patrick’s Parish\, 22561 121 Avenue\, Maple Ridge\, BC\, V2X 3T5\, Canada
CATEGORIES:Livestream,Mass,Worship
ATTACH;FMTTYPE=image/png:https://www.stpatricksmapleridge.ca/wp-content/uploads/2022/03/Sunday-Mass-OT.png
ORGANIZER;CN="St. Patrick's Parish":MAILTO:parish.spatmr@rcav.org
END:VEVENT
BEGIN:VEVENT
DTSTART;VALUE=DATE:20270801
DTEND;VALUE=DATE:20270802
DTSTAMP:20260421T020701
CREATED:20230330T060446Z
LAST-MODIFIED:20230330T060446Z
UID:10001188-1817078400-1817161199@www.stpatricksmapleridge.ca
SUMMARY:Sunday Mass – 9am\, 11:15am\, 4:30pm
DESCRIPTION:
URL:https://www.stpatricksmapleridge.ca/event/sunday-mass-9am-1115am-430pm-6/2027-08-01/
LOCATION:St. Patrick’s Parish\, 22561 121 Avenue\, Maple Ridge\, BC\, V2X 3T5\, Canada
CATEGORIES:Livestream,Mass,Worship
ATTACH;FMTTYPE=image/png:https://www.stpatricksmapleridge.ca/wp-content/uploads/2022/03/Sunday-Mass-OT.png
ORGANIZER;CN="St. Patrick's Parish":MAILTO:parish.spatmr@rcav.org
END:VEVENT
BEGIN:VEVENT
DTSTART;VALUE=DATE:20270808
DTEND;VALUE=DATE:20270809
DTSTAMP:20260421T020701
CREATED:20230330T060446Z
LAST-MODIFIED:20230330T060446Z
UID:10001189-1817683200-1817765999@www.stpatricksmapleridge.ca
SUMMARY:Sunday Mass – 9am\, 11:15am\, 4:30pm
DESCRIPTION:
URL:https://www.stpatricksmapleridge.ca/event/sunday-mass-9am-1115am-430pm-6/2027-08-08/
LOCATION:St. Patrick’s Parish\, 22561 121 Avenue\, Maple Ridge\, BC\, V2X 3T5\, Canada
CATEGORIES:Livestream,Mass,Worship
ATTACH;FMTTYPE=image/png:https://www.stpatricksmapleridge.ca/wp-content/uploads/2022/03/Sunday-Mass-OT.png
ORGANIZER;CN="St. Patrick's Parish":MAILTO:parish.spatmr@rcav.org
END:VEVENT
BEGIN:VEVENT
DTSTART;VALUE=DATE:20270815
DTEND;VALUE=DATE:20270816
DTSTAMP:20260421T020701
CREATED:20230330T060446Z
LAST-MODIFIED:20230330T060446Z
UID:10001190-1818288000-1818370799@www.stpatricksmapleridge.ca
SUMMARY:Sunday Mass – 9am\, 11:15am\, 4:30pm
DESCRIPTION:
URL:https://www.stpatricksmapleridge.ca/event/sunday-mass-9am-1115am-430pm-6/2027-08-15/
LOCATION:St. Patrick’s Parish\, 22561 121 Avenue\, Maple Ridge\, BC\, V2X 3T5\, Canada
CATEGORIES:Livestream,Mass,Worship
ATTACH;FMTTYPE=image/png:https://www.stpatricksmapleridge.ca/wp-content/uploads/2022/03/Sunday-Mass-OT.png
ORGANIZER;CN="St. Patrick's Parish":MAILTO:parish.spatmr@rcav.org
END:VEVENT
BEGIN:VEVENT
DTSTART;VALUE=DATE:20270822
DTEND;VALUE=DATE:20270823
DTSTAMP:20260421T020701
CREATED:20230330T060446Z
LAST-MODIFIED:20230330T060446Z
UID:10001191-1818892800-1818975599@www.stpatricksmapleridge.ca
SUMMARY:Sunday Mass – 9am\, 11:15am\, 4:30pm
DESCRIPTION:
URL:https://www.stpatricksmapleridge.ca/event/sunday-mass-9am-1115am-430pm-6/2027-08-22/
LOCATION:St. Patrick’s Parish\, 22561 121 Avenue\, Maple Ridge\, BC\, V2X 3T5\, Canada
CATEGORIES:Livestream,Mass,Worship
ATTACH;FMTTYPE=image/png:https://www.stpatricksmapleridge.ca/wp-content/uploads/2022/03/Sunday-Mass-OT.png
ORGANIZER;CN="St. Patrick's Parish":MAILTO:parish.spatmr@rcav.org
END:VEVENT
BEGIN:VEVENT
DTSTART;VALUE=DATE:20270829
DTEND;VALUE=DATE:20270830
DTSTAMP:20260421T020701
CREATED:20230330T060446Z
LAST-MODIFIED:20230330T060446Z
UID:10001192-1819497600-1819580399@www.stpatricksmapleridge.ca
SUMMARY:Sunday Mass – 9am\, 11:15am\, 4:30pm
DESCRIPTION:
URL:https://www.stpatricksmapleridge.ca/event/sunday-mass-9am-1115am-430pm-6/2027-08-29/
LOCATION:St. Patrick’s Parish\, 22561 121 Avenue\, Maple Ridge\, BC\, V2X 3T5\, Canada
CATEGORIES:Livestream,Mass,Worship
ATTACH;FMTTYPE=image/png:https://www.stpatricksmapleridge.ca/wp-content/uploads/2022/03/Sunday-Mass-OT.png
ORGANIZER;CN="St. Patrick's Parish":MAILTO:parish.spatmr@rcav.org
END:VEVENT
BEGIN:VEVENT
DTSTART;VALUE=DATE:20270905
DTEND;VALUE=DATE:20270906
DTSTAMP:20260421T020701
CREATED:20230330T060446Z
LAST-MODIFIED:20230330T060446Z
UID:10001193-1820102400-1820185199@www.stpatricksmapleridge.ca
SUMMARY:Sunday Mass – 9am\, 11:15am\, 4:30pm
DESCRIPTION:
URL:https://www.stpatricksmapleridge.ca/event/sunday-mass-9am-1115am-430pm-6/2027-09-05/
LOCATION:St. Patrick’s Parish\, 22561 121 Avenue\, Maple Ridge\, BC\, V2X 3T5\, Canada
CATEGORIES:Livestream,Mass,Worship
ATTACH;FMTTYPE=image/png:https://www.stpatricksmapleridge.ca/wp-content/uploads/2022/03/Sunday-Mass-OT.png
ORGANIZER;CN="St. Patrick's Parish":MAILTO:parish.spatmr@rcav.org
END:VEVENT
BEGIN:VEVENT
DTSTART;VALUE=DATE:20270912
DTEND;VALUE=DATE:20270913
DTSTAMP:20260421T020701
CREATED:20230330T060446Z
LAST-MODIFIED:20230330T060446Z
UID:10001194-1820707200-1820789999@www.stpatricksmapleridge.ca
SUMMARY:Sunday Mass – 9am\, 11:15am\, 4:30pm
DESCRIPTION:
URL:https://www.stpatricksmapleridge.ca/event/sunday-mass-9am-1115am-430pm-6/2027-09-12/
LOCATION:St. Patrick’s Parish\, 22561 121 Avenue\, Maple Ridge\, BC\, V2X 3T5\, Canada
CATEGORIES:Livestream,Mass,Worship
ATTACH;FMTTYPE=image/png:https://www.stpatricksmapleridge.ca/wp-content/uploads/2022/03/Sunday-Mass-OT.png
ORGANIZER;CN="St. Patrick's Parish":MAILTO:parish.spatmr@rcav.org
END:VEVENT
BEGIN:VEVENT
DTSTART;VALUE=DATE:20270919
DTEND;VALUE=DATE:20270920
DTSTAMP:20260421T020701
CREATED:20230330T060446Z
LAST-MODIFIED:20230330T060446Z
UID:10001195-1821312000-1821394799@www.stpatricksmapleridge.ca
SUMMARY:Sunday Mass – 9am\, 11:15am\, 4:30pm
DESCRIPTION:
URL:https://www.stpatricksmapleridge.ca/event/sunday-mass-9am-1115am-430pm-6/2027-09-19/
LOCATION:St. Patrick’s Parish\, 22561 121 Avenue\, Maple Ridge\, BC\, V2X 3T5\, Canada
CATEGORIES:Livestream,Mass,Worship
ATTACH;FMTTYPE=image/png:https://www.stpatricksmapleridge.ca/wp-content/uploads/2022/03/Sunday-Mass-OT.png
ORGANIZER;CN="St. Patrick's Parish":MAILTO:parish.spatmr@rcav.org
END:VEVENT
BEGIN:VEVENT
DTSTART;VALUE=DATE:20270926
DTEND;VALUE=DATE:20270927
DTSTAMP:20260421T020701
CREATED:20230330T060446Z
LAST-MODIFIED:20230330T060446Z
UID:10001196-1821916800-1821999599@www.stpatricksmapleridge.ca
SUMMARY:Sunday Mass – 9am\, 11:15am\, 4:30pm
DESCRIPTION:
URL:https://www.stpatricksmapleridge.ca/event/sunday-mass-9am-1115am-430pm-6/2027-09-26/
LOCATION:St. Patrick’s Parish\, 22561 121 Avenue\, Maple Ridge\, BC\, V2X 3T5\, Canada
CATEGORIES:Livestream,Mass,Worship
ATTACH;FMTTYPE=image/png:https://www.stpatricksmapleridge.ca/wp-content/uploads/2022/03/Sunday-Mass-OT.png
ORGANIZER;CN="St. Patrick's Parish":MAILTO:parish.spatmr@rcav.org
END:VEVENT
BEGIN:VEVENT
DTSTART;VALUE=DATE:20271003
DTEND;VALUE=DATE:20271004
DTSTAMP:20260421T020701
CREATED:20230330T060446Z
LAST-MODIFIED:20230330T060446Z
UID:10001197-1822521600-1822604399@www.stpatricksmapleridge.ca
SUMMARY:Sunday Mass – 9am\, 11:15am\, 4:30pm
DESCRIPTION:
URL:https://www.stpatricksmapleridge.ca/event/sunday-mass-9am-1115am-430pm-6/2027-10-03/
LOCATION:St. Patrick’s Parish\, 22561 121 Avenue\, Maple Ridge\, BC\, V2X 3T5\, Canada
CATEGORIES:Livestream,Mass,Worship
ATTACH;FMTTYPE=image/png:https://www.stpatricksmapleridge.ca/wp-content/uploads/2022/03/Sunday-Mass-OT.png
ORGANIZER;CN="St. Patrick's Parish":MAILTO:parish.spatmr@rcav.org
END:VEVENT
BEGIN:VEVENT
DTSTART;VALUE=DATE:20271010
DTEND;VALUE=DATE:20271011
DTSTAMP:20260421T020701
CREATED:20230330T060446Z
LAST-MODIFIED:20230330T060446Z
UID:10001198-1823126400-1823209199@www.stpatricksmapleridge.ca
SUMMARY:Sunday Mass – 9am\, 11:15am\, 4:30pm
DESCRIPTION:
URL:https://www.stpatricksmapleridge.ca/event/sunday-mass-9am-1115am-430pm-6/2027-10-10/
LOCATION:St. Patrick’s Parish\, 22561 121 Avenue\, Maple Ridge\, BC\, V2X 3T5\, Canada
CATEGORIES:Livestream,Mass,Worship
ATTACH;FMTTYPE=image/png:https://www.stpatricksmapleridge.ca/wp-content/uploads/2022/03/Sunday-Mass-OT.png
ORGANIZER;CN="St. Patrick's Parish":MAILTO:parish.spatmr@rcav.org
END:VEVENT
BEGIN:VEVENT
DTSTART;VALUE=DATE:20271017
DTEND;VALUE=DATE:20271018
DTSTAMP:20260421T020701
CREATED:20230330T060446Z
LAST-MODIFIED:20230330T060446Z
UID:10001199-1823731200-1823813999@www.stpatricksmapleridge.ca
SUMMARY:Sunday Mass – 9am\, 11:15am\, 4:30pm
DESCRIPTION:
URL:https://www.stpatricksmapleridge.ca/event/sunday-mass-9am-1115am-430pm-6/2027-10-17/
LOCATION:St. Patrick’s Parish\, 22561 121 Avenue\, Maple Ridge\, BC\, V2X 3T5\, Canada
CATEGORIES:Livestream,Mass,Worship
ATTACH;FMTTYPE=image/png:https://www.stpatricksmapleridge.ca/wp-content/uploads/2022/03/Sunday-Mass-OT.png
ORGANIZER;CN="St. Patrick's Parish":MAILTO:parish.spatmr@rcav.org
END:VEVENT
END:VCALENDAR