BEGIN:VCALENDAR
VERSION:2.0
PRODID:-//St. Patrick&#039;s Parish - ECPv6.15.20//NONSGML v1.0//EN
CALSCALE:GREGORIAN
METHOD:PUBLISH
X-ORIGINAL-URL:https://www.stpatricksmapleridge.ca
X-WR-CALDESC:Events for St. Patrick&#039;s Parish
REFRESH-INTERVAL;VALUE=DURATION:PT1H
X-Robots-Tag:noindex
X-PUBLISHED-TTL:PT1H
BEGIN:VTIMEZONE
TZID:America/Vancouver
BEGIN:DAYLIGHT
TZOFFSETFROM:-0800
TZOFFSETTO:-0700
TZNAME:PDT
DTSTART:20270314T100000
END:DAYLIGHT
BEGIN:STANDARD
TZOFFSETFROM:-0700
TZOFFSETTO:-0800
TZNAME:PST
DTSTART:20271107T090000
END:STANDARD
BEGIN:DAYLIGHT
TZOFFSETFROM:-0800
TZOFFSETTO:-0700
TZNAME:PDT
DTSTART:20280312T100000
END:DAYLIGHT
BEGIN:STANDARD
TZOFFSETFROM:-0700
TZOFFSETTO:-0800
TZNAME:PST
DTSTART:20281105T090000
END:STANDARD
BEGIN:DAYLIGHT
TZOFFSETFROM:-0800
TZOFFSETTO:-0700
TZNAME:PDT
DTSTART:20290311T100000
END:DAYLIGHT
BEGIN:STANDARD
TZOFFSETFROM:-0700
TZOFFSETTO:-0800
TZNAME:PST
DTSTART:20291104T090000
END:STANDARD
END:VTIMEZONE
BEGIN:VEVENT
DTSTART;TZID=America/Vancouver:20280312T123000
DTEND;TZID=America/Vancouver:20280312T130000
DTSTAMP:20260419T121149
CREATED:20260228T061447Z
LAST-MODIFIED:20260228T061447Z
UID:10002421-1836477000-1836478800@www.stpatricksmapleridge.ca
SUMMARY:Food Recovery Giveaway
DESCRIPTION:
URL:https://www.stpatricksmapleridge.ca/event/food-recovery-giveaway/2028-03-12/
LOCATION:St. Patrick’s Parish Gymnasium\, 22561 121 Avenue\, Maple Ridge\, BC\, V2X 3T5\, Canada
CATEGORIES:Community,Food Recovery Giveaway
ATTACH;FMTTYPE=image/jpeg:https://www.stpatricksmapleridge.ca/wp-content/uploads/2026/02/unnamed.jpg
ORGANIZER;CN="St. Patrick's Parish":MAILTO:parish.spatmr@rcav.org
END:VEVENT
BEGIN:VEVENT
DTSTART;TZID=America/Vancouver:20280318T161500
DTEND;TZID=America/Vancouver:20280318T171500
DTSTAMP:20260419T121149
CREATED:20260330T141601Z
LAST-MODIFIED:20260330T141601Z
UID:10002616-1837008900-1837012500@www.stpatricksmapleridge.ca
SUMMARY:Holy Sacrament of Reconciliation (Confessions)
DESCRIPTION:Father Matthew is available to hear your confessions during this time. \nPlease visit the main church building and wait in line inside the vestibule.
URL:https://www.stpatricksmapleridge.ca/event/holy-sacrament-of-reconciliation-confessions/2028-03-18/
LOCATION:St. Patrick’s Parish\, 22561 121 Avenue\, Maple Ridge\, BC\, V2X 3T5\, Canada
CATEGORIES:Confession
ATTACH;FMTTYPE=image/png:https://www.stpatricksmapleridge.ca/wp-content/uploads/2026/03/Website-Featured-Images55.png
ORGANIZER;CN="St. Patrick's Parish":MAILTO:parish.spatmr@rcav.org
END:VEVENT
BEGIN:VEVENT
DTSTART;VALUE=DATE:20280319
DTEND;VALUE=DATE:20280320
DTSTAMP:20260419T121149
CREATED:20230330T060446Z
LAST-MODIFIED:20230330T060446Z
UID:10001221-1837036800-1837119599@www.stpatricksmapleridge.ca
SUMMARY:Sunday Mass – 9am\, 11:15am\, 4:30pm
DESCRIPTION:
URL:https://www.stpatricksmapleridge.ca/event/sunday-mass-9am-1115am-430pm-6/2028-03-19/
LOCATION:St. Patrick’s Parish\, 22561 121 Avenue\, Maple Ridge\, BC\, V2X 3T5\, Canada
CATEGORIES:Livestream,Mass,Worship
ATTACH;FMTTYPE=image/png:https://www.stpatricksmapleridge.ca/wp-content/uploads/2022/03/Sunday-Mass-OT.png
ORGANIZER;CN="St. Patrick's Parish":MAILTO:parish.spatmr@rcav.org
END:VEVENT
BEGIN:VEVENT
DTSTART;TZID=America/Vancouver:20280324T183000
DTEND;TZID=America/Vancouver:20280324T210000
DTSTAMP:20260419T121149
CREATED:20251016T041744Z
LAST-MODIFIED:20251016T041746Z
UID:10001897-1837535400-1837544400@www.stpatricksmapleridge.ca
SUMMARY:Bibles & Brownies : A ministry event for young women
DESCRIPTION:An open invitation to the young women of St. Patrick’s grades 8 to 12 for our newest ministry led by Monica Tabada.  Please complete the registration form here to let our organizers know if you are planning to attend. \nRegistration for Bibles & BrowniesPlease enable JavaScript in your browser to complete this form.Please enable JavaScript in your browser to complete this form.Name *FirstLast		\n			Special or Acknowledgement\n			\n		\n		Email *PhoneAcknowledgementI understand that this event is intended for young women\, grades 8-12.Special Requests or NeedsSubmit
URL:https://www.stpatricksmapleridge.ca/event/bibles-brownies-a-ministry-event-for-young-women-5-2-2-2/2028-03-24/
LOCATION:St. Patrick’s Parish\, 22561 121 Avenue\, Maple Ridge\, BC\, V2X 3T5\, Canada
CATEGORIES:Community,Special Event,Youth Ministry
ATTACH;FMTTYPE=image/png:https://www.stpatricksmapleridge.ca/wp-content/uploads/2025/03/2025-2026-BB-Poster.png
END:VEVENT
BEGIN:VEVENT
DTSTART;TZID=America/Vancouver:20280325T161500
DTEND;TZID=America/Vancouver:20280325T171500
DTSTAMP:20260419T121149
CREATED:20260330T141601Z
LAST-MODIFIED:20260330T141601Z
UID:10002617-1837613700-1837617300@www.stpatricksmapleridge.ca
SUMMARY:Holy Sacrament of Reconciliation (Confessions)
DESCRIPTION:Father Matthew is available to hear your confessions during this time. \nPlease visit the main church building and wait in line inside the vestibule.
URL:https://www.stpatricksmapleridge.ca/event/holy-sacrament-of-reconciliation-confessions/2028-03-25/
LOCATION:St. Patrick’s Parish\, 22561 121 Avenue\, Maple Ridge\, BC\, V2X 3T5\, Canada
CATEGORIES:Confession
ATTACH;FMTTYPE=image/png:https://www.stpatricksmapleridge.ca/wp-content/uploads/2026/03/Website-Featured-Images55.png
ORGANIZER;CN="St. Patrick's Parish":MAILTO:parish.spatmr@rcav.org
END:VEVENT
BEGIN:VEVENT
DTSTART;TZID=America/Vancouver:20280325T190000
DTEND;TZID=America/Vancouver:20280325T210000
DTSTAMP:20260419T121149
CREATED:20230518T230530Z
LAST-MODIFIED:20250418T172441Z
UID:10001287-1837623600-1837630800@www.stpatricksmapleridge.ca
SUMMARY:Men's Ministry - Drinking with the Saints
DESCRIPTION:Our event is based loosely around the book ‘Drinking with the Saints’. Come and enjoy companionship\, good conversation\, prayer\, and a bit of fun.  This event is led by Raff Misceo\, a parishioner of St. Patrick’s. \nRecipe for a liturgically correct cocktail: mix Bartender’s Guide and Lives of the Saints\, shake well\, garnish with good cheer. \nRegistration for Drinking with the SaintsPlease enable JavaScript in your browser to complete this form.Please enable JavaScript in your browser to complete this form.Name *FirstLastEmail *Phone		\n			Special Acknowledgement Phone\n			\n		\n		AcknowledgementI understand that this event is intended for adult men who are over the age of 18.Special Requests or NeedsSubmit
URL:https://www.stpatricksmapleridge.ca/event/mens-ministry-drinking-with-the-saints/2028-03-25/
LOCATION:Holy Grounds Coffeehouse\, St. Patrick’s Parish\, 22561 121 Avenue\, Maple Ridge\, BC\, V2X 3T5\, Canada
CATEGORIES:Community,Growth,Special Event
ATTACH;FMTTYPE=image/png:https://www.stpatricksmapleridge.ca/wp-content/uploads/2023/05/dRINKING-WITH-THE-SAINTS.png
ORGANIZER;CN="St. Patrick's Parish":MAILTO:parish.spatmr@rcav.org
END:VEVENT
BEGIN:VEVENT
DTSTART;VALUE=DATE:20280326
DTEND;VALUE=DATE:20280327
DTSTAMP:20260419T121149
CREATED:20230330T060446Z
LAST-MODIFIED:20230330T060446Z
UID:10001222-1837641600-1837724399@www.stpatricksmapleridge.ca
SUMMARY:Sunday Mass – 9am\, 11:15am\, 4:30pm
DESCRIPTION:
URL:https://www.stpatricksmapleridge.ca/event/sunday-mass-9am-1115am-430pm-6/2028-03-26/
LOCATION:St. Patrick’s Parish\, 22561 121 Avenue\, Maple Ridge\, BC\, V2X 3T5\, Canada
CATEGORIES:Livestream,Mass,Worship
ATTACH;FMTTYPE=image/png:https://www.stpatricksmapleridge.ca/wp-content/uploads/2022/03/Sunday-Mass-OT.png
ORGANIZER;CN="St. Patrick's Parish":MAILTO:parish.spatmr@rcav.org
END:VEVENT
BEGIN:VEVENT
DTSTART;TZID=America/Vancouver:20280326T123000
DTEND;TZID=America/Vancouver:20280326T130000
DTSTAMP:20260419T121149
CREATED:20260228T061447Z
LAST-MODIFIED:20260228T061447Z
UID:10002422-1837686600-1837688400@www.stpatricksmapleridge.ca
SUMMARY:Food Recovery Giveaway
DESCRIPTION:
URL:https://www.stpatricksmapleridge.ca/event/food-recovery-giveaway/2028-03-26/
LOCATION:St. Patrick’s Parish Gymnasium\, 22561 121 Avenue\, Maple Ridge\, BC\, V2X 3T5\, Canada
CATEGORIES:Community,Food Recovery Giveaway
ATTACH;FMTTYPE=image/jpeg:https://www.stpatricksmapleridge.ca/wp-content/uploads/2026/02/unnamed.jpg
ORGANIZER;CN="St. Patrick's Parish":MAILTO:parish.spatmr@rcav.org
END:VEVENT
BEGIN:VEVENT
DTSTART;TZID=America/Vancouver:20280401T161500
DTEND;TZID=America/Vancouver:20280401T171500
DTSTAMP:20260419T121149
CREATED:20260330T141601Z
LAST-MODIFIED:20260330T141601Z
UID:10002618-1838218500-1838222100@www.stpatricksmapleridge.ca
SUMMARY:Holy Sacrament of Reconciliation (Confessions)
DESCRIPTION:Father Matthew is available to hear your confessions during this time. \nPlease visit the main church building and wait in line inside the vestibule.
URL:https://www.stpatricksmapleridge.ca/event/holy-sacrament-of-reconciliation-confessions/2028-04-01/
LOCATION:St. Patrick’s Parish\, 22561 121 Avenue\, Maple Ridge\, BC\, V2X 3T5\, Canada
CATEGORIES:Confession
ATTACH;FMTTYPE=image/png:https://www.stpatricksmapleridge.ca/wp-content/uploads/2026/03/Website-Featured-Images55.png
ORGANIZER;CN="St. Patrick's Parish":MAILTO:parish.spatmr@rcav.org
END:VEVENT
BEGIN:VEVENT
DTSTART;VALUE=DATE:20280402
DTEND;VALUE=DATE:20280403
DTSTAMP:20260419T121149
CREATED:20230330T060446Z
LAST-MODIFIED:20230330T060446Z
UID:10001223-1838246400-1838329199@www.stpatricksmapleridge.ca
SUMMARY:Sunday Mass – 9am\, 11:15am\, 4:30pm
DESCRIPTION:
URL:https://www.stpatricksmapleridge.ca/event/sunday-mass-9am-1115am-430pm-6/2028-04-02/
LOCATION:St. Patrick’s Parish\, 22561 121 Avenue\, Maple Ridge\, BC\, V2X 3T5\, Canada
CATEGORIES:Livestream,Mass,Worship
ATTACH;FMTTYPE=image/png:https://www.stpatricksmapleridge.ca/wp-content/uploads/2022/03/Sunday-Mass-OT.png
ORGANIZER;CN="St. Patrick's Parish":MAILTO:parish.spatmr@rcav.org
END:VEVENT
BEGIN:VEVENT
DTSTART;TZID=America/Vancouver:20280407T190000
DTEND;TZID=America/Vancouver:20280407T200000
DTSTAMP:20260419T121149
CREATED:20250927T012943Z
LAST-MODIFIED:20250927T012943Z
UID:10002192-1838746800-1838750400@www.stpatricksmapleridge.ca
SUMMARY:Encounter
DESCRIPTION:Please join us on the first Friday of the month at 7pm for a candlelit hour of Eucharistic Adoration of our Lord with Praise and Worship provided by our beautiful choir.\nThis is a beautiful\, special\, reflective time for yourself and your family; light a candle and pray to our Lord with your intentions.
URL:https://www.stpatricksmapleridge.ca/event/encounter/2028-04-07/
LOCATION:St. Patrick’s Parish\, 22561 121 Avenue\, Maple Ridge\, BC\, V2X 3T5\, Canada
CATEGORIES:Special Event,Worship
ATTACH;FMTTYPE=image/png:https://www.stpatricksmapleridge.ca/wp-content/uploads/2025/05/full-55.png
ORGANIZER;CN="St. Patrick's Parish":MAILTO:parish.spatmr@rcav.org
END:VEVENT
BEGIN:VEVENT
DTSTART;TZID=America/Vancouver:20280408T161500
DTEND;TZID=America/Vancouver:20280408T171500
DTSTAMP:20260419T121149
CREATED:20260330T141601Z
LAST-MODIFIED:20260330T141601Z
UID:10002619-1838823300-1838826900@www.stpatricksmapleridge.ca
SUMMARY:Holy Sacrament of Reconciliation (Confessions)
DESCRIPTION:Father Matthew is available to hear your confessions during this time. \nPlease visit the main church building and wait in line inside the vestibule.
URL:https://www.stpatricksmapleridge.ca/event/holy-sacrament-of-reconciliation-confessions/2028-04-08/
LOCATION:St. Patrick’s Parish\, 22561 121 Avenue\, Maple Ridge\, BC\, V2X 3T5\, Canada
CATEGORIES:Confession
ATTACH;FMTTYPE=image/png:https://www.stpatricksmapleridge.ca/wp-content/uploads/2026/03/Website-Featured-Images55.png
ORGANIZER;CN="St. Patrick's Parish":MAILTO:parish.spatmr@rcav.org
END:VEVENT
BEGIN:VEVENT
DTSTART;VALUE=DATE:20280409
DTEND;VALUE=DATE:20280410
DTSTAMP:20260419T121149
CREATED:20230330T060446Z
LAST-MODIFIED:20230330T060446Z
UID:10001224-1838851200-1838933999@www.stpatricksmapleridge.ca
SUMMARY:Sunday Mass – 9am\, 11:15am\, 4:30pm
DESCRIPTION:
URL:https://www.stpatricksmapleridge.ca/event/sunday-mass-9am-1115am-430pm-6/2028-04-09/
LOCATION:St. Patrick’s Parish\, 22561 121 Avenue\, Maple Ridge\, BC\, V2X 3T5\, Canada
CATEGORIES:Livestream,Mass,Worship
ATTACH;FMTTYPE=image/png:https://www.stpatricksmapleridge.ca/wp-content/uploads/2022/03/Sunday-Mass-OT.png
ORGANIZER;CN="St. Patrick's Parish":MAILTO:parish.spatmr@rcav.org
END:VEVENT
BEGIN:VEVENT
DTSTART;TZID=America/Vancouver:20280409T123000
DTEND;TZID=America/Vancouver:20280409T130000
DTSTAMP:20260419T121149
CREATED:20260228T061447Z
LAST-MODIFIED:20260228T061447Z
UID:10002423-1838896200-1838898000@www.stpatricksmapleridge.ca
SUMMARY:Food Recovery Giveaway
DESCRIPTION:
URL:https://www.stpatricksmapleridge.ca/event/food-recovery-giveaway/2028-04-09/
LOCATION:St. Patrick’s Parish Gymnasium\, 22561 121 Avenue\, Maple Ridge\, BC\, V2X 3T5\, Canada
CATEGORIES:Community,Food Recovery Giveaway
ATTACH;FMTTYPE=image/jpeg:https://www.stpatricksmapleridge.ca/wp-content/uploads/2026/02/unnamed.jpg
ORGANIZER;CN="St. Patrick's Parish":MAILTO:parish.spatmr@rcav.org
END:VEVENT
BEGIN:VEVENT
DTSTART;TZID=America/Vancouver:20280414T183000
DTEND;TZID=America/Vancouver:20280414T210000
DTSTAMP:20260419T121149
CREATED:20251016T042001Z
LAST-MODIFIED:20251016T042001Z
UID:10002284-1839349800-1839358800@www.stpatricksmapleridge.ca
SUMMARY:Bibles & Brownies : A ministry event for young women
DESCRIPTION:An open invitation to the young women of St. Patrick’s grades 8 to 12 for our newest ministry led by Monica Tabada.  Please complete the registration form here to let our organizers know if you are planning to attend. \nRegistration for Bibles & BrowniesPlease enable JavaScript in your browser to complete this form.Please enable JavaScript in your browser to complete this form.Name *FirstLast		\n			Needs Special or\n			\n		\n		Email *PhoneAcknowledgementI understand that this event is intended for young women\, grades 8-12.Special Requests or NeedsSubmit
URL:https://www.stpatricksmapleridge.ca/event/bibles-brownies-a-ministry-event-for-young-women/2028-04-14/
LOCATION:Holy Grounds Coffeehouse\, St. Patrick’s Parish\, 22561 121 Avenue\, Maple Ridge\, BC\, V2X 3T5\, Canada
CATEGORIES:Community,Special Event,Youth Ministry
ATTACH;FMTTYPE=image/png:https://www.stpatricksmapleridge.ca/wp-content/uploads/2025/03/2025-2026-BB-Poster.png
END:VEVENT
BEGIN:VEVENT
DTSTART;TZID=America/Vancouver:20280415T161500
DTEND;TZID=America/Vancouver:20280415T171500
DTSTAMP:20260419T121149
CREATED:20260330T141601Z
LAST-MODIFIED:20260330T141601Z
UID:10002620-1839428100-1839431700@www.stpatricksmapleridge.ca
SUMMARY:Holy Sacrament of Reconciliation (Confessions)
DESCRIPTION:Father Matthew is available to hear your confessions during this time. \nPlease visit the main church building and wait in line inside the vestibule.
URL:https://www.stpatricksmapleridge.ca/event/holy-sacrament-of-reconciliation-confessions/2028-04-15/
LOCATION:St. Patrick’s Parish\, 22561 121 Avenue\, Maple Ridge\, BC\, V2X 3T5\, Canada
CATEGORIES:Confession
ATTACH;FMTTYPE=image/png:https://www.stpatricksmapleridge.ca/wp-content/uploads/2026/03/Website-Featured-Images55.png
ORGANIZER;CN="St. Patrick's Parish":MAILTO:parish.spatmr@rcav.org
END:VEVENT
BEGIN:VEVENT
DTSTART;VALUE=DATE:20280416
DTEND;VALUE=DATE:20280417
DTSTAMP:20260419T121149
CREATED:20230330T060446Z
LAST-MODIFIED:20230330T060446Z
UID:10001225-1839456000-1839538799@www.stpatricksmapleridge.ca
SUMMARY:Sunday Mass – 9am\, 11:15am\, 4:30pm
DESCRIPTION:
URL:https://www.stpatricksmapleridge.ca/event/sunday-mass-9am-1115am-430pm-6/2028-04-16/
LOCATION:St. Patrick’s Parish\, 22561 121 Avenue\, Maple Ridge\, BC\, V2X 3T5\, Canada
CATEGORIES:Livestream,Mass,Worship
ATTACH;FMTTYPE=image/png:https://www.stpatricksmapleridge.ca/wp-content/uploads/2022/03/Sunday-Mass-OT.png
ORGANIZER;CN="St. Patrick's Parish":MAILTO:parish.spatmr@rcav.org
END:VEVENT
BEGIN:VEVENT
DTSTART;TZID=America/Vancouver:20280422T161500
DTEND;TZID=America/Vancouver:20280422T171500
DTSTAMP:20260419T121149
CREATED:20260330T141601Z
LAST-MODIFIED:20260330T141601Z
UID:10002621-1840032900-1840036500@www.stpatricksmapleridge.ca
SUMMARY:Holy Sacrament of Reconciliation (Confessions)
DESCRIPTION:Father Matthew is available to hear your confessions during this time. \nPlease visit the main church building and wait in line inside the vestibule.
URL:https://www.stpatricksmapleridge.ca/event/holy-sacrament-of-reconciliation-confessions/2028-04-22/
LOCATION:St. Patrick’s Parish\, 22561 121 Avenue\, Maple Ridge\, BC\, V2X 3T5\, Canada
CATEGORIES:Confession
ATTACH;FMTTYPE=image/png:https://www.stpatricksmapleridge.ca/wp-content/uploads/2026/03/Website-Featured-Images55.png
ORGANIZER;CN="St. Patrick's Parish":MAILTO:parish.spatmr@rcav.org
END:VEVENT
BEGIN:VEVENT
DTSTART;VALUE=DATE:20280423
DTEND;VALUE=DATE:20280424
DTSTAMP:20260419T121149
CREATED:20230330T060446Z
LAST-MODIFIED:20230330T060446Z
UID:10001226-1840060800-1840143599@www.stpatricksmapleridge.ca
SUMMARY:Sunday Mass – 9am\, 11:15am\, 4:30pm
DESCRIPTION:
URL:https://www.stpatricksmapleridge.ca/event/sunday-mass-9am-1115am-430pm-6/2028-04-23/
LOCATION:St. Patrick’s Parish\, 22561 121 Avenue\, Maple Ridge\, BC\, V2X 3T5\, Canada
CATEGORIES:Livestream,Mass,Worship
ATTACH;FMTTYPE=image/png:https://www.stpatricksmapleridge.ca/wp-content/uploads/2022/03/Sunday-Mass-OT.png
ORGANIZER;CN="St. Patrick's Parish":MAILTO:parish.spatmr@rcav.org
END:VEVENT
BEGIN:VEVENT
DTSTART;TZID=America/Vancouver:20280423T123000
DTEND;TZID=America/Vancouver:20280423T130000
DTSTAMP:20260419T121149
CREATED:20260228T061447Z
LAST-MODIFIED:20260228T061447Z
UID:10002424-1840105800-1840107600@www.stpatricksmapleridge.ca
SUMMARY:Food Recovery Giveaway
DESCRIPTION:
URL:https://www.stpatricksmapleridge.ca/event/food-recovery-giveaway/2028-04-23/
LOCATION:St. Patrick’s Parish Gymnasium\, 22561 121 Avenue\, Maple Ridge\, BC\, V2X 3T5\, Canada
CATEGORIES:Community,Food Recovery Giveaway
ATTACH;FMTTYPE=image/jpeg:https://www.stpatricksmapleridge.ca/wp-content/uploads/2026/02/unnamed.jpg
ORGANIZER;CN="St. Patrick's Parish":MAILTO:parish.spatmr@rcav.org
END:VEVENT
BEGIN:VEVENT
DTSTART;TZID=America/Vancouver:20280428T183000
DTEND;TZID=America/Vancouver:20280428T210000
DTSTAMP:20260419T121149
CREATED:20251016T041744Z
LAST-MODIFIED:20251016T041746Z
UID:10002240-1840559400-1840568400@www.stpatricksmapleridge.ca
SUMMARY:Bibles & Brownies : A ministry event for young women
DESCRIPTION:An open invitation to the young women of St. Patrick’s grades 8 to 12 for our newest ministry led by Monica Tabada.  Please complete the registration form here to let our organizers know if you are planning to attend. \nRegistration for Bibles & BrowniesPlease enable JavaScript in your browser to complete this form.Please enable JavaScript in your browser to complete this form.		\n			Acknowledgement Needs Name\n			\n		\n		Name *FirstLastEmail *PhoneAcknowledgementI understand that this event is intended for young women\, grades 8-12.Special Requests or NeedsSubmit
URL:https://www.stpatricksmapleridge.ca/event/bibles-brownies-a-ministry-event-for-young-women-5-2-2-2/2028-04-28/
LOCATION:St. Patrick’s Parish\, 22561 121 Avenue\, Maple Ridge\, BC\, V2X 3T5\, Canada
CATEGORIES:Community,Special Event,Youth Ministry
ATTACH;FMTTYPE=image/png:https://www.stpatricksmapleridge.ca/wp-content/uploads/2025/03/2025-2026-BB-Poster.png
END:VEVENT
BEGIN:VEVENT
DTSTART;TZID=America/Vancouver:20280429T161500
DTEND;TZID=America/Vancouver:20280429T171500
DTSTAMP:20260419T121149
CREATED:20260330T141601Z
LAST-MODIFIED:20260330T141601Z
UID:10002622-1840637700-1840641300@www.stpatricksmapleridge.ca
SUMMARY:Holy Sacrament of Reconciliation (Confessions)
DESCRIPTION:Father Matthew is available to hear your confessions during this time. \nPlease visit the main church building and wait in line inside the vestibule.
URL:https://www.stpatricksmapleridge.ca/event/holy-sacrament-of-reconciliation-confessions/2028-04-29/
LOCATION:St. Patrick’s Parish\, 22561 121 Avenue\, Maple Ridge\, BC\, V2X 3T5\, Canada
CATEGORIES:Confession
ATTACH;FMTTYPE=image/png:https://www.stpatricksmapleridge.ca/wp-content/uploads/2026/03/Website-Featured-Images55.png
ORGANIZER;CN="St. Patrick's Parish":MAILTO:parish.spatmr@rcav.org
END:VEVENT
BEGIN:VEVENT
DTSTART;TZID=America/Vancouver:20280429T190000
DTEND;TZID=America/Vancouver:20280429T210000
DTSTAMP:20260419T121149
CREATED:20230518T230530Z
LAST-MODIFIED:20250418T172441Z
UID:10001288-1840647600-1840654800@www.stpatricksmapleridge.ca
SUMMARY:Men's Ministry - Drinking with the Saints
DESCRIPTION:Our event is based loosely around the book ‘Drinking with the Saints’. Come and enjoy companionship\, good conversation\, prayer\, and a bit of fun.  This event is led by Raff Misceo\, a parishioner of St. Patrick’s. \nRecipe for a liturgically correct cocktail: mix Bartender’s Guide and Lives of the Saints\, shake well\, garnish with good cheer. \nRegistration for Drinking with the SaintsPlease enable JavaScript in your browser to complete this form.Please enable JavaScript in your browser to complete this form.Name *FirstLast		\n			Requests Email Name\n			\n		\n		Email *PhoneAcknowledgementI understand that this event is intended for adult men who are over the age of 18.Special Requests or NeedsSubmit
URL:https://www.stpatricksmapleridge.ca/event/mens-ministry-drinking-with-the-saints/2028-04-29/
LOCATION:Holy Grounds Coffeehouse\, St. Patrick’s Parish\, 22561 121 Avenue\, Maple Ridge\, BC\, V2X 3T5\, Canada
CATEGORIES:Community,Growth,Special Event
ATTACH;FMTTYPE=image/png:https://www.stpatricksmapleridge.ca/wp-content/uploads/2023/05/dRINKING-WITH-THE-SAINTS.png
ORGANIZER;CN="St. Patrick's Parish":MAILTO:parish.spatmr@rcav.org
END:VEVENT
BEGIN:VEVENT
DTSTART;VALUE=DATE:20280430
DTEND;VALUE=DATE:20280501
DTSTAMP:20260419T121149
CREATED:20230330T060446Z
LAST-MODIFIED:20230330T060446Z
UID:10001227-1840665600-1840748399@www.stpatricksmapleridge.ca
SUMMARY:Sunday Mass – 9am\, 11:15am\, 4:30pm
DESCRIPTION:
URL:https://www.stpatricksmapleridge.ca/event/sunday-mass-9am-1115am-430pm-6/2028-04-30/
LOCATION:St. Patrick’s Parish\, 22561 121 Avenue\, Maple Ridge\, BC\, V2X 3T5\, Canada
CATEGORIES:Livestream,Mass,Worship
ATTACH;FMTTYPE=image/png:https://www.stpatricksmapleridge.ca/wp-content/uploads/2022/03/Sunday-Mass-OT.png
ORGANIZER;CN="St. Patrick's Parish":MAILTO:parish.spatmr@rcav.org
END:VEVENT
BEGIN:VEVENT
DTSTART;TZID=America/Vancouver:20280505T190000
DTEND;TZID=America/Vancouver:20280505T200000
DTSTAMP:20260419T121149
CREATED:20250927T012943Z
LAST-MODIFIED:20250927T012943Z
UID:10002193-1841166000-1841169600@www.stpatricksmapleridge.ca
SUMMARY:Encounter
DESCRIPTION:Please join us on the first Friday of the month at 7pm for a candlelit hour of Eucharistic Adoration of our Lord with Praise and Worship provided by our beautiful choir.\nThis is a beautiful\, special\, reflective time for yourself and your family; light a candle and pray to our Lord with your intentions.
URL:https://www.stpatricksmapleridge.ca/event/encounter/2028-05-05/
LOCATION:St. Patrick’s Parish\, 22561 121 Avenue\, Maple Ridge\, BC\, V2X 3T5\, Canada
CATEGORIES:Special Event,Worship
ATTACH;FMTTYPE=image/png:https://www.stpatricksmapleridge.ca/wp-content/uploads/2025/05/full-55.png
ORGANIZER;CN="St. Patrick's Parish":MAILTO:parish.spatmr@rcav.org
END:VEVENT
BEGIN:VEVENT
DTSTART;TZID=America/Vancouver:20280506T161500
DTEND;TZID=America/Vancouver:20280506T171500
DTSTAMP:20260419T121149
CREATED:20260330T141601Z
LAST-MODIFIED:20260330T141601Z
UID:10002623-1841242500-1841246100@www.stpatricksmapleridge.ca
SUMMARY:Holy Sacrament of Reconciliation (Confessions)
DESCRIPTION:Father Matthew is available to hear your confessions during this time. \nPlease visit the main church building and wait in line inside the vestibule.
URL:https://www.stpatricksmapleridge.ca/event/holy-sacrament-of-reconciliation-confessions/2028-05-06/
LOCATION:St. Patrick’s Parish\, 22561 121 Avenue\, Maple Ridge\, BC\, V2X 3T5\, Canada
CATEGORIES:Confession
ATTACH;FMTTYPE=image/png:https://www.stpatricksmapleridge.ca/wp-content/uploads/2026/03/Website-Featured-Images55.png
ORGANIZER;CN="St. Patrick's Parish":MAILTO:parish.spatmr@rcav.org
END:VEVENT
BEGIN:VEVENT
DTSTART;VALUE=DATE:20280507
DTEND;VALUE=DATE:20280508
DTSTAMP:20260419T121150
CREATED:20230330T060446Z
LAST-MODIFIED:20230330T060446Z
UID:10001228-1841270400-1841353199@www.stpatricksmapleridge.ca
SUMMARY:Sunday Mass – 9am\, 11:15am\, 4:30pm
DESCRIPTION:
URL:https://www.stpatricksmapleridge.ca/event/sunday-mass-9am-1115am-430pm-6/2028-05-07/
LOCATION:St. Patrick’s Parish\, 22561 121 Avenue\, Maple Ridge\, BC\, V2X 3T5\, Canada
CATEGORIES:Livestream,Mass,Worship
ATTACH;FMTTYPE=image/png:https://www.stpatricksmapleridge.ca/wp-content/uploads/2022/03/Sunday-Mass-OT.png
ORGANIZER;CN="St. Patrick's Parish":MAILTO:parish.spatmr@rcav.org
END:VEVENT
BEGIN:VEVENT
DTSTART;TZID=America/Vancouver:20280507T123000
DTEND;TZID=America/Vancouver:20280507T130000
DTSTAMP:20260419T121150
CREATED:20260228T061447Z
LAST-MODIFIED:20260228T061447Z
UID:10002425-1841315400-1841317200@www.stpatricksmapleridge.ca
SUMMARY:Food Recovery Giveaway
DESCRIPTION:
URL:https://www.stpatricksmapleridge.ca/event/food-recovery-giveaway/2028-05-07/
LOCATION:St. Patrick’s Parish Gymnasium\, 22561 121 Avenue\, Maple Ridge\, BC\, V2X 3T5\, Canada
CATEGORIES:Community,Food Recovery Giveaway
ATTACH;FMTTYPE=image/jpeg:https://www.stpatricksmapleridge.ca/wp-content/uploads/2026/02/unnamed.jpg
ORGANIZER;CN="St. Patrick's Parish":MAILTO:parish.spatmr@rcav.org
END:VEVENT
BEGIN:VEVENT
DTSTART;TZID=America/Vancouver:20280512T183000
DTEND;TZID=America/Vancouver:20280512T210000
DTSTAMP:20260419T121150
CREATED:20251016T042001Z
LAST-MODIFIED:20251016T042001Z
UID:10002285-1841769000-1841778000@www.stpatricksmapleridge.ca
SUMMARY:Bibles & Brownies : A ministry event for young women
DESCRIPTION:An open invitation to the young women of St. Patrick’s grades 8 to 12 for our newest ministry led by Monica Tabada.  Please complete the registration form here to let our organizers know if you are planning to attend. \nRegistration for Bibles & BrowniesPlease enable JavaScript in your browser to complete this form.Please enable JavaScript in your browser to complete this form.Name *FirstLastEmail *Phone		\n			Special Requests Email\n			\n		\n		AcknowledgementI understand that this event is intended for young women\, grades 8-12.Special Requests or NeedsSubmit
URL:https://www.stpatricksmapleridge.ca/event/bibles-brownies-a-ministry-event-for-young-women/2028-05-12/
LOCATION:Holy Grounds Coffeehouse\, St. Patrick’s Parish\, 22561 121 Avenue\, Maple Ridge\, BC\, V2X 3T5\, Canada
CATEGORIES:Community,Special Event,Youth Ministry
ATTACH;FMTTYPE=image/png:https://www.stpatricksmapleridge.ca/wp-content/uploads/2025/03/2025-2026-BB-Poster.png
END:VEVENT
BEGIN:VEVENT
DTSTART;TZID=America/Vancouver:20280513T161500
DTEND;TZID=America/Vancouver:20280513T171500
DTSTAMP:20260419T121150
CREATED:20260330T141601Z
LAST-MODIFIED:20260330T141601Z
UID:10002624-1841847300-1841850900@www.stpatricksmapleridge.ca
SUMMARY:Holy Sacrament of Reconciliation (Confessions)
DESCRIPTION:Father Matthew is available to hear your confessions during this time. \nPlease visit the main church building and wait in line inside the vestibule.
URL:https://www.stpatricksmapleridge.ca/event/holy-sacrament-of-reconciliation-confessions/2028-05-13/
LOCATION:St. Patrick’s Parish\, 22561 121 Avenue\, Maple Ridge\, BC\, V2X 3T5\, Canada
CATEGORIES:Confession
ATTACH;FMTTYPE=image/png:https://www.stpatricksmapleridge.ca/wp-content/uploads/2026/03/Website-Featured-Images55.png
ORGANIZER;CN="St. Patrick's Parish":MAILTO:parish.spatmr@rcav.org
END:VEVENT
END:VCALENDAR