BEGIN:VCALENDAR
VERSION:2.0
PRODID:-//St. Patrick&#039;s Parish - ECPv6.15.20//NONSGML v1.0//EN
CALSCALE:GREGORIAN
METHOD:PUBLISH
X-WR-CALNAME:St. Patrick&#039;s Parish
X-ORIGINAL-URL:https://www.stpatricksmapleridge.ca
X-WR-CALDESC:Events for St. Patrick&#039;s Parish
REFRESH-INTERVAL;VALUE=DURATION:PT1H
X-Robots-Tag:noindex
X-PUBLISHED-TTL:PT1H
BEGIN:VTIMEZONE
TZID:America/Vancouver
BEGIN:DAYLIGHT
TZOFFSETFROM:-0800
TZOFFSETTO:-0700
TZNAME:PDT
DTSTART:20280312T100000
END:DAYLIGHT
BEGIN:STANDARD
TZOFFSETFROM:-0700
TZOFFSETTO:-0800
TZNAME:PST
DTSTART:20281105T090000
END:STANDARD
BEGIN:DAYLIGHT
TZOFFSETFROM:-0800
TZOFFSETTO:-0700
TZNAME:PDT
DTSTART:20290311T100000
END:DAYLIGHT
BEGIN:STANDARD
TZOFFSETFROM:-0700
TZOFFSETTO:-0800
TZNAME:PST
DTSTART:20291104T090000
END:STANDARD
BEGIN:DAYLIGHT
TZOFFSETFROM:-0800
TZOFFSETTO:-0700
TZNAME:PDT
DTSTART:20300310T100000
END:DAYLIGHT
BEGIN:STANDARD
TZOFFSETFROM:-0700
TZOFFSETTO:-0800
TZNAME:PST
DTSTART:20301103T090000
END:STANDARD
END:VTIMEZONE
BEGIN:VEVENT
DTSTART;TZID=America/Vancouver:20290818T161500
DTEND;TZID=America/Vancouver:20290818T171500
DTSTAMP:20260422T195011
CREATED:20260330T141601Z
LAST-MODIFIED:20260330T141601Z
UID:10002690-1881764100-1881767700@www.stpatricksmapleridge.ca
SUMMARY:Holy Sacrament of Reconciliation (Confessions)
DESCRIPTION:Father Matthew is available to hear your confessions during this time. \nPlease visit the main church building and wait in line inside the vestibule.
URL:https://www.stpatricksmapleridge.ca/event/holy-sacrament-of-reconciliation-confessions/2029-08-18/
LOCATION:St. Patrick’s Parish\, 22561 121 Avenue\, Maple Ridge\, BC\, V2X 3T5\, Canada
CATEGORIES:Confession
ATTACH;FMTTYPE=image/png:https://www.stpatricksmapleridge.ca/wp-content/uploads/2026/03/Website-Featured-Images55.png
ORGANIZER;CN="St. Patrick's Parish":MAILTO:parish.spatmr@rcav.org
END:VEVENT
BEGIN:VEVENT
DTSTART;VALUE=DATE:20290819
DTEND;VALUE=DATE:20290820
DTSTAMP:20260422T195011
CREATED:20230330T060446Z
LAST-MODIFIED:20230330T060446Z
UID:10001780-1881792000-1881874799@www.stpatricksmapleridge.ca
SUMMARY:Sunday Mass – 9am\, 11:15am\, 4:30pm
DESCRIPTION:
URL:https://www.stpatricksmapleridge.ca/event/sunday-mass-9am-1115am-430pm-6/2029-08-19/
LOCATION:St. Patrick’s Parish\, 22561 121 Avenue\, Maple Ridge\, BC\, V2X 3T5\, Canada
CATEGORIES:Livestream,Mass,Worship
ATTACH;FMTTYPE=image/png:https://www.stpatricksmapleridge.ca/wp-content/uploads/2022/03/Sunday-Mass-OT.png
ORGANIZER;CN="St. Patrick's Parish":MAILTO:parish.spatmr@rcav.org
END:VEVENT
BEGIN:VEVENT
DTSTART;TZID=America/Vancouver:20290824T183000
DTEND;TZID=America/Vancouver:20290824T210000
DTSTAMP:20260422T195012
CREATED:20251016T041744Z
LAST-MODIFIED:20251016T041746Z
UID:10001934-1882290600-1882299600@www.stpatricksmapleridge.ca
SUMMARY:Bibles & Brownies : A ministry event for young women
DESCRIPTION:An open invitation to the young women of St. Patrick’s grades 8 to 12 for our newest ministry led by Monica Tabada.  Please complete the registration form here to let our organizers know if you are planning to attend. \nRegistration for Bibles & BrowniesPlease enable JavaScript in your browser to complete this form.Please enable JavaScript in your browser to complete this form.Name *FirstLastEmail *PhoneAcknowledgementI understand that this event is intended for young women\, grades 8-12.		\n			Requests Acknowledgement Email\n			\n		\n		Special Requests or NeedsSubmit
URL:https://www.stpatricksmapleridge.ca/event/bibles-brownies-a-ministry-event-for-young-women-5-2-2-2/2029-08-24/
LOCATION:St. Patrick’s Parish\, 22561 121 Avenue\, Maple Ridge\, BC\, V2X 3T5\, Canada
CATEGORIES:Community,Special Event,Youth Ministry
ATTACH;FMTTYPE=image/png:https://www.stpatricksmapleridge.ca/wp-content/uploads/2025/03/2025-2026-BB-Poster.png
END:VEVENT
BEGIN:VEVENT
DTSTART;TZID=America/Vancouver:20290825T161500
DTEND;TZID=America/Vancouver:20290825T171500
DTSTAMP:20260422T195012
CREATED:20260330T141601Z
LAST-MODIFIED:20260330T141601Z
UID:10002691-1882368900-1882372500@www.stpatricksmapleridge.ca
SUMMARY:Holy Sacrament of Reconciliation (Confessions)
DESCRIPTION:Father Matthew is available to hear your confessions during this time. \nPlease visit the main church building and wait in line inside the vestibule.
URL:https://www.stpatricksmapleridge.ca/event/holy-sacrament-of-reconciliation-confessions/2029-08-25/
LOCATION:St. Patrick’s Parish\, 22561 121 Avenue\, Maple Ridge\, BC\, V2X 3T5\, Canada
CATEGORIES:Confession
ATTACH;FMTTYPE=image/png:https://www.stpatricksmapleridge.ca/wp-content/uploads/2026/03/Website-Featured-Images55.png
ORGANIZER;CN="St. Patrick's Parish":MAILTO:parish.spatmr@rcav.org
END:VEVENT
BEGIN:VEVENT
DTSTART;TZID=America/Vancouver:20290825T190000
DTEND;TZID=America/Vancouver:20290825T210000
DTSTAMP:20260422T195012
CREATED:20230518T230530Z
LAST-MODIFIED:20250418T172441Z
UID:10001781-1882378800-1882386000@www.stpatricksmapleridge.ca
SUMMARY:Men's Ministry - Drinking with the Saints
DESCRIPTION:Our event is based loosely around the book ‘Drinking with the Saints’. Come and enjoy companionship\, good conversation\, prayer\, and a bit of fun.  This event is led by Raff Misceo\, a parishioner of St. Patrick’s. \nRecipe for a liturgically correct cocktail: mix Bartender’s Guide and Lives of the Saints\, shake well\, garnish with good cheer. \nRegistration for Drinking with the SaintsPlease enable JavaScript in your browser to complete this form.Please enable JavaScript in your browser to complete this form.Name *FirstLastEmail *Phone		\n			Acknowledgement Name or\n			\n		\n		AcknowledgementI understand that this event is intended for adult men who are over the age of 18.Special Requests or NeedsSubmit
URL:https://www.stpatricksmapleridge.ca/event/mens-ministry-drinking-with-the-saints/2029-08-25/
LOCATION:Holy Grounds Coffeehouse\, St. Patrick’s Parish\, 22561 121 Avenue\, Maple Ridge\, BC\, V2X 3T5\, Canada
CATEGORIES:Community,Growth,Special Event
ATTACH;FMTTYPE=image/png:https://www.stpatricksmapleridge.ca/wp-content/uploads/2023/05/dRINKING-WITH-THE-SAINTS.png
ORGANIZER;CN="St. Patrick's Parish":MAILTO:parish.spatmr@rcav.org
END:VEVENT
BEGIN:VEVENT
DTSTART;VALUE=DATE:20290826
DTEND;VALUE=DATE:20290827
DTSTAMP:20260422T195012
CREATED:20230330T060446Z
LAST-MODIFIED:20230330T060446Z
UID:10001782-1882396800-1882479599@www.stpatricksmapleridge.ca
SUMMARY:Sunday Mass – 9am\, 11:15am\, 4:30pm
DESCRIPTION:
URL:https://www.stpatricksmapleridge.ca/event/sunday-mass-9am-1115am-430pm-6/2029-08-26/
LOCATION:St. Patrick’s Parish\, 22561 121 Avenue\, Maple Ridge\, BC\, V2X 3T5\, Canada
CATEGORIES:Livestream,Mass,Worship
ATTACH;FMTTYPE=image/png:https://www.stpatricksmapleridge.ca/wp-content/uploads/2022/03/Sunday-Mass-OT.png
ORGANIZER;CN="St. Patrick's Parish":MAILTO:parish.spatmr@rcav.org
END:VEVENT
BEGIN:VEVENT
DTSTART;TZID=America/Vancouver:20290826T123000
DTEND;TZID=America/Vancouver:20290826T130000
DTSTAMP:20260422T195012
CREATED:20260228T061447Z
LAST-MODIFIED:20260228T061447Z
UID:10002459-1882441800-1882443600@www.stpatricksmapleridge.ca
SUMMARY:Food Recovery Giveaway
DESCRIPTION:
URL:https://www.stpatricksmapleridge.ca/event/food-recovery-giveaway/2029-08-26/
LOCATION:St. Patrick’s Parish Gymnasium\, 22561 121 Avenue\, Maple Ridge\, BC\, V2X 3T5\, Canada
CATEGORIES:Community,Food Recovery Giveaway
ATTACH;FMTTYPE=image/jpeg:https://www.stpatricksmapleridge.ca/wp-content/uploads/2026/02/unnamed.jpg
ORGANIZER;CN="St. Patrick's Parish":MAILTO:parish.spatmr@rcav.org
END:VEVENT
BEGIN:VEVENT
DTSTART;TZID=America/Vancouver:20290901T161500
DTEND;TZID=America/Vancouver:20290901T171500
DTSTAMP:20260422T195012
CREATED:20260330T141601Z
LAST-MODIFIED:20260330T141601Z
UID:10002692-1882973700-1882977300@www.stpatricksmapleridge.ca
SUMMARY:Holy Sacrament of Reconciliation (Confessions)
DESCRIPTION:Father Matthew is available to hear your confessions during this time. \nPlease visit the main church building and wait in line inside the vestibule.
URL:https://www.stpatricksmapleridge.ca/event/holy-sacrament-of-reconciliation-confessions/2029-09-01/
LOCATION:St. Patrick’s Parish\, 22561 121 Avenue\, Maple Ridge\, BC\, V2X 3T5\, Canada
CATEGORIES:Confession
ATTACH;FMTTYPE=image/png:https://www.stpatricksmapleridge.ca/wp-content/uploads/2026/03/Website-Featured-Images55.png
ORGANIZER;CN="St. Patrick's Parish":MAILTO:parish.spatmr@rcav.org
END:VEVENT
BEGIN:VEVENT
DTSTART;VALUE=DATE:20290902
DTEND;VALUE=DATE:20290903
DTSTAMP:20260422T195012
CREATED:20230330T060446Z
LAST-MODIFIED:20230330T060446Z
UID:10001783-1883001600-1883084399@www.stpatricksmapleridge.ca
SUMMARY:Sunday Mass – 9am\, 11:15am\, 4:30pm
DESCRIPTION:
URL:https://www.stpatricksmapleridge.ca/event/sunday-mass-9am-1115am-430pm-6/2029-09-02/
LOCATION:St. Patrick’s Parish\, 22561 121 Avenue\, Maple Ridge\, BC\, V2X 3T5\, Canada
CATEGORIES:Livestream,Mass,Worship
ATTACH;FMTTYPE=image/png:https://www.stpatricksmapleridge.ca/wp-content/uploads/2022/03/Sunday-Mass-OT.png
ORGANIZER;CN="St. Patrick's Parish":MAILTO:parish.spatmr@rcav.org
END:VEVENT
BEGIN:VEVENT
DTSTART;TZID=America/Vancouver:20290907T190000
DTEND;TZID=America/Vancouver:20290907T200000
DTSTAMP:20260422T195012
CREATED:20250927T012943Z
LAST-MODIFIED:20250927T012943Z
UID:10002209-1883502000-1883505600@www.stpatricksmapleridge.ca
SUMMARY:Encounter
DESCRIPTION:Please join us on the first Friday of the month at 7pm for a candlelit hour of Eucharistic Adoration of our Lord with Praise and Worship provided by our beautiful choir.\nThis is a beautiful\, special\, reflective time for yourself and your family; light a candle and pray to our Lord with your intentions.
URL:https://www.stpatricksmapleridge.ca/event/encounter/2029-09-07/
LOCATION:St. Patrick’s Parish\, 22561 121 Avenue\, Maple Ridge\, BC\, V2X 3T5\, Canada
CATEGORIES:Special Event,Worship
ATTACH;FMTTYPE=image/png:https://www.stpatricksmapleridge.ca/wp-content/uploads/2025/05/full-55.png
ORGANIZER;CN="St. Patrick's Parish":MAILTO:parish.spatmr@rcav.org
END:VEVENT
BEGIN:VEVENT
DTSTART;TZID=America/Vancouver:20290908T161500
DTEND;TZID=America/Vancouver:20290908T171500
DTSTAMP:20260422T195012
CREATED:20260330T141601Z
LAST-MODIFIED:20260330T141601Z
UID:10002693-1883578500-1883582100@www.stpatricksmapleridge.ca
SUMMARY:Holy Sacrament of Reconciliation (Confessions)
DESCRIPTION:Father Matthew is available to hear your confessions during this time. \nPlease visit the main church building and wait in line inside the vestibule.
URL:https://www.stpatricksmapleridge.ca/event/holy-sacrament-of-reconciliation-confessions/2029-09-08/
LOCATION:St. Patrick’s Parish\, 22561 121 Avenue\, Maple Ridge\, BC\, V2X 3T5\, Canada
CATEGORIES:Confession
ATTACH;FMTTYPE=image/png:https://www.stpatricksmapleridge.ca/wp-content/uploads/2026/03/Website-Featured-Images55.png
ORGANIZER;CN="St. Patrick's Parish":MAILTO:parish.spatmr@rcav.org
END:VEVENT
BEGIN:VEVENT
DTSTART;VALUE=DATE:20290909
DTEND;VALUE=DATE:20290910
DTSTAMP:20260422T195012
CREATED:20230330T060446Z
LAST-MODIFIED:20230330T060446Z
UID:10001784-1883606400-1883689199@www.stpatricksmapleridge.ca
SUMMARY:Sunday Mass – 9am\, 11:15am\, 4:30pm
DESCRIPTION:
URL:https://www.stpatricksmapleridge.ca/event/sunday-mass-9am-1115am-430pm-6/2029-09-09/
LOCATION:St. Patrick’s Parish\, 22561 121 Avenue\, Maple Ridge\, BC\, V2X 3T5\, Canada
CATEGORIES:Livestream,Mass,Worship
ATTACH;FMTTYPE=image/png:https://www.stpatricksmapleridge.ca/wp-content/uploads/2022/03/Sunday-Mass-OT.png
ORGANIZER;CN="St. Patrick's Parish":MAILTO:parish.spatmr@rcav.org
END:VEVENT
BEGIN:VEVENT
DTSTART;TZID=America/Vancouver:20290909T123000
DTEND;TZID=America/Vancouver:20290909T130000
DTSTAMP:20260422T195012
CREATED:20260228T061447Z
LAST-MODIFIED:20260228T061447Z
UID:10002460-1883651400-1883653200@www.stpatricksmapleridge.ca
SUMMARY:Food Recovery Giveaway
DESCRIPTION:
URL:https://www.stpatricksmapleridge.ca/event/food-recovery-giveaway/2029-09-09/
LOCATION:St. Patrick’s Parish Gymnasium\, 22561 121 Avenue\, Maple Ridge\, BC\, V2X 3T5\, Canada
CATEGORIES:Community,Food Recovery Giveaway
ATTACH;FMTTYPE=image/jpeg:https://www.stpatricksmapleridge.ca/wp-content/uploads/2026/02/unnamed.jpg
ORGANIZER;CN="St. Patrick's Parish":MAILTO:parish.spatmr@rcav.org
END:VEVENT
BEGIN:VEVENT
DTSTART;TZID=America/Vancouver:20290914T183000
DTEND;TZID=America/Vancouver:20290914T210000
DTSTAMP:20260422T195012
CREATED:20251016T042001Z
LAST-MODIFIED:20251016T042001Z
UID:10002301-1884105000-1884114000@www.stpatricksmapleridge.ca
SUMMARY:Bibles & Brownies : A ministry event for young women
DESCRIPTION:An open invitation to the young women of St. Patrick’s grades 8 to 12 for our newest ministry led by Monica Tabada.  Please complete the registration form here to let our organizers know if you are planning to attend. \nRegistration for Bibles & BrowniesPlease enable JavaScript in your browser to complete this form.Please enable JavaScript in your browser to complete this form.Name *FirstLast		\n			Needs Special Acknowledgement\n			\n		\n		Email *PhoneAcknowledgementI understand that this event is intended for young women\, grades 8-12.Special Requests or NeedsSubmit
URL:https://www.stpatricksmapleridge.ca/event/bibles-brownies-a-ministry-event-for-young-women/2029-09-14/
LOCATION:Holy Grounds Coffeehouse\, St. Patrick’s Parish\, 22561 121 Avenue\, Maple Ridge\, BC\, V2X 3T5\, Canada
CATEGORIES:Community,Special Event,Youth Ministry
ATTACH;FMTTYPE=image/png:https://www.stpatricksmapleridge.ca/wp-content/uploads/2025/03/2025-2026-BB-Poster.png
END:VEVENT
BEGIN:VEVENT
DTSTART;TZID=America/Vancouver:20290915T161500
DTEND;TZID=America/Vancouver:20290915T171500
DTSTAMP:20260422T195012
CREATED:20260330T141601Z
LAST-MODIFIED:20260330T141601Z
UID:10002694-1884183300-1884186900@www.stpatricksmapleridge.ca
SUMMARY:Holy Sacrament of Reconciliation (Confessions)
DESCRIPTION:Father Matthew is available to hear your confessions during this time. \nPlease visit the main church building and wait in line inside the vestibule.
URL:https://www.stpatricksmapleridge.ca/event/holy-sacrament-of-reconciliation-confessions/2029-09-15/
LOCATION:St. Patrick’s Parish\, 22561 121 Avenue\, Maple Ridge\, BC\, V2X 3T5\, Canada
CATEGORIES:Confession
ATTACH;FMTTYPE=image/png:https://www.stpatricksmapleridge.ca/wp-content/uploads/2026/03/Website-Featured-Images55.png
ORGANIZER;CN="St. Patrick's Parish":MAILTO:parish.spatmr@rcav.org
END:VEVENT
BEGIN:VEVENT
DTSTART;VALUE=DATE:20290916
DTEND;VALUE=DATE:20290917
DTSTAMP:20260422T195012
CREATED:20230330T060446Z
LAST-MODIFIED:20230330T060446Z
UID:10001786-1884211200-1884293999@www.stpatricksmapleridge.ca
SUMMARY:Sunday Mass – 9am\, 11:15am\, 4:30pm
DESCRIPTION:
URL:https://www.stpatricksmapleridge.ca/event/sunday-mass-9am-1115am-430pm-6/2029-09-16/
LOCATION:St. Patrick’s Parish\, 22561 121 Avenue\, Maple Ridge\, BC\, V2X 3T5\, Canada
CATEGORIES:Livestream,Mass,Worship
ATTACH;FMTTYPE=image/png:https://www.stpatricksmapleridge.ca/wp-content/uploads/2022/03/Sunday-Mass-OT.png
ORGANIZER;CN="St. Patrick's Parish":MAILTO:parish.spatmr@rcav.org
END:VEVENT
BEGIN:VEVENT
DTSTART;TZID=America/Vancouver:20290922T161500
DTEND;TZID=America/Vancouver:20290922T171500
DTSTAMP:20260422T195012
CREATED:20260330T141601Z
LAST-MODIFIED:20260330T141601Z
UID:10002695-1884788100-1884791700@www.stpatricksmapleridge.ca
SUMMARY:Holy Sacrament of Reconciliation (Confessions)
DESCRIPTION:Father Matthew is available to hear your confessions during this time. \nPlease visit the main church building and wait in line inside the vestibule.
URL:https://www.stpatricksmapleridge.ca/event/holy-sacrament-of-reconciliation-confessions/2029-09-22/
LOCATION:St. Patrick’s Parish\, 22561 121 Avenue\, Maple Ridge\, BC\, V2X 3T5\, Canada
CATEGORIES:Confession
ATTACH;FMTTYPE=image/png:https://www.stpatricksmapleridge.ca/wp-content/uploads/2026/03/Website-Featured-Images55.png
ORGANIZER;CN="St. Patrick's Parish":MAILTO:parish.spatmr@rcav.org
END:VEVENT
BEGIN:VEVENT
DTSTART;VALUE=DATE:20290923
DTEND;VALUE=DATE:20290924
DTSTAMP:20260422T195012
CREATED:20230330T060446Z
LAST-MODIFIED:20230330T060446Z
UID:10001787-1884816000-1884898799@www.stpatricksmapleridge.ca
SUMMARY:Sunday Mass – 9am\, 11:15am\, 4:30pm
DESCRIPTION:
URL:https://www.stpatricksmapleridge.ca/event/sunday-mass-9am-1115am-430pm-6/2029-09-23/
LOCATION:St. Patrick’s Parish\, 22561 121 Avenue\, Maple Ridge\, BC\, V2X 3T5\, Canada
CATEGORIES:Livestream,Mass,Worship
ATTACH;FMTTYPE=image/png:https://www.stpatricksmapleridge.ca/wp-content/uploads/2022/03/Sunday-Mass-OT.png
ORGANIZER;CN="St. Patrick's Parish":MAILTO:parish.spatmr@rcav.org
END:VEVENT
BEGIN:VEVENT
DTSTART;TZID=America/Vancouver:20290923T123000
DTEND;TZID=America/Vancouver:20290923T130000
DTSTAMP:20260422T195012
CREATED:20260228T061447Z
LAST-MODIFIED:20260228T061447Z
UID:10002461-1884861000-1884862800@www.stpatricksmapleridge.ca
SUMMARY:Food Recovery Giveaway
DESCRIPTION:
URL:https://www.stpatricksmapleridge.ca/event/food-recovery-giveaway/2029-09-23/
LOCATION:St. Patrick’s Parish Gymnasium\, 22561 121 Avenue\, Maple Ridge\, BC\, V2X 3T5\, Canada
CATEGORIES:Community,Food Recovery Giveaway
ATTACH;FMTTYPE=image/jpeg:https://www.stpatricksmapleridge.ca/wp-content/uploads/2026/02/unnamed.jpg
ORGANIZER;CN="St. Patrick's Parish":MAILTO:parish.spatmr@rcav.org
END:VEVENT
BEGIN:VEVENT
DTSTART;TZID=America/Vancouver:20290928T183000
DTEND;TZID=America/Vancouver:20290928T210000
DTSTAMP:20260422T195012
CREATED:20251016T041744Z
LAST-MODIFIED:20251016T041746Z
UID:10002249-1885314600-1885323600@www.stpatricksmapleridge.ca
SUMMARY:Bibles & Brownies : A ministry event for young women
DESCRIPTION:An open invitation to the young women of St. Patrick’s grades 8 to 12 for our newest ministry led by Monica Tabada.  Please complete the registration form here to let our organizers know if you are planning to attend. \nRegistration for Bibles & BrowniesPlease enable JavaScript in your browser to complete this form.Please enable JavaScript in your browser to complete this form.Name *FirstLastEmail *		\n			Needs Phone Special\n			\n		\n		PhoneAcknowledgementI understand that this event is intended for young women\, grades 8-12.Special Requests or NeedsSubmit
URL:https://www.stpatricksmapleridge.ca/event/bibles-brownies-a-ministry-event-for-young-women-5-2-2-2/2029-09-28/
LOCATION:St. Patrick’s Parish\, 22561 121 Avenue\, Maple Ridge\, BC\, V2X 3T5\, Canada
CATEGORIES:Community,Special Event,Youth Ministry
ATTACH;FMTTYPE=image/png:https://www.stpatricksmapleridge.ca/wp-content/uploads/2025/03/2025-2026-BB-Poster.png
END:VEVENT
BEGIN:VEVENT
DTSTART;TZID=America/Vancouver:20290929T161500
DTEND;TZID=America/Vancouver:20290929T171500
DTSTAMP:20260422T195012
CREATED:20260330T141601Z
LAST-MODIFIED:20260330T141601Z
UID:10002696-1885392900-1885396500@www.stpatricksmapleridge.ca
SUMMARY:Holy Sacrament of Reconciliation (Confessions)
DESCRIPTION:Father Matthew is available to hear your confessions during this time. \nPlease visit the main church building and wait in line inside the vestibule.
URL:https://www.stpatricksmapleridge.ca/event/holy-sacrament-of-reconciliation-confessions/2029-09-29/
LOCATION:St. Patrick’s Parish\, 22561 121 Avenue\, Maple Ridge\, BC\, V2X 3T5\, Canada
CATEGORIES:Confession
ATTACH;FMTTYPE=image/png:https://www.stpatricksmapleridge.ca/wp-content/uploads/2026/03/Website-Featured-Images55.png
ORGANIZER;CN="St. Patrick's Parish":MAILTO:parish.spatmr@rcav.org
END:VEVENT
BEGIN:VEVENT
DTSTART;TZID=America/Vancouver:20290929T190000
DTEND;TZID=America/Vancouver:20290929T210000
DTSTAMP:20260422T195012
CREATED:20230518T230530Z
LAST-MODIFIED:20250418T172441Z
UID:10001788-1885402800-1885410000@www.stpatricksmapleridge.ca
SUMMARY:Men's Ministry - Drinking with the Saints
DESCRIPTION:Our event is based loosely around the book ‘Drinking with the Saints’. Come and enjoy companionship\, good conversation\, prayer\, and a bit of fun.  This event is led by Raff Misceo\, a parishioner of St. Patrick’s. \nRecipe for a liturgically correct cocktail: mix Bartender’s Guide and Lives of the Saints\, shake well\, garnish with good cheer. \nRegistration for Drinking with the SaintsPlease enable JavaScript in your browser to complete this form.Please enable JavaScript in your browser to complete this form.Name *FirstLastEmail *		\n			Phone Needs Acknowledgement\n			\n		\n		PhoneAcknowledgementI understand that this event is intended for adult men who are over the age of 18.Special Requests or NeedsSubmit
URL:https://www.stpatricksmapleridge.ca/event/mens-ministry-drinking-with-the-saints/2029-09-29/
LOCATION:Holy Grounds Coffeehouse\, St. Patrick’s Parish\, 22561 121 Avenue\, Maple Ridge\, BC\, V2X 3T5\, Canada
CATEGORIES:Community,Growth,Special Event
ATTACH;FMTTYPE=image/png:https://www.stpatricksmapleridge.ca/wp-content/uploads/2023/05/dRINKING-WITH-THE-SAINTS.png
ORGANIZER;CN="St. Patrick's Parish":MAILTO:parish.spatmr@rcav.org
END:VEVENT
BEGIN:VEVENT
DTSTART;VALUE=DATE:20290930
DTEND;VALUE=DATE:20291001
DTSTAMP:20260422T195012
CREATED:20230330T060446Z
LAST-MODIFIED:20230330T060446Z
UID:10001792-1885420800-1885503599@www.stpatricksmapleridge.ca
SUMMARY:Sunday Mass – 9am\, 11:15am\, 4:30pm
DESCRIPTION:
URL:https://www.stpatricksmapleridge.ca/event/sunday-mass-9am-1115am-430pm-6/2029-09-30/
LOCATION:St. Patrick’s Parish\, 22561 121 Avenue\, Maple Ridge\, BC\, V2X 3T5\, Canada
CATEGORIES:Livestream,Mass,Worship
ATTACH;FMTTYPE=image/png:https://www.stpatricksmapleridge.ca/wp-content/uploads/2022/03/Sunday-Mass-OT.png
ORGANIZER;CN="St. Patrick's Parish":MAILTO:parish.spatmr@rcav.org
END:VEVENT
BEGIN:VEVENT
DTSTART;TZID=America/Vancouver:20291005T190000
DTEND;TZID=America/Vancouver:20291005T200000
DTSTAMP:20260422T195012
CREATED:20250927T012943Z
LAST-MODIFIED:20250927T012943Z
UID:10002210-1885921200-1885924800@www.stpatricksmapleridge.ca
SUMMARY:Encounter
DESCRIPTION:Please join us on the first Friday of the month at 7pm for a candlelit hour of Eucharistic Adoration of our Lord with Praise and Worship provided by our beautiful choir.\nThis is a beautiful\, special\, reflective time for yourself and your family; light a candle and pray to our Lord with your intentions.
URL:https://www.stpatricksmapleridge.ca/event/encounter/2029-10-05/
LOCATION:St. Patrick’s Parish\, 22561 121 Avenue\, Maple Ridge\, BC\, V2X 3T5\, Canada
CATEGORIES:Special Event,Worship
ATTACH;FMTTYPE=image/png:https://www.stpatricksmapleridge.ca/wp-content/uploads/2025/05/full-55.png
ORGANIZER;CN="St. Patrick's Parish":MAILTO:parish.spatmr@rcav.org
END:VEVENT
BEGIN:VEVENT
DTSTART;TZID=America/Vancouver:20291006T161500
DTEND;TZID=America/Vancouver:20291006T171500
DTSTAMP:20260422T195012
CREATED:20260330T141601Z
LAST-MODIFIED:20260330T141601Z
UID:10002697-1885997700-1886001300@www.stpatricksmapleridge.ca
SUMMARY:Holy Sacrament of Reconciliation (Confessions)
DESCRIPTION:Father Matthew is available to hear your confessions during this time. \nPlease visit the main church building and wait in line inside the vestibule.
URL:https://www.stpatricksmapleridge.ca/event/holy-sacrament-of-reconciliation-confessions/2029-10-06/
LOCATION:St. Patrick’s Parish\, 22561 121 Avenue\, Maple Ridge\, BC\, V2X 3T5\, Canada
CATEGORIES:Confession
ATTACH;FMTTYPE=image/png:https://www.stpatricksmapleridge.ca/wp-content/uploads/2026/03/Website-Featured-Images55.png
ORGANIZER;CN="St. Patrick's Parish":MAILTO:parish.spatmr@rcav.org
END:VEVENT
BEGIN:VEVENT
DTSTART;VALUE=DATE:20291007
DTEND;VALUE=DATE:20291008
DTSTAMP:20260422T195012
CREATED:20230330T060446Z
LAST-MODIFIED:20230330T060446Z
UID:10001793-1886025600-1886108399@www.stpatricksmapleridge.ca
SUMMARY:Sunday Mass – 9am\, 11:15am\, 4:30pm
DESCRIPTION:
URL:https://www.stpatricksmapleridge.ca/event/sunday-mass-9am-1115am-430pm-6/2029-10-07/
LOCATION:St. Patrick’s Parish\, 22561 121 Avenue\, Maple Ridge\, BC\, V2X 3T5\, Canada
CATEGORIES:Livestream,Mass,Worship
ATTACH;FMTTYPE=image/png:https://www.stpatricksmapleridge.ca/wp-content/uploads/2022/03/Sunday-Mass-OT.png
ORGANIZER;CN="St. Patrick's Parish":MAILTO:parish.spatmr@rcav.org
END:VEVENT
BEGIN:VEVENT
DTSTART;TZID=America/Vancouver:20291007T123000
DTEND;TZID=America/Vancouver:20291007T130000
DTSTAMP:20260422T195012
CREATED:20260228T061447Z
LAST-MODIFIED:20260228T061447Z
UID:10002462-1886070600-1886072400@www.stpatricksmapleridge.ca
SUMMARY:Food Recovery Giveaway
DESCRIPTION:
URL:https://www.stpatricksmapleridge.ca/event/food-recovery-giveaway/2029-10-07/
LOCATION:St. Patrick’s Parish Gymnasium\, 22561 121 Avenue\, Maple Ridge\, BC\, V2X 3T5\, Canada
CATEGORIES:Community,Food Recovery Giveaway
ATTACH;FMTTYPE=image/jpeg:https://www.stpatricksmapleridge.ca/wp-content/uploads/2026/02/unnamed.jpg
ORGANIZER;CN="St. Patrick's Parish":MAILTO:parish.spatmr@rcav.org
END:VEVENT
BEGIN:VEVENT
DTSTART;TZID=America/Vancouver:20291012T183000
DTEND;TZID=America/Vancouver:20291012T210000
DTSTAMP:20260422T195012
CREATED:20251016T042001Z
LAST-MODIFIED:20251016T042001Z
UID:10002302-1886524200-1886533200@www.stpatricksmapleridge.ca
SUMMARY:Bibles & Brownies : A ministry event for young women
DESCRIPTION:An open invitation to the young women of St. Patrick’s grades 8 to 12 for our newest ministry led by Monica Tabada.  Please complete the registration form here to let our organizers know if you are planning to attend. \nRegistration for Bibles & BrowniesPlease enable JavaScript in your browser to complete this form.Please enable JavaScript in your browser to complete this form.Name *FirstLastEmail *		\n			Special Needs Name\n			\n		\n		PhoneAcknowledgementI understand that this event is intended for young women\, grades 8-12.Special Requests or NeedsSubmit
URL:https://www.stpatricksmapleridge.ca/event/bibles-brownies-a-ministry-event-for-young-women/2029-10-12/
LOCATION:Holy Grounds Coffeehouse\, St. Patrick’s Parish\, 22561 121 Avenue\, Maple Ridge\, BC\, V2X 3T5\, Canada
CATEGORIES:Community,Special Event,Youth Ministry
ATTACH;FMTTYPE=image/png:https://www.stpatricksmapleridge.ca/wp-content/uploads/2025/03/2025-2026-BB-Poster.png
END:VEVENT
BEGIN:VEVENT
DTSTART;TZID=America/Vancouver:20291013T161500
DTEND;TZID=America/Vancouver:20291013T171500
DTSTAMP:20260422T195012
CREATED:20260330T141601Z
LAST-MODIFIED:20260330T141601Z
UID:10002698-1886602500-1886606100@www.stpatricksmapleridge.ca
SUMMARY:Holy Sacrament of Reconciliation (Confessions)
DESCRIPTION:Father Matthew is available to hear your confessions during this time. \nPlease visit the main church building and wait in line inside the vestibule.
URL:https://www.stpatricksmapleridge.ca/event/holy-sacrament-of-reconciliation-confessions/2029-10-13/
LOCATION:St. Patrick’s Parish\, 22561 121 Avenue\, Maple Ridge\, BC\, V2X 3T5\, Canada
CATEGORIES:Confession
ATTACH;FMTTYPE=image/png:https://www.stpatricksmapleridge.ca/wp-content/uploads/2026/03/Website-Featured-Images55.png
ORGANIZER;CN="St. Patrick's Parish":MAILTO:parish.spatmr@rcav.org
END:VEVENT
BEGIN:VEVENT
DTSTART;VALUE=DATE:20291014
DTEND;VALUE=DATE:20291015
DTSTAMP:20260422T195012
CREATED:20230330T060446Z
LAST-MODIFIED:20230330T060446Z
UID:10001794-1886630400-1886713199@www.stpatricksmapleridge.ca
SUMMARY:Sunday Mass – 9am\, 11:15am\, 4:30pm
DESCRIPTION:
URL:https://www.stpatricksmapleridge.ca/event/sunday-mass-9am-1115am-430pm-6/2029-10-14/
LOCATION:St. Patrick’s Parish\, 22561 121 Avenue\, Maple Ridge\, BC\, V2X 3T5\, Canada
CATEGORIES:Livestream,Mass,Worship
ATTACH;FMTTYPE=image/png:https://www.stpatricksmapleridge.ca/wp-content/uploads/2022/03/Sunday-Mass-OT.png
ORGANIZER;CN="St. Patrick's Parish":MAILTO:parish.spatmr@rcav.org
END:VEVENT
END:VCALENDAR