BEGIN:VCALENDAR
VERSION:2.0
PRODID:-//St. Patrick&#039;s Parish - ECPv6.15.20//NONSGML v1.0//EN
CALSCALE:GREGORIAN
METHOD:PUBLISH
X-WR-CALNAME:St. Patrick&#039;s Parish
X-ORIGINAL-URL:https://www.stpatricksmapleridge.ca
X-WR-CALDESC:Events for St. Patrick&#039;s Parish
REFRESH-INTERVAL;VALUE=DURATION:PT1H
X-Robots-Tag:noindex
X-PUBLISHED-TTL:PT1H
BEGIN:VTIMEZONE
TZID:America/Vancouver
BEGIN:DAYLIGHT
TZOFFSETFROM:-0800
TZOFFSETTO:-0700
TZNAME:PDT
DTSTART:20290311T100000
END:DAYLIGHT
BEGIN:STANDARD
TZOFFSETFROM:-0700
TZOFFSETTO:-0800
TZNAME:PST
DTSTART:20291104T090000
END:STANDARD
BEGIN:DAYLIGHT
TZOFFSETFROM:-0800
TZOFFSETTO:-0700
TZNAME:PDT
DTSTART:20300310T100000
END:DAYLIGHT
BEGIN:STANDARD
TZOFFSETFROM:-0700
TZOFFSETTO:-0800
TZNAME:PST
DTSTART:20301103T090000
END:STANDARD
BEGIN:DAYLIGHT
TZOFFSETFROM:-0800
TZOFFSETTO:-0700
TZNAME:PDT
DTSTART:20310309T100000
END:DAYLIGHT
BEGIN:STANDARD
TZOFFSETFROM:-0700
TZOFFSETTO:-0800
TZNAME:PST
DTSTART:20311102T090000
END:STANDARD
END:VTIMEZONE
BEGIN:VEVENT
DTSTART;TZID=America/Vancouver:20300412T183000
DTEND;TZID=America/Vancouver:20300412T210000
DTSTAMP:20260423T110526
CREATED:20251016T042001Z
LAST-MODIFIED:20251016T042001Z
UID:10002308-1902249000-1902258000@www.stpatricksmapleridge.ca
SUMMARY:Bibles & Brownies : A ministry event for young women
DESCRIPTION:An open invitation to the young women of St. Patrick’s grades 8 to 12 for our newest ministry led by Monica Tabada.  Please complete the registration form here to let our organizers know if you are planning to attend. \nRegistration for Bibles & BrowniesPlease enable JavaScript in your browser to complete this form.Please enable JavaScript in your browser to complete this form.Name *FirstLast		\n			Acknowledgement Requests Special\n			\n		\n		Email *PhoneAcknowledgementI understand that this event is intended for young women\, grades 8-12.Special Requests or NeedsSubmit
URL:https://www.stpatricksmapleridge.ca/event/bibles-brownies-a-ministry-event-for-young-women/2030-04-12/
LOCATION:Holy Grounds Coffeehouse\, St. Patrick’s Parish\, 22561 121 Avenue\, Maple Ridge\, BC\, V2X 3T5\, Canada
CATEGORIES:Community,Special Event,Youth Ministry
ATTACH;FMTTYPE=image/png:https://www.stpatricksmapleridge.ca/wp-content/uploads/2025/03/2025-2026-BB-Poster.png
END:VEVENT
BEGIN:VEVENT
DTSTART;TZID=America/Vancouver:20300413T161500
DTEND;TZID=America/Vancouver:20300413T171500
DTSTAMP:20260423T110526
CREATED:20260330T141601Z
LAST-MODIFIED:20260330T141601Z
UID:10002724-1902327300-1902330900@www.stpatricksmapleridge.ca
SUMMARY:Holy Sacrament of Reconciliation (Confessions)
DESCRIPTION:Father Matthew is available to hear your confessions during this time. \nPlease visit the main church building and wait in line inside the vestibule.
URL:https://www.stpatricksmapleridge.ca/event/holy-sacrament-of-reconciliation-confessions/2030-04-13/
LOCATION:St. Patrick’s Parish\, 22561 121 Avenue\, Maple Ridge\, BC\, V2X 3T5\, Canada
CATEGORIES:Confession
ATTACH;FMTTYPE=image/png:https://www.stpatricksmapleridge.ca/wp-content/uploads/2026/03/Website-Featured-Images55.png
ORGANIZER;CN="St. Patrick's Parish":MAILTO:parish.spatmr@rcav.org
END:VEVENT
BEGIN:VEVENT
DTSTART;VALUE=DATE:20300414
DTEND;VALUE=DATE:20300415
DTSTAMP:20260423T110526
CREATED:20230330T060446Z
LAST-MODIFIED:20230330T060446Z
UID:10002073-1902355200-1902437999@www.stpatricksmapleridge.ca
SUMMARY:Sunday Mass – 9am\, 11:15am\, 4:30pm
DESCRIPTION:
URL:https://www.stpatricksmapleridge.ca/event/sunday-mass-9am-1115am-430pm-6/2030-04-14/
LOCATION:St. Patrick’s Parish\, 22561 121 Avenue\, Maple Ridge\, BC\, V2X 3T5\, Canada
CATEGORIES:Livestream,Mass,Worship
ATTACH;FMTTYPE=image/png:https://www.stpatricksmapleridge.ca/wp-content/uploads/2022/03/Sunday-Mass-OT.png
ORGANIZER;CN="St. Patrick's Parish":MAILTO:parish.spatmr@rcav.org
END:VEVENT
BEGIN:VEVENT
DTSTART;TZID=America/Vancouver:20300420T161500
DTEND;TZID=America/Vancouver:20300420T171500
DTSTAMP:20260423T110526
CREATED:20260330T141601Z
LAST-MODIFIED:20260330T141601Z
UID:10002725-1902932100-1902935700@www.stpatricksmapleridge.ca
SUMMARY:Holy Sacrament of Reconciliation (Confessions)
DESCRIPTION:Father Matthew is available to hear your confessions during this time. \nPlease visit the main church building and wait in line inside the vestibule.
URL:https://www.stpatricksmapleridge.ca/event/holy-sacrament-of-reconciliation-confessions/2030-04-20/
LOCATION:St. Patrick’s Parish\, 22561 121 Avenue\, Maple Ridge\, BC\, V2X 3T5\, Canada
CATEGORIES:Confession
ATTACH;FMTTYPE=image/png:https://www.stpatricksmapleridge.ca/wp-content/uploads/2026/03/Website-Featured-Images55.png
ORGANIZER;CN="St. Patrick's Parish":MAILTO:parish.spatmr@rcav.org
END:VEVENT
BEGIN:VEVENT
DTSTART;VALUE=DATE:20300421
DTEND;VALUE=DATE:20300422
DTSTAMP:20260423T110526
CREATED:20230330T060446Z
LAST-MODIFIED:20230330T060446Z
UID:10002079-1902960000-1903042799@www.stpatricksmapleridge.ca
SUMMARY:Sunday Mass – 9am\, 11:15am\, 4:30pm
DESCRIPTION:
URL:https://www.stpatricksmapleridge.ca/event/sunday-mass-9am-1115am-430pm-6/2030-04-21/
LOCATION:St. Patrick’s Parish\, 22561 121 Avenue\, Maple Ridge\, BC\, V2X 3T5\, Canada
CATEGORIES:Livestream,Mass,Worship
ATTACH;FMTTYPE=image/png:https://www.stpatricksmapleridge.ca/wp-content/uploads/2022/03/Sunday-Mass-OT.png
ORGANIZER;CN="St. Patrick's Parish":MAILTO:parish.spatmr@rcav.org
END:VEVENT
BEGIN:VEVENT
DTSTART;TZID=America/Vancouver:20300421T123000
DTEND;TZID=America/Vancouver:20300421T130000
DTSTAMP:20260423T110526
CREATED:20260228T061447Z
LAST-MODIFIED:20260228T061447Z
UID:10002476-1903005000-1903006800@www.stpatricksmapleridge.ca
SUMMARY:Food Recovery Giveaway
DESCRIPTION:
URL:https://www.stpatricksmapleridge.ca/event/food-recovery-giveaway/2030-04-21/
LOCATION:St. Patrick’s Parish Gymnasium\, 22561 121 Avenue\, Maple Ridge\, BC\, V2X 3T5\, Canada
CATEGORIES:Community,Food Recovery Giveaway
ATTACH;FMTTYPE=image/jpeg:https://www.stpatricksmapleridge.ca/wp-content/uploads/2026/02/unnamed.jpg
ORGANIZER;CN="St. Patrick's Parish":MAILTO:parish.spatmr@rcav.org
END:VEVENT
BEGIN:VEVENT
DTSTART;TZID=America/Vancouver:20300426T183000
DTEND;TZID=America/Vancouver:20300426T210000
DTSTAMP:20260423T110526
CREATED:20251016T041744Z
LAST-MODIFIED:20251016T041746Z
UID:10002252-1903458600-1903467600@www.stpatricksmapleridge.ca
SUMMARY:Bibles & Brownies : A ministry event for young women
DESCRIPTION:An open invitation to the young women of St. Patrick’s grades 8 to 12 for our newest ministry led by Monica Tabada.  Please complete the registration form here to let our organizers know if you are planning to attend. \nRegistration for Bibles & BrowniesPlease enable JavaScript in your browser to complete this form.Please enable JavaScript in your browser to complete this form.Name *FirstLastEmail *		\n			Needs Requests Acknowledgement\n			\n		\n		PhoneAcknowledgementI understand that this event is intended for young women\, grades 8-12.Special Requests or NeedsSubmit
URL:https://www.stpatricksmapleridge.ca/event/bibles-brownies-a-ministry-event-for-young-women-5-2-2-2/2030-04-26/
LOCATION:St. Patrick’s Parish\, 22561 121 Avenue\, Maple Ridge\, BC\, V2X 3T5\, Canada
CATEGORIES:Community,Special Event,Youth Ministry
ATTACH;FMTTYPE=image/png:https://www.stpatricksmapleridge.ca/wp-content/uploads/2025/03/2025-2026-BB-Poster.png
END:VEVENT
BEGIN:VEVENT
DTSTART;TZID=America/Vancouver:20300427T161500
DTEND;TZID=America/Vancouver:20300427T171500
DTSTAMP:20260423T110526
CREATED:20260330T141601Z
LAST-MODIFIED:20260330T141601Z
UID:10002726-1903536900-1903540500@www.stpatricksmapleridge.ca
SUMMARY:Holy Sacrament of Reconciliation (Confessions)
DESCRIPTION:Father Matthew is available to hear your confessions during this time. \nPlease visit the main church building and wait in line inside the vestibule.
URL:https://www.stpatricksmapleridge.ca/event/holy-sacrament-of-reconciliation-confessions/2030-04-27/
LOCATION:St. Patrick’s Parish\, 22561 121 Avenue\, Maple Ridge\, BC\, V2X 3T5\, Canada
CATEGORIES:Confession
ATTACH;FMTTYPE=image/png:https://www.stpatricksmapleridge.ca/wp-content/uploads/2026/03/Website-Featured-Images55.png
ORGANIZER;CN="St. Patrick's Parish":MAILTO:parish.spatmr@rcav.org
END:VEVENT
BEGIN:VEVENT
DTSTART;TZID=America/Vancouver:20300427T190000
DTEND;TZID=America/Vancouver:20300427T210000
DTSTAMP:20260423T110526
CREATED:20230518T230530Z
LAST-MODIFIED:20250418T172441Z
UID:10002089-1903546800-1903554000@www.stpatricksmapleridge.ca
SUMMARY:Men's Ministry - Drinking with the Saints
DESCRIPTION:Our event is based loosely around the book ‘Drinking with the Saints’. Come and enjoy companionship\, good conversation\, prayer\, and a bit of fun.  This event is led by Raff Misceo\, a parishioner of St. Patrick’s. \nRecipe for a liturgically correct cocktail: mix Bartender’s Guide and Lives of the Saints\, shake well\, garnish with good cheer. \nRegistration for Drinking with the SaintsPlease enable JavaScript in your browser to complete this form.Please enable JavaScript in your browser to complete this form.		\n			Name Phone Needs\n			\n		\n		Name *FirstLastEmail *PhoneAcknowledgementI understand that this event is intended for adult men who are over the age of 18.Special Requests or NeedsSubmit
URL:https://www.stpatricksmapleridge.ca/event/mens-ministry-drinking-with-the-saints/2030-04-27/
LOCATION:Holy Grounds Coffeehouse\, St. Patrick’s Parish\, 22561 121 Avenue\, Maple Ridge\, BC\, V2X 3T5\, Canada
CATEGORIES:Community,Growth,Special Event
ATTACH;FMTTYPE=image/png:https://www.stpatricksmapleridge.ca/wp-content/uploads/2023/05/dRINKING-WITH-THE-SAINTS.png
ORGANIZER;CN="St. Patrick's Parish":MAILTO:parish.spatmr@rcav.org
END:VEVENT
BEGIN:VEVENT
DTSTART;VALUE=DATE:20300428
DTEND;VALUE=DATE:20300429
DTSTAMP:20260423T110526
CREATED:20230330T060446Z
LAST-MODIFIED:20230330T060446Z
UID:10002083-1903564800-1903647599@www.stpatricksmapleridge.ca
SUMMARY:Sunday Mass – 9am\, 11:15am\, 4:30pm
DESCRIPTION:
URL:https://www.stpatricksmapleridge.ca/event/sunday-mass-9am-1115am-430pm-6/2030-04-28/
LOCATION:St. Patrick’s Parish\, 22561 121 Avenue\, Maple Ridge\, BC\, V2X 3T5\, Canada
CATEGORIES:Livestream,Mass,Worship
ATTACH;FMTTYPE=image/png:https://www.stpatricksmapleridge.ca/wp-content/uploads/2022/03/Sunday-Mass-OT.png
ORGANIZER;CN="St. Patrick's Parish":MAILTO:parish.spatmr@rcav.org
END:VEVENT
BEGIN:VEVENT
DTSTART;TZID=America/Vancouver:20300503T190000
DTEND;TZID=America/Vancouver:20300503T200000
DTSTAMP:20260423T110526
CREATED:20250927T012943Z
LAST-MODIFIED:20250927T012943Z
UID:10002217-1904065200-1904068800@www.stpatricksmapleridge.ca
SUMMARY:Encounter
DESCRIPTION:Please join us on the first Friday of the month at 7pm for a candlelit hour of Eucharistic Adoration of our Lord with Praise and Worship provided by our beautiful choir.\nThis is a beautiful\, special\, reflective time for yourself and your family; light a candle and pray to our Lord with your intentions.
URL:https://www.stpatricksmapleridge.ca/event/encounter/2030-05-03/
LOCATION:St. Patrick’s Parish\, 22561 121 Avenue\, Maple Ridge\, BC\, V2X 3T5\, Canada
CATEGORIES:Special Event,Worship
ATTACH;FMTTYPE=image/png:https://www.stpatricksmapleridge.ca/wp-content/uploads/2025/05/full-55.png
ORGANIZER;CN="St. Patrick's Parish":MAILTO:parish.spatmr@rcav.org
END:VEVENT
BEGIN:VEVENT
DTSTART;TZID=America/Vancouver:20300504T161500
DTEND;TZID=America/Vancouver:20300504T171500
DTSTAMP:20260423T110526
CREATED:20260330T141601Z
LAST-MODIFIED:20260330T141601Z
UID:10002727-1904141700-1904145300@www.stpatricksmapleridge.ca
SUMMARY:Holy Sacrament of Reconciliation (Confessions)
DESCRIPTION:Father Matthew is available to hear your confessions during this time. \nPlease visit the main church building and wait in line inside the vestibule.
URL:https://www.stpatricksmapleridge.ca/event/holy-sacrament-of-reconciliation-confessions/2030-05-04/
LOCATION:St. Patrick’s Parish\, 22561 121 Avenue\, Maple Ridge\, BC\, V2X 3T5\, Canada
CATEGORIES:Confession
ATTACH;FMTTYPE=image/png:https://www.stpatricksmapleridge.ca/wp-content/uploads/2026/03/Website-Featured-Images55.png
ORGANIZER;CN="St. Patrick's Parish":MAILTO:parish.spatmr@rcav.org
END:VEVENT
BEGIN:VEVENT
DTSTART;VALUE=DATE:20300505
DTEND;VALUE=DATE:20300506
DTSTAMP:20260423T110526
CREATED:20230330T060446Z
LAST-MODIFIED:20230330T060446Z
UID:10002084-1904169600-1904252399@www.stpatricksmapleridge.ca
SUMMARY:Sunday Mass – 9am\, 11:15am\, 4:30pm
DESCRIPTION:
URL:https://www.stpatricksmapleridge.ca/event/sunday-mass-9am-1115am-430pm-6/2030-05-05/
LOCATION:St. Patrick’s Parish\, 22561 121 Avenue\, Maple Ridge\, BC\, V2X 3T5\, Canada
CATEGORIES:Livestream,Mass,Worship
ATTACH;FMTTYPE=image/png:https://www.stpatricksmapleridge.ca/wp-content/uploads/2022/03/Sunday-Mass-OT.png
ORGANIZER;CN="St. Patrick's Parish":MAILTO:parish.spatmr@rcav.org
END:VEVENT
BEGIN:VEVENT
DTSTART;TZID=America/Vancouver:20300505T123000
DTEND;TZID=America/Vancouver:20300505T130000
DTSTAMP:20260423T110526
CREATED:20260228T061447Z
LAST-MODIFIED:20260228T061447Z
UID:10002477-1904214600-1904216400@www.stpatricksmapleridge.ca
SUMMARY:Food Recovery Giveaway
DESCRIPTION:
URL:https://www.stpatricksmapleridge.ca/event/food-recovery-giveaway/2030-05-05/
LOCATION:St. Patrick’s Parish Gymnasium\, 22561 121 Avenue\, Maple Ridge\, BC\, V2X 3T5\, Canada
CATEGORIES:Community,Food Recovery Giveaway
ATTACH;FMTTYPE=image/jpeg:https://www.stpatricksmapleridge.ca/wp-content/uploads/2026/02/unnamed.jpg
ORGANIZER;CN="St. Patrick's Parish":MAILTO:parish.spatmr@rcav.org
END:VEVENT
BEGIN:VEVENT
DTSTART;TZID=America/Vancouver:20300510T183000
DTEND;TZID=America/Vancouver:20300510T210000
DTSTAMP:20260423T110526
CREATED:20251016T042001Z
LAST-MODIFIED:20251016T042001Z
UID:10002309-1904668200-1904677200@www.stpatricksmapleridge.ca
SUMMARY:Bibles & Brownies : A ministry event for young women
DESCRIPTION:An open invitation to the young women of St. Patrick’s grades 8 to 12 for our newest ministry led by Monica Tabada.  Please complete the registration form here to let our organizers know if you are planning to attend. \nRegistration for Bibles & BrowniesPlease enable JavaScript in your browser to complete this form.Please enable JavaScript in your browser to complete this form.		\n			Requests Needs Special\n			\n		\n		Name *FirstLastEmail *PhoneAcknowledgementI understand that this event is intended for young women\, grades 8-12.Special Requests or NeedsSubmit
URL:https://www.stpatricksmapleridge.ca/event/bibles-brownies-a-ministry-event-for-young-women/2030-05-10/
LOCATION:Holy Grounds Coffeehouse\, St. Patrick’s Parish\, 22561 121 Avenue\, Maple Ridge\, BC\, V2X 3T5\, Canada
CATEGORIES:Community,Special Event,Youth Ministry
ATTACH;FMTTYPE=image/png:https://www.stpatricksmapleridge.ca/wp-content/uploads/2025/03/2025-2026-BB-Poster.png
END:VEVENT
BEGIN:VEVENT
DTSTART;TZID=America/Vancouver:20300511T161500
DTEND;TZID=America/Vancouver:20300511T171500
DTSTAMP:20260423T110526
CREATED:20260330T141601Z
LAST-MODIFIED:20260330T141601Z
UID:10002728-1904746500-1904750100@www.stpatricksmapleridge.ca
SUMMARY:Holy Sacrament of Reconciliation (Confessions)
DESCRIPTION:Father Matthew is available to hear your confessions during this time. \nPlease visit the main church building and wait in line inside the vestibule.
URL:https://www.stpatricksmapleridge.ca/event/holy-sacrament-of-reconciliation-confessions/2030-05-11/
LOCATION:St. Patrick’s Parish\, 22561 121 Avenue\, Maple Ridge\, BC\, V2X 3T5\, Canada
CATEGORIES:Confession
ATTACH;FMTTYPE=image/png:https://www.stpatricksmapleridge.ca/wp-content/uploads/2026/03/Website-Featured-Images55.png
ORGANIZER;CN="St. Patrick's Parish":MAILTO:parish.spatmr@rcav.org
END:VEVENT
BEGIN:VEVENT
DTSTART;VALUE=DATE:20300512
DTEND;VALUE=DATE:20300513
DTSTAMP:20260423T110526
CREATED:20230330T060446Z
LAST-MODIFIED:20230330T060446Z
UID:10002091-1904774400-1904857199@www.stpatricksmapleridge.ca
SUMMARY:Sunday Mass – 9am\, 11:15am\, 4:30pm
DESCRIPTION:
URL:https://www.stpatricksmapleridge.ca/event/sunday-mass-9am-1115am-430pm-6/2030-05-12/
LOCATION:St. Patrick’s Parish\, 22561 121 Avenue\, Maple Ridge\, BC\, V2X 3T5\, Canada
CATEGORIES:Livestream,Mass,Worship
ATTACH;FMTTYPE=image/png:https://www.stpatricksmapleridge.ca/wp-content/uploads/2022/03/Sunday-Mass-OT.png
ORGANIZER;CN="St. Patrick's Parish":MAILTO:parish.spatmr@rcav.org
END:VEVENT
BEGIN:VEVENT
DTSTART;TZID=America/Vancouver:20300518T161500
DTEND;TZID=America/Vancouver:20300518T171500
DTSTAMP:20260423T110526
CREATED:20260330T141601Z
LAST-MODIFIED:20260330T141601Z
UID:10002729-1905351300-1905354900@www.stpatricksmapleridge.ca
SUMMARY:Holy Sacrament of Reconciliation (Confessions)
DESCRIPTION:Father Matthew is available to hear your confessions during this time. \nPlease visit the main church building and wait in line inside the vestibule.
URL:https://www.stpatricksmapleridge.ca/event/holy-sacrament-of-reconciliation-confessions/2030-05-18/
LOCATION:St. Patrick’s Parish\, 22561 121 Avenue\, Maple Ridge\, BC\, V2X 3T5\, Canada
CATEGORIES:Confession
ATTACH;FMTTYPE=image/png:https://www.stpatricksmapleridge.ca/wp-content/uploads/2026/03/Website-Featured-Images55.png
ORGANIZER;CN="St. Patrick's Parish":MAILTO:parish.spatmr@rcav.org
END:VEVENT
BEGIN:VEVENT
DTSTART;VALUE=DATE:20300519
DTEND;VALUE=DATE:20300520
DTSTAMP:20260423T110526
CREATED:20230330T060446Z
LAST-MODIFIED:20230330T060446Z
UID:10002092-1905379200-1905461999@www.stpatricksmapleridge.ca
SUMMARY:Sunday Mass – 9am\, 11:15am\, 4:30pm
DESCRIPTION:
URL:https://www.stpatricksmapleridge.ca/event/sunday-mass-9am-1115am-430pm-6/2030-05-19/
LOCATION:St. Patrick’s Parish\, 22561 121 Avenue\, Maple Ridge\, BC\, V2X 3T5\, Canada
CATEGORIES:Livestream,Mass,Worship
ATTACH;FMTTYPE=image/png:https://www.stpatricksmapleridge.ca/wp-content/uploads/2022/03/Sunday-Mass-OT.png
ORGANIZER;CN="St. Patrick's Parish":MAILTO:parish.spatmr@rcav.org
END:VEVENT
BEGIN:VEVENT
DTSTART;TZID=America/Vancouver:20300519T123000
DTEND;TZID=America/Vancouver:20300519T130000
DTSTAMP:20260423T110526
CREATED:20260228T061447Z
LAST-MODIFIED:20260228T061447Z
UID:10002478-1905424200-1905426000@www.stpatricksmapleridge.ca
SUMMARY:Food Recovery Giveaway
DESCRIPTION:
URL:https://www.stpatricksmapleridge.ca/event/food-recovery-giveaway/2030-05-19/
LOCATION:St. Patrick’s Parish Gymnasium\, 22561 121 Avenue\, Maple Ridge\, BC\, V2X 3T5\, Canada
CATEGORIES:Community,Food Recovery Giveaway
ATTACH;FMTTYPE=image/jpeg:https://www.stpatricksmapleridge.ca/wp-content/uploads/2026/02/unnamed.jpg
ORGANIZER;CN="St. Patrick's Parish":MAILTO:parish.spatmr@rcav.org
END:VEVENT
BEGIN:VEVENT
DTSTART;TZID=America/Vancouver:20300524T183000
DTEND;TZID=America/Vancouver:20300524T210000
DTSTAMP:20260423T110526
CREATED:20251016T041744Z
LAST-MODIFIED:20251016T041746Z
UID:10002253-1905877800-1905886800@www.stpatricksmapleridge.ca
SUMMARY:Bibles & Brownies : A ministry event for young women
DESCRIPTION:An open invitation to the young women of St. Patrick’s grades 8 to 12 for our newest ministry led by Monica Tabada.  Please complete the registration form here to let our organizers know if you are planning to attend. \nRegistration for Bibles & BrowniesPlease enable JavaScript in your browser to complete this form.Please enable JavaScript in your browser to complete this form.		\n			Email Special Name\n			\n		\n		Name *FirstLastEmail *PhoneAcknowledgementI understand that this event is intended for young women\, grades 8-12.Special Requests or NeedsSubmit
URL:https://www.stpatricksmapleridge.ca/event/bibles-brownies-a-ministry-event-for-young-women-5-2-2-2/2030-05-24/
LOCATION:St. Patrick’s Parish\, 22561 121 Avenue\, Maple Ridge\, BC\, V2X 3T5\, Canada
CATEGORIES:Community,Special Event,Youth Ministry
ATTACH;FMTTYPE=image/png:https://www.stpatricksmapleridge.ca/wp-content/uploads/2025/03/2025-2026-BB-Poster.png
END:VEVENT
BEGIN:VEVENT
DTSTART;TZID=America/Vancouver:20300525T161500
DTEND;TZID=America/Vancouver:20300525T171500
DTSTAMP:20260423T110526
CREATED:20260330T141601Z
LAST-MODIFIED:20260330T141601Z
UID:10002730-1905956100-1905959700@www.stpatricksmapleridge.ca
SUMMARY:Holy Sacrament of Reconciliation (Confessions)
DESCRIPTION:Father Matthew is available to hear your confessions during this time. \nPlease visit the main church building and wait in line inside the vestibule.
URL:https://www.stpatricksmapleridge.ca/event/holy-sacrament-of-reconciliation-confessions/2030-05-25/
LOCATION:St. Patrick’s Parish\, 22561 121 Avenue\, Maple Ridge\, BC\, V2X 3T5\, Canada
CATEGORIES:Confession
ATTACH;FMTTYPE=image/png:https://www.stpatricksmapleridge.ca/wp-content/uploads/2026/03/Website-Featured-Images55.png
ORGANIZER;CN="St. Patrick's Parish":MAILTO:parish.spatmr@rcav.org
END:VEVENT
BEGIN:VEVENT
DTSTART;TZID=America/Vancouver:20300525T190000
DTEND;TZID=America/Vancouver:20300525T210000
DTSTAMP:20260423T110526
CREATED:20230518T230530Z
LAST-MODIFIED:20250418T172441Z
UID:10002090-1905966000-1905973200@www.stpatricksmapleridge.ca
SUMMARY:Men's Ministry - Drinking with the Saints
DESCRIPTION:Our event is based loosely around the book ‘Drinking with the Saints’. Come and enjoy companionship\, good conversation\, prayer\, and a bit of fun.  This event is led by Raff Misceo\, a parishioner of St. Patrick’s. \nRecipe for a liturgically correct cocktail: mix Bartender’s Guide and Lives of the Saints\, shake well\, garnish with good cheer. \nRegistration for Drinking with the SaintsPlease enable JavaScript in your browser to complete this form.Please enable JavaScript in your browser to complete this form.Name *FirstLastEmail *Phone		\n			Requests Acknowledgement Name\n			\n		\n		AcknowledgementI understand that this event is intended for adult men who are over the age of 18.Special Requests or NeedsSubmit
URL:https://www.stpatricksmapleridge.ca/event/mens-ministry-drinking-with-the-saints/2030-05-25/
LOCATION:Holy Grounds Coffeehouse\, St. Patrick’s Parish\, 22561 121 Avenue\, Maple Ridge\, BC\, V2X 3T5\, Canada
CATEGORIES:Community,Growth,Special Event
ATTACH;FMTTYPE=image/png:https://www.stpatricksmapleridge.ca/wp-content/uploads/2023/05/dRINKING-WITH-THE-SAINTS.png
ORGANIZER;CN="St. Patrick's Parish":MAILTO:parish.spatmr@rcav.org
END:VEVENT
BEGIN:VEVENT
DTSTART;VALUE=DATE:20300526
DTEND;VALUE=DATE:20300527
DTSTAMP:20260423T110526
CREATED:20230330T060446Z
LAST-MODIFIED:20230330T060446Z
UID:10002093-1905984000-1906066799@www.stpatricksmapleridge.ca
SUMMARY:Sunday Mass – 9am\, 11:15am\, 4:30pm
DESCRIPTION:
URL:https://www.stpatricksmapleridge.ca/event/sunday-mass-9am-1115am-430pm-6/2030-05-26/
LOCATION:St. Patrick’s Parish\, 22561 121 Avenue\, Maple Ridge\, BC\, V2X 3T5\, Canada
CATEGORIES:Livestream,Mass,Worship
ATTACH;FMTTYPE=image/png:https://www.stpatricksmapleridge.ca/wp-content/uploads/2022/03/Sunday-Mass-OT.png
ORGANIZER;CN="St. Patrick's Parish":MAILTO:parish.spatmr@rcav.org
END:VEVENT
BEGIN:VEVENT
DTSTART;TZID=America/Vancouver:20300601T161500
DTEND;TZID=America/Vancouver:20300601T171500
DTSTAMP:20260423T110526
CREATED:20260330T141601Z
LAST-MODIFIED:20260330T141601Z
UID:10002731-1906560900-1906564500@www.stpatricksmapleridge.ca
SUMMARY:Holy Sacrament of Reconciliation (Confessions)
DESCRIPTION:Father Matthew is available to hear your confessions during this time. \nPlease visit the main church building and wait in line inside the vestibule.
URL:https://www.stpatricksmapleridge.ca/event/holy-sacrament-of-reconciliation-confessions/2030-06-01/
LOCATION:St. Patrick’s Parish\, 22561 121 Avenue\, Maple Ridge\, BC\, V2X 3T5\, Canada
CATEGORIES:Confession
ATTACH;FMTTYPE=image/png:https://www.stpatricksmapleridge.ca/wp-content/uploads/2026/03/Website-Featured-Images55.png
ORGANIZER;CN="St. Patrick's Parish":MAILTO:parish.spatmr@rcav.org
END:VEVENT
BEGIN:VEVENT
DTSTART;VALUE=DATE:20300602
DTEND;VALUE=DATE:20300603
DTSTAMP:20260423T110526
CREATED:20230330T060446Z
LAST-MODIFIED:20230330T060446Z
UID:10002094-1906588800-1906671599@www.stpatricksmapleridge.ca
SUMMARY:Sunday Mass – 9am\, 11:15am\, 4:30pm
DESCRIPTION:
URL:https://www.stpatricksmapleridge.ca/event/sunday-mass-9am-1115am-430pm-6/2030-06-02/
LOCATION:St. Patrick’s Parish\, 22561 121 Avenue\, Maple Ridge\, BC\, V2X 3T5\, Canada
CATEGORIES:Livestream,Mass,Worship
ATTACH;FMTTYPE=image/png:https://www.stpatricksmapleridge.ca/wp-content/uploads/2022/03/Sunday-Mass-OT.png
ORGANIZER;CN="St. Patrick's Parish":MAILTO:parish.spatmr@rcav.org
END:VEVENT
BEGIN:VEVENT
DTSTART;TZID=America/Vancouver:20300602T123000
DTEND;TZID=America/Vancouver:20300602T130000
DTSTAMP:20260423T110526
CREATED:20260228T061447Z
LAST-MODIFIED:20260228T061447Z
UID:10002479-1906633800-1906635600@www.stpatricksmapleridge.ca
SUMMARY:Food Recovery Giveaway
DESCRIPTION:
URL:https://www.stpatricksmapleridge.ca/event/food-recovery-giveaway/2030-06-02/
LOCATION:St. Patrick’s Parish Gymnasium\, 22561 121 Avenue\, Maple Ridge\, BC\, V2X 3T5\, Canada
CATEGORIES:Community,Food Recovery Giveaway
ATTACH;FMTTYPE=image/jpeg:https://www.stpatricksmapleridge.ca/wp-content/uploads/2026/02/unnamed.jpg
ORGANIZER;CN="St. Patrick's Parish":MAILTO:parish.spatmr@rcav.org
END:VEVENT
BEGIN:VEVENT
DTSTART;TZID=America/Vancouver:20300607T190000
DTEND;TZID=America/Vancouver:20300607T200000
DTSTAMP:20260423T110526
CREATED:20250927T012943Z
LAST-MODIFIED:20250927T012943Z
UID:10002218-1907089200-1907092800@www.stpatricksmapleridge.ca
SUMMARY:Encounter
DESCRIPTION:Please join us on the first Friday of the month at 7pm for a candlelit hour of Eucharistic Adoration of our Lord with Praise and Worship provided by our beautiful choir.\nThis is a beautiful\, special\, reflective time for yourself and your family; light a candle and pray to our Lord with your intentions.
URL:https://www.stpatricksmapleridge.ca/event/encounter/2030-06-07/
LOCATION:St. Patrick’s Parish\, 22561 121 Avenue\, Maple Ridge\, BC\, V2X 3T5\, Canada
CATEGORIES:Special Event,Worship
ATTACH;FMTTYPE=image/png:https://www.stpatricksmapleridge.ca/wp-content/uploads/2025/05/full-55.png
ORGANIZER;CN="St. Patrick's Parish":MAILTO:parish.spatmr@rcav.org
END:VEVENT
BEGIN:VEVENT
DTSTART;TZID=America/Vancouver:20300608T161500
DTEND;TZID=America/Vancouver:20300608T171500
DTSTAMP:20260423T110526
CREATED:20260330T141601Z
LAST-MODIFIED:20260330T141601Z
UID:10002732-1907165700-1907169300@www.stpatricksmapleridge.ca
SUMMARY:Holy Sacrament of Reconciliation (Confessions)
DESCRIPTION:Father Matthew is available to hear your confessions during this time. \nPlease visit the main church building and wait in line inside the vestibule.
URL:https://www.stpatricksmapleridge.ca/event/holy-sacrament-of-reconciliation-confessions/2030-06-08/
LOCATION:St. Patrick’s Parish\, 22561 121 Avenue\, Maple Ridge\, BC\, V2X 3T5\, Canada
CATEGORIES:Confession
ATTACH;FMTTYPE=image/png:https://www.stpatricksmapleridge.ca/wp-content/uploads/2026/03/Website-Featured-Images55.png
ORGANIZER;CN="St. Patrick's Parish":MAILTO:parish.spatmr@rcav.org
END:VEVENT
BEGIN:VEVENT
DTSTART;VALUE=DATE:20300609
DTEND;VALUE=DATE:20300610
DTSTAMP:20260423T110526
CREATED:20230330T060446Z
LAST-MODIFIED:20230330T060446Z
UID:10002097-1907193600-1907276399@www.stpatricksmapleridge.ca
SUMMARY:Sunday Mass – 9am\, 11:15am\, 4:30pm
DESCRIPTION:
URL:https://www.stpatricksmapleridge.ca/event/sunday-mass-9am-1115am-430pm-6/2030-06-09/
LOCATION:St. Patrick’s Parish\, 22561 121 Avenue\, Maple Ridge\, BC\, V2X 3T5\, Canada
CATEGORIES:Livestream,Mass,Worship
ATTACH;FMTTYPE=image/png:https://www.stpatricksmapleridge.ca/wp-content/uploads/2022/03/Sunday-Mass-OT.png
ORGANIZER;CN="St. Patrick's Parish":MAILTO:parish.spatmr@rcav.org
END:VEVENT
END:VCALENDAR