BEGIN:VCALENDAR
VERSION:2.0
PRODID:-//St. Patrick&#039;s Parish - ECPv6.15.20//NONSGML v1.0//EN
CALSCALE:GREGORIAN
METHOD:PUBLISH
X-WR-CALNAME:St. Patrick&#039;s Parish
X-ORIGINAL-URL:https://www.stpatricksmapleridge.ca
X-WR-CALDESC:Events for St. Patrick&#039;s Parish
REFRESH-INTERVAL;VALUE=DURATION:PT1H
X-Robots-Tag:noindex
X-PUBLISHED-TTL:PT1H
BEGIN:VTIMEZONE
TZID:America/Vancouver
BEGIN:DAYLIGHT
TZOFFSETFROM:-0800
TZOFFSETTO:-0700
TZNAME:PDT
DTSTART:20290311T100000
END:DAYLIGHT
BEGIN:STANDARD
TZOFFSETFROM:-0700
TZOFFSETTO:-0800
TZNAME:PST
DTSTART:20291104T090000
END:STANDARD
BEGIN:DAYLIGHT
TZOFFSETFROM:-0800
TZOFFSETTO:-0700
TZNAME:PDT
DTSTART:20300310T100000
END:DAYLIGHT
BEGIN:STANDARD
TZOFFSETFROM:-0700
TZOFFSETTO:-0800
TZNAME:PST
DTSTART:20301103T090000
END:STANDARD
BEGIN:DAYLIGHT
TZOFFSETFROM:-0800
TZOFFSETTO:-0700
TZNAME:PDT
DTSTART:20310309T100000
END:DAYLIGHT
BEGIN:STANDARD
TZOFFSETFROM:-0700
TZOFFSETTO:-0800
TZNAME:PST
DTSTART:20311102T090000
END:STANDARD
END:VTIMEZONE
BEGIN:VEVENT
DTSTART;TZID=America/Vancouver:20301004T190000
DTEND;TZID=America/Vancouver:20301004T200000
DTSTAMP:20260423T212711
CREATED:20250927T012943Z
LAST-MODIFIED:20250927T012943Z
UID:10002318-1917370800-1917374400@www.stpatricksmapleridge.ca
SUMMARY:Encounter
DESCRIPTION:Please join us on the first Friday of the month at 7pm for a candlelit hour of Eucharistic Adoration of our Lord with Praise and Worship provided by our beautiful choir.\nThis is a beautiful\, special\, reflective time for yourself and your family; light a candle and pray to our Lord with your intentions.
URL:https://www.stpatricksmapleridge.ca/event/encounter/2030-10-04/
LOCATION:St. Patrick’s Parish\, 22561 121 Avenue\, Maple Ridge\, BC\, V2X 3T5\, Canada
CATEGORIES:Special Event,Worship
ATTACH;FMTTYPE=image/png:https://www.stpatricksmapleridge.ca/wp-content/uploads/2025/05/full-55.png
ORGANIZER;CN="St. Patrick's Parish":MAILTO:parish.spatmr@rcav.org
END:VEVENT
BEGIN:VEVENT
DTSTART;TZID=America/Vancouver:20301005T161500
DTEND;TZID=America/Vancouver:20301005T171500
DTSTAMP:20260423T212711
CREATED:20260330T141601Z
LAST-MODIFIED:20260330T141601Z
UID:10002749-1917447300-1917450900@www.stpatricksmapleridge.ca
SUMMARY:Holy Sacrament of Reconciliation (Confessions)
DESCRIPTION:Father Matthew is available to hear your confessions during this time. \nPlease visit the main church building and wait in line inside the vestibule.
URL:https://www.stpatricksmapleridge.ca/event/holy-sacrament-of-reconciliation-confessions/2030-10-05/
LOCATION:St. Patrick’s Parish\, 22561 121 Avenue\, Maple Ridge\, BC\, V2X 3T5\, Canada
CATEGORIES:Confession
ATTACH;FMTTYPE=image/png:https://www.stpatricksmapleridge.ca/wp-content/uploads/2026/03/Website-Featured-Images55.png
ORGANIZER;CN="St. Patrick's Parish":MAILTO:parish.spatmr@rcav.org
END:VEVENT
BEGIN:VEVENT
DTSTART;VALUE=DATE:20301006
DTEND;VALUE=DATE:20301007
DTSTAMP:20260423T212711
CREATED:20230330T060446Z
LAST-MODIFIED:20230330T060446Z
UID:10002225-1917475200-1917557999@www.stpatricksmapleridge.ca
SUMMARY:Sunday Mass – 9am\, 11:15am\, 4:30pm
DESCRIPTION:
URL:https://www.stpatricksmapleridge.ca/event/sunday-mass-9am-1115am-430pm-6/2030-10-06/
LOCATION:St. Patrick’s Parish\, 22561 121 Avenue\, Maple Ridge\, BC\, V2X 3T5\, Canada
CATEGORIES:Livestream,Mass,Worship
ATTACH;FMTTYPE=image/png:https://www.stpatricksmapleridge.ca/wp-content/uploads/2022/03/Sunday-Mass-OT.png
ORGANIZER;CN="St. Patrick's Parish":MAILTO:parish.spatmr@rcav.org
END:VEVENT
BEGIN:VEVENT
DTSTART;TZID=America/Vancouver:20301006T123000
DTEND;TZID=America/Vancouver:20301006T130000
DTSTAMP:20260423T212711
CREATED:20260228T061447Z
LAST-MODIFIED:20260228T061447Z
UID:10002488-1917520200-1917522000@www.stpatricksmapleridge.ca
SUMMARY:Food Recovery Giveaway
DESCRIPTION:
URL:https://www.stpatricksmapleridge.ca/event/food-recovery-giveaway/2030-10-06/
LOCATION:St. Patrick’s Parish Gymnasium\, 22561 121 Avenue\, Maple Ridge\, BC\, V2X 3T5\, Canada
CATEGORIES:Community,Food Recovery Giveaway
ATTACH;FMTTYPE=image/jpeg:https://www.stpatricksmapleridge.ca/wp-content/uploads/2026/02/unnamed.jpg
ORGANIZER;CN="St. Patrick's Parish":MAILTO:parish.spatmr@rcav.org
END:VEVENT
BEGIN:VEVENT
DTSTART;TZID=America/Vancouver:20301011T183000
DTEND;TZID=America/Vancouver:20301011T210000
DTSTAMP:20260423T212711
CREATED:20251016T042001Z
LAST-MODIFIED:20251016T042001Z
UID:10002314-1917973800-1917982800@www.stpatricksmapleridge.ca
SUMMARY:Bibles & Brownies : A ministry event for young women
DESCRIPTION:An open invitation to the young women of St. Patrick’s grades 8 to 12 for our newest ministry led by Monica Tabada.  Please complete the registration form here to let our organizers know if you are planning to attend. \nRegistration for Bibles & BrowniesPlease enable JavaScript in your browser to complete this form.Please enable JavaScript in your browser to complete this form.Name *FirstLastEmail *Phone		\n			or Phone Acknowledgement\n			\n		\n		AcknowledgementI understand that this event is intended for young women\, grades 8-12.Special Requests or NeedsSubmit
URL:https://www.stpatricksmapleridge.ca/event/bibles-brownies-a-ministry-event-for-young-women/2030-10-11/
LOCATION:Holy Grounds Coffeehouse\, St. Patrick’s Parish\, 22561 121 Avenue\, Maple Ridge\, BC\, V2X 3T5\, Canada
CATEGORIES:Community,Special Event,Youth Ministry
ATTACH;FMTTYPE=image/png:https://www.stpatricksmapleridge.ca/wp-content/uploads/2025/03/2025-2026-BB-Poster.png
END:VEVENT
BEGIN:VEVENT
DTSTART;TZID=America/Vancouver:20301012T161500
DTEND;TZID=America/Vancouver:20301012T171500
DTSTAMP:20260423T212711
CREATED:20260330T141601Z
LAST-MODIFIED:20260330T141601Z
UID:10002750-1918052100-1918055700@www.stpatricksmapleridge.ca
SUMMARY:Holy Sacrament of Reconciliation (Confessions)
DESCRIPTION:Father Matthew is available to hear your confessions during this time. \nPlease visit the main church building and wait in line inside the vestibule.
URL:https://www.stpatricksmapleridge.ca/event/holy-sacrament-of-reconciliation-confessions/2030-10-12/
LOCATION:St. Patrick’s Parish\, 22561 121 Avenue\, Maple Ridge\, BC\, V2X 3T5\, Canada
CATEGORIES:Confession
ATTACH;FMTTYPE=image/png:https://www.stpatricksmapleridge.ca/wp-content/uploads/2026/03/Website-Featured-Images55.png
ORGANIZER;CN="St. Patrick's Parish":MAILTO:parish.spatmr@rcav.org
END:VEVENT
BEGIN:VEVENT
DTSTART;VALUE=DATE:20301013
DTEND;VALUE=DATE:20301014
DTSTAMP:20260423T212711
CREATED:20230330T060446Z
LAST-MODIFIED:20230330T060446Z
UID:10002226-1918080000-1918162799@www.stpatricksmapleridge.ca
SUMMARY:Sunday Mass – 9am\, 11:15am\, 4:30pm
DESCRIPTION:
URL:https://www.stpatricksmapleridge.ca/event/sunday-mass-9am-1115am-430pm-6/2030-10-13/
LOCATION:St. Patrick’s Parish\, 22561 121 Avenue\, Maple Ridge\, BC\, V2X 3T5\, Canada
CATEGORIES:Livestream,Mass,Worship
ATTACH;FMTTYPE=image/png:https://www.stpatricksmapleridge.ca/wp-content/uploads/2022/03/Sunday-Mass-OT.png
ORGANIZER;CN="St. Patrick's Parish":MAILTO:parish.spatmr@rcav.org
END:VEVENT
BEGIN:VEVENT
DTSTART;TZID=America/Vancouver:20301019T161500
DTEND;TZID=America/Vancouver:20301019T171500
DTSTAMP:20260423T212711
CREATED:20260330T141601Z
LAST-MODIFIED:20260330T141601Z
UID:10002751-1918656900-1918660500@www.stpatricksmapleridge.ca
SUMMARY:Holy Sacrament of Reconciliation (Confessions)
DESCRIPTION:Father Matthew is available to hear your confessions during this time. \nPlease visit the main church building and wait in line inside the vestibule.
URL:https://www.stpatricksmapleridge.ca/event/holy-sacrament-of-reconciliation-confessions/2030-10-19/
LOCATION:St. Patrick’s Parish\, 22561 121 Avenue\, Maple Ridge\, BC\, V2X 3T5\, Canada
CATEGORIES:Confession
ATTACH;FMTTYPE=image/png:https://www.stpatricksmapleridge.ca/wp-content/uploads/2026/03/Website-Featured-Images55.png
ORGANIZER;CN="St. Patrick's Parish":MAILTO:parish.spatmr@rcav.org
END:VEVENT
BEGIN:VEVENT
DTSTART;VALUE=DATE:20301020
DTEND;VALUE=DATE:20301021
DTSTAMP:20260423T212711
CREATED:20230330T060446Z
LAST-MODIFIED:20230330T060446Z
UID:10002315-1918684800-1918767599@www.stpatricksmapleridge.ca
SUMMARY:Sunday Mass – 9am\, 11:15am\, 4:30pm
DESCRIPTION:
URL:https://www.stpatricksmapleridge.ca/event/sunday-mass-9am-1115am-430pm-6/2030-10-20/
LOCATION:St. Patrick’s Parish\, 22561 121 Avenue\, Maple Ridge\, BC\, V2X 3T5\, Canada
CATEGORIES:Livestream,Mass,Worship
ATTACH;FMTTYPE=image/png:https://www.stpatricksmapleridge.ca/wp-content/uploads/2022/03/Sunday-Mass-OT.png
ORGANIZER;CN="St. Patrick's Parish":MAILTO:parish.spatmr@rcav.org
END:VEVENT
BEGIN:VEVENT
DTSTART;TZID=America/Vancouver:20301020T123000
DTEND;TZID=America/Vancouver:20301020T130000
DTSTAMP:20260423T212711
CREATED:20260228T061447Z
LAST-MODIFIED:20260228T061447Z
UID:10002489-1918729800-1918731600@www.stpatricksmapleridge.ca
SUMMARY:Food Recovery Giveaway
DESCRIPTION:
URL:https://www.stpatricksmapleridge.ca/event/food-recovery-giveaway/2030-10-20/
LOCATION:St. Patrick’s Parish Gymnasium\, 22561 121 Avenue\, Maple Ridge\, BC\, V2X 3T5\, Canada
CATEGORIES:Community,Food Recovery Giveaway
ATTACH;FMTTYPE=image/jpeg:https://www.stpatricksmapleridge.ca/wp-content/uploads/2026/02/unnamed.jpg
ORGANIZER;CN="St. Patrick's Parish":MAILTO:parish.spatmr@rcav.org
END:VEVENT
BEGIN:VEVENT
DTSTART;TZID=America/Vancouver:20301025T183000
DTEND;TZID=America/Vancouver:20301025T210000
DTSTAMP:20260423T212711
CREATED:20251016T041744Z
LAST-MODIFIED:20251016T041746Z
UID:10002330-1919183400-1919192400@www.stpatricksmapleridge.ca
SUMMARY:Bibles & Brownies : A ministry event for young women
DESCRIPTION:An open invitation to the young women of St. Patrick’s grades 8 to 12 for our newest ministry led by Monica Tabada.  Please complete the registration form here to let our organizers know if you are planning to attend. \nRegistration for Bibles & BrowniesPlease enable JavaScript in your browser to complete this form.Please enable JavaScript in your browser to complete this form.Name *FirstLastEmail *PhoneAcknowledgementI understand that this event is intended for young women\, grades 8-12.		\n			Email Special Name\n			\n		\n		Special Requests or NeedsSubmit
URL:https://www.stpatricksmapleridge.ca/event/bibles-brownies-a-ministry-event-for-young-women-5-2-2-2/2030-10-25/
LOCATION:St. Patrick’s Parish\, 22561 121 Avenue\, Maple Ridge\, BC\, V2X 3T5\, Canada
CATEGORIES:Community,Special Event,Youth Ministry
ATTACH;FMTTYPE=image/png:https://www.stpatricksmapleridge.ca/wp-content/uploads/2025/03/2025-2026-BB-Poster.png
END:VEVENT
BEGIN:VEVENT
DTSTART;TZID=America/Vancouver:20301026T161500
DTEND;TZID=America/Vancouver:20301026T171500
DTSTAMP:20260423T212711
CREATED:20260330T141601Z
LAST-MODIFIED:20260330T141601Z
UID:10002752-1919261700-1919265300@www.stpatricksmapleridge.ca
SUMMARY:Holy Sacrament of Reconciliation (Confessions)
DESCRIPTION:Father Matthew is available to hear your confessions during this time. \nPlease visit the main church building and wait in line inside the vestibule.
URL:https://www.stpatricksmapleridge.ca/event/holy-sacrament-of-reconciliation-confessions/2030-10-26/
LOCATION:St. Patrick’s Parish\, 22561 121 Avenue\, Maple Ridge\, BC\, V2X 3T5\, Canada
CATEGORIES:Confession
ATTACH;FMTTYPE=image/png:https://www.stpatricksmapleridge.ca/wp-content/uploads/2026/03/Website-Featured-Images55.png
ORGANIZER;CN="St. Patrick's Parish":MAILTO:parish.spatmr@rcav.org
END:VEVENT
BEGIN:VEVENT
DTSTART;TZID=America/Vancouver:20301026T190000
DTEND;TZID=America/Vancouver:20301026T210000
DTSTAMP:20260423T212711
CREATED:20230518T230530Z
LAST-MODIFIED:20250418T172441Z
UID:10002316-1919271600-1919278800@www.stpatricksmapleridge.ca
SUMMARY:Men's Ministry - Drinking with the Saints
DESCRIPTION:Our event is based loosely around the book ‘Drinking with the Saints’. Come and enjoy companionship\, good conversation\, prayer\, and a bit of fun.  This event is led by Raff Misceo\, a parishioner of St. Patrick’s. \nRecipe for a liturgically correct cocktail: mix Bartender’s Guide and Lives of the Saints\, shake well\, garnish with good cheer. \nRegistration for Drinking with the SaintsPlease enable JavaScript in your browser to complete this form.Please enable JavaScript in your browser to complete this form.Name *FirstLastEmail *PhoneAcknowledgementI understand that this event is intended for adult men who are over the age of 18.		\n			or Requests Phone\n			\n		\n		Special Requests or NeedsSubmit
URL:https://www.stpatricksmapleridge.ca/event/mens-ministry-drinking-with-the-saints/2030-10-26/
LOCATION:Holy Grounds Coffeehouse\, St. Patrick’s Parish\, 22561 121 Avenue\, Maple Ridge\, BC\, V2X 3T5\, Canada
CATEGORIES:Community,Growth,Special Event
ATTACH;FMTTYPE=image/png:https://www.stpatricksmapleridge.ca/wp-content/uploads/2023/05/dRINKING-WITH-THE-SAINTS.png
ORGANIZER;CN="St. Patrick's Parish":MAILTO:parish.spatmr@rcav.org
END:VEVENT
BEGIN:VEVENT
DTSTART;VALUE=DATE:20301027
DTEND;VALUE=DATE:20301028
DTSTAMP:20260423T212711
CREATED:20230330T060446Z
LAST-MODIFIED:20230330T060446Z
UID:10002317-1919289600-1919372399@www.stpatricksmapleridge.ca
SUMMARY:Sunday Mass – 9am\, 11:15am\, 4:30pm
DESCRIPTION:
URL:https://www.stpatricksmapleridge.ca/event/sunday-mass-9am-1115am-430pm-6/2030-10-27/
LOCATION:St. Patrick’s Parish\, 22561 121 Avenue\, Maple Ridge\, BC\, V2X 3T5\, Canada
CATEGORIES:Livestream,Mass,Worship
ATTACH;FMTTYPE=image/png:https://www.stpatricksmapleridge.ca/wp-content/uploads/2022/03/Sunday-Mass-OT.png
ORGANIZER;CN="St. Patrick's Parish":MAILTO:parish.spatmr@rcav.org
END:VEVENT
BEGIN:VEVENT
DTSTART;TZID=America/Vancouver:20301101T190000
DTEND;TZID=America/Vancouver:20301101T200000
DTSTAMP:20260423T212711
CREATED:20250927T012943Z
LAST-MODIFIED:20250927T012943Z
UID:10002319-1919790000-1919793600@www.stpatricksmapleridge.ca
SUMMARY:Encounter
DESCRIPTION:Please join us on the first Friday of the month at 7pm for a candlelit hour of Eucharistic Adoration of our Lord with Praise and Worship provided by our beautiful choir.\nThis is a beautiful\, special\, reflective time for yourself and your family; light a candle and pray to our Lord with your intentions.
URL:https://www.stpatricksmapleridge.ca/event/encounter/2030-11-01/
LOCATION:St. Patrick’s Parish\, 22561 121 Avenue\, Maple Ridge\, BC\, V2X 3T5\, Canada
CATEGORIES:Special Event,Worship
ATTACH;FMTTYPE=image/png:https://www.stpatricksmapleridge.ca/wp-content/uploads/2025/05/full-55.png
ORGANIZER;CN="St. Patrick's Parish":MAILTO:parish.spatmr@rcav.org
END:VEVENT
BEGIN:VEVENT
DTSTART;TZID=America/Vancouver:20301102T161500
DTEND;TZID=America/Vancouver:20301102T171500
DTSTAMP:20260423T212711
CREATED:20260330T141601Z
LAST-MODIFIED:20260330T141601Z
UID:10002753-1919866500-1919870100@www.stpatricksmapleridge.ca
SUMMARY:Holy Sacrament of Reconciliation (Confessions)
DESCRIPTION:Father Matthew is available to hear your confessions during this time. \nPlease visit the main church building and wait in line inside the vestibule.
URL:https://www.stpatricksmapleridge.ca/event/holy-sacrament-of-reconciliation-confessions/2030-11-02/
LOCATION:St. Patrick’s Parish\, 22561 121 Avenue\, Maple Ridge\, BC\, V2X 3T5\, Canada
CATEGORIES:Confession
ATTACH;FMTTYPE=image/png:https://www.stpatricksmapleridge.ca/wp-content/uploads/2026/03/Website-Featured-Images55.png
ORGANIZER;CN="St. Patrick's Parish":MAILTO:parish.spatmr@rcav.org
END:VEVENT
BEGIN:VEVENT
DTSTART;VALUE=DATE:20301103
DTEND;VALUE=DATE:20301104
DTSTAMP:20260423T212711
CREATED:20230330T060446Z
LAST-MODIFIED:20230330T060446Z
UID:10002324-1919894400-1919973599@www.stpatricksmapleridge.ca
SUMMARY:Sunday Mass – 9am\, 11:15am\, 4:30pm
DESCRIPTION:
URL:https://www.stpatricksmapleridge.ca/event/sunday-mass-9am-1115am-430pm-6/2030-11-03/
LOCATION:St. Patrick’s Parish\, 22561 121 Avenue\, Maple Ridge\, BC\, V2X 3T5\, Canada
CATEGORIES:Livestream,Mass,Worship
ATTACH;FMTTYPE=image/png:https://www.stpatricksmapleridge.ca/wp-content/uploads/2022/03/Sunday-Mass-OT.png
ORGANIZER;CN="St. Patrick's Parish":MAILTO:parish.spatmr@rcav.org
END:VEVENT
BEGIN:VEVENT
DTSTART;TZID=America/Vancouver:20301103T123000
DTEND;TZID=America/Vancouver:20301103T130000
DTSTAMP:20260423T212711
CREATED:20260228T061447Z
LAST-MODIFIED:20260228T061447Z
UID:10002490-1919939400-1919941200@www.stpatricksmapleridge.ca
SUMMARY:Food Recovery Giveaway
DESCRIPTION:
URL:https://www.stpatricksmapleridge.ca/event/food-recovery-giveaway/2030-11-03/
LOCATION:St. Patrick’s Parish Gymnasium\, 22561 121 Avenue\, Maple Ridge\, BC\, V2X 3T5\, Canada
CATEGORIES:Community,Food Recovery Giveaway
ATTACH;FMTTYPE=image/jpeg:https://www.stpatricksmapleridge.ca/wp-content/uploads/2026/02/unnamed.jpg
ORGANIZER;CN="St. Patrick's Parish":MAILTO:parish.spatmr@rcav.org
END:VEVENT
BEGIN:VEVENT
DTSTART;TZID=America/Vancouver:20301108T183000
DTEND;TZID=America/Vancouver:20301108T210000
DTSTAMP:20260423T212711
CREATED:20251016T042001Z
LAST-MODIFIED:20251016T042001Z
UID:10002342-1920393000-1920402000@www.stpatricksmapleridge.ca
SUMMARY:Bibles & Brownies : A ministry event for young women
DESCRIPTION:An open invitation to the young women of St. Patrick’s grades 8 to 12 for our newest ministry led by Monica Tabada.  Please complete the registration form here to let our organizers know if you are planning to attend. \nRegistration for Bibles & BrowniesPlease enable JavaScript in your browser to complete this form.Please enable JavaScript in your browser to complete this form.Name *FirstLastEmail *PhoneAcknowledgementI understand that this event is intended for young women\, grades 8-12.		\n			Phone Requests Needs\n			\n		\n		Special Requests or NeedsSubmit
URL:https://www.stpatricksmapleridge.ca/event/bibles-brownies-a-ministry-event-for-young-women/2030-11-08/
LOCATION:Holy Grounds Coffeehouse\, St. Patrick’s Parish\, 22561 121 Avenue\, Maple Ridge\, BC\, V2X 3T5\, Canada
CATEGORIES:Community,Special Event,Youth Ministry
ATTACH;FMTTYPE=image/png:https://www.stpatricksmapleridge.ca/wp-content/uploads/2025/03/2025-2026-BB-Poster.png
END:VEVENT
BEGIN:VEVENT
DTSTART;TZID=America/Vancouver:20301109T161500
DTEND;TZID=America/Vancouver:20301109T171500
DTSTAMP:20260423T212711
CREATED:20260330T141601Z
LAST-MODIFIED:20260330T141601Z
UID:10002754-1920471300-1920474900@www.stpatricksmapleridge.ca
SUMMARY:Holy Sacrament of Reconciliation (Confessions)
DESCRIPTION:Father Matthew is available to hear your confessions during this time. \nPlease visit the main church building and wait in line inside the vestibule.
URL:https://www.stpatricksmapleridge.ca/event/holy-sacrament-of-reconciliation-confessions/2030-11-09/
LOCATION:St. Patrick’s Parish\, 22561 121 Avenue\, Maple Ridge\, BC\, V2X 3T5\, Canada
CATEGORIES:Confession
ATTACH;FMTTYPE=image/png:https://www.stpatricksmapleridge.ca/wp-content/uploads/2026/03/Website-Featured-Images55.png
ORGANIZER;CN="St. Patrick's Parish":MAILTO:parish.spatmr@rcav.org
END:VEVENT
BEGIN:VEVENT
DTSTART;VALUE=DATE:20301110
DTEND;VALUE=DATE:20301111
DTSTAMP:20260423T212711
CREATED:20230330T060446Z
LAST-MODIFIED:20230330T060446Z
UID:10002325-1920499200-1920581999@www.stpatricksmapleridge.ca
SUMMARY:Sunday Mass – 9am\, 11:15am\, 4:30pm
DESCRIPTION:
URL:https://www.stpatricksmapleridge.ca/event/sunday-mass-9am-1115am-430pm-6/2030-11-10/
LOCATION:St. Patrick’s Parish\, 22561 121 Avenue\, Maple Ridge\, BC\, V2X 3T5\, Canada
CATEGORIES:Livestream,Mass,Worship
ATTACH;FMTTYPE=image/png:https://www.stpatricksmapleridge.ca/wp-content/uploads/2022/03/Sunday-Mass-OT.png
ORGANIZER;CN="St. Patrick's Parish":MAILTO:parish.spatmr@rcav.org
END:VEVENT
BEGIN:VEVENT
DTSTART;TZID=America/Vancouver:20301116T161500
DTEND;TZID=America/Vancouver:20301116T171500
DTSTAMP:20260423T212711
CREATED:20260330T141601Z
LAST-MODIFIED:20260330T141601Z
UID:10002755-1921076100-1921079700@www.stpatricksmapleridge.ca
SUMMARY:Holy Sacrament of Reconciliation (Confessions)
DESCRIPTION:Father Matthew is available to hear your confessions during this time. \nPlease visit the main church building and wait in line inside the vestibule.
URL:https://www.stpatricksmapleridge.ca/event/holy-sacrament-of-reconciliation-confessions/2030-11-16/
LOCATION:St. Patrick’s Parish\, 22561 121 Avenue\, Maple Ridge\, BC\, V2X 3T5\, Canada
CATEGORIES:Confession
ATTACH;FMTTYPE=image/png:https://www.stpatricksmapleridge.ca/wp-content/uploads/2026/03/Website-Featured-Images55.png
ORGANIZER;CN="St. Patrick's Parish":MAILTO:parish.spatmr@rcav.org
END:VEVENT
BEGIN:VEVENT
DTSTART;VALUE=DATE:20301117
DTEND;VALUE=DATE:20301118
DTSTAMP:20260423T212711
CREATED:20230330T060446Z
LAST-MODIFIED:20230330T060446Z
UID:10002329-1921104000-1921186799@www.stpatricksmapleridge.ca
SUMMARY:Sunday Mass – 9am\, 11:15am\, 4:30pm
DESCRIPTION:
URL:https://www.stpatricksmapleridge.ca/event/sunday-mass-9am-1115am-430pm-6/2030-11-17/
LOCATION:St. Patrick’s Parish\, 22561 121 Avenue\, Maple Ridge\, BC\, V2X 3T5\, Canada
CATEGORIES:Livestream,Mass,Worship
ATTACH;FMTTYPE=image/png:https://www.stpatricksmapleridge.ca/wp-content/uploads/2022/03/Sunday-Mass-OT.png
ORGANIZER;CN="St. Patrick's Parish":MAILTO:parish.spatmr@rcav.org
END:VEVENT
BEGIN:VEVENT
DTSTART;TZID=America/Vancouver:20301117T123000
DTEND;TZID=America/Vancouver:20301117T130000
DTSTAMP:20260423T212711
CREATED:20260228T061447Z
LAST-MODIFIED:20260228T061447Z
UID:10002491-1921149000-1921150800@www.stpatricksmapleridge.ca
SUMMARY:Food Recovery Giveaway
DESCRIPTION:
URL:https://www.stpatricksmapleridge.ca/event/food-recovery-giveaway/2030-11-17/
LOCATION:St. Patrick’s Parish Gymnasium\, 22561 121 Avenue\, Maple Ridge\, BC\, V2X 3T5\, Canada
CATEGORIES:Community,Food Recovery Giveaway
ATTACH;FMTTYPE=image/jpeg:https://www.stpatricksmapleridge.ca/wp-content/uploads/2026/02/unnamed.jpg
ORGANIZER;CN="St. Patrick's Parish":MAILTO:parish.spatmr@rcav.org
END:VEVENT
BEGIN:VEVENT
DTSTART;TZID=America/Vancouver:20301122T183000
DTEND;TZID=America/Vancouver:20301122T210000
DTSTAMP:20260423T212711
CREATED:20251016T041744Z
LAST-MODIFIED:20251016T041746Z
UID:10002331-1921602600-1921611600@www.stpatricksmapleridge.ca
SUMMARY:Bibles & Brownies : A ministry event for young women
DESCRIPTION:An open invitation to the young women of St. Patrick’s grades 8 to 12 for our newest ministry led by Monica Tabada.  Please complete the registration form here to let our organizers know if you are planning to attend. \nRegistration for Bibles & BrowniesPlease enable JavaScript in your browser to complete this form.Please enable JavaScript in your browser to complete this form.Name *FirstLastEmail *PhoneAcknowledgementI understand that this event is intended for young women\, grades 8-12.		\n			Requests Acknowledgement Needs\n			\n		\n		Special Requests or NeedsSubmit
URL:https://www.stpatricksmapleridge.ca/event/bibles-brownies-a-ministry-event-for-young-women-5-2-2-2/2030-11-22/
LOCATION:St. Patrick’s Parish\, 22561 121 Avenue\, Maple Ridge\, BC\, V2X 3T5\, Canada
CATEGORIES:Community,Special Event,Youth Ministry
ATTACH;FMTTYPE=image/png:https://www.stpatricksmapleridge.ca/wp-content/uploads/2025/03/2025-2026-BB-Poster.png
END:VEVENT
BEGIN:VEVENT
DTSTART;TZID=America/Vancouver:20301123T161500
DTEND;TZID=America/Vancouver:20301123T171500
DTSTAMP:20260423T212711
CREATED:20260330T141601Z
LAST-MODIFIED:20260330T141601Z
UID:10002756-1921680900-1921684500@www.stpatricksmapleridge.ca
SUMMARY:Holy Sacrament of Reconciliation (Confessions)
DESCRIPTION:Father Matthew is available to hear your confessions during this time. \nPlease visit the main church building and wait in line inside the vestibule.
URL:https://www.stpatricksmapleridge.ca/event/holy-sacrament-of-reconciliation-confessions/2030-11-23/
LOCATION:St. Patrick’s Parish\, 22561 121 Avenue\, Maple Ridge\, BC\, V2X 3T5\, Canada
CATEGORIES:Confession
ATTACH;FMTTYPE=image/png:https://www.stpatricksmapleridge.ca/wp-content/uploads/2026/03/Website-Featured-Images55.png
ORGANIZER;CN="St. Patrick's Parish":MAILTO:parish.spatmr@rcav.org
END:VEVENT
BEGIN:VEVENT
DTSTART;VALUE=DATE:20301124
DTEND;VALUE=DATE:20301125
DTSTAMP:20260423T212711
CREATED:20230330T060446Z
LAST-MODIFIED:20230330T060446Z
UID:10002332-1921708800-1921791599@www.stpatricksmapleridge.ca
SUMMARY:Sunday Mass – 9am\, 11:15am\, 4:30pm
DESCRIPTION:
URL:https://www.stpatricksmapleridge.ca/event/sunday-mass-9am-1115am-430pm-6/2030-11-24/
LOCATION:St. Patrick’s Parish\, 22561 121 Avenue\, Maple Ridge\, BC\, V2X 3T5\, Canada
CATEGORIES:Livestream,Mass,Worship
ATTACH;FMTTYPE=image/png:https://www.stpatricksmapleridge.ca/wp-content/uploads/2022/03/Sunday-Mass-OT.png
ORGANIZER;CN="St. Patrick's Parish":MAILTO:parish.spatmr@rcav.org
END:VEVENT
BEGIN:VEVENT
DTSTART;TZID=America/Vancouver:20301130T161500
DTEND;TZID=America/Vancouver:20301130T171500
DTSTAMP:20260423T212711
CREATED:20260330T141601Z
LAST-MODIFIED:20260330T141601Z
UID:10002757-1922285700-1922289300@www.stpatricksmapleridge.ca
SUMMARY:Holy Sacrament of Reconciliation (Confessions)
DESCRIPTION:Father Matthew is available to hear your confessions during this time. \nPlease visit the main church building and wait in line inside the vestibule.
URL:https://www.stpatricksmapleridge.ca/event/holy-sacrament-of-reconciliation-confessions/2030-11-30/
LOCATION:St. Patrick’s Parish\, 22561 121 Avenue\, Maple Ridge\, BC\, V2X 3T5\, Canada
CATEGORIES:Confession
ATTACH;FMTTYPE=image/png:https://www.stpatricksmapleridge.ca/wp-content/uploads/2026/03/Website-Featured-Images55.png
ORGANIZER;CN="St. Patrick's Parish":MAILTO:parish.spatmr@rcav.org
END:VEVENT
BEGIN:VEVENT
DTSTART;TZID=America/Vancouver:20301130T190000
DTEND;TZID=America/Vancouver:20301130T210000
DTSTAMP:20260423T212711
CREATED:20230518T230530Z
LAST-MODIFIED:20250418T172441Z
UID:10002336-1922295600-1922302800@www.stpatricksmapleridge.ca
SUMMARY:Men's Ministry - Drinking with the Saints
DESCRIPTION:Our event is based loosely around the book ‘Drinking with the Saints’. Come and enjoy companionship\, good conversation\, prayer\, and a bit of fun.  This event is led by Raff Misceo\, a parishioner of St. Patrick’s. \nRecipe for a liturgically correct cocktail: mix Bartender’s Guide and Lives of the Saints\, shake well\, garnish with good cheer. \nRegistration for Drinking with the SaintsPlease enable JavaScript in your browser to complete this form.Please enable JavaScript in your browser to complete this form.Name *FirstLastEmail *		\n			Acknowledgement Name Needs\n			\n		\n		PhoneAcknowledgementI understand that this event is intended for adult men who are over the age of 18.Special Requests or NeedsSubmit
URL:https://www.stpatricksmapleridge.ca/event/mens-ministry-drinking-with-the-saints/2030-11-30/
LOCATION:Holy Grounds Coffeehouse\, St. Patrick’s Parish\, 22561 121 Avenue\, Maple Ridge\, BC\, V2X 3T5\, Canada
CATEGORIES:Community,Growth,Special Event
ATTACH;FMTTYPE=image/png:https://www.stpatricksmapleridge.ca/wp-content/uploads/2023/05/dRINKING-WITH-THE-SAINTS.png
ORGANIZER;CN="St. Patrick's Parish":MAILTO:parish.spatmr@rcav.org
END:VEVENT
BEGIN:VEVENT
DTSTART;VALUE=DATE:20301201
DTEND;VALUE=DATE:20301202
DTSTAMP:20260423T212711
CREATED:20230330T060446Z
LAST-MODIFIED:20230330T060446Z
UID:10002333-1922313600-1922396399@www.stpatricksmapleridge.ca
SUMMARY:Sunday Mass – 9am\, 11:15am\, 4:30pm
DESCRIPTION:
URL:https://www.stpatricksmapleridge.ca/event/sunday-mass-9am-1115am-430pm-6/2030-12-01/
LOCATION:St. Patrick’s Parish\, 22561 121 Avenue\, Maple Ridge\, BC\, V2X 3T5\, Canada
CATEGORIES:Livestream,Mass,Worship
ATTACH;FMTTYPE=image/png:https://www.stpatricksmapleridge.ca/wp-content/uploads/2022/03/Sunday-Mass-OT.png
ORGANIZER;CN="St. Patrick's Parish":MAILTO:parish.spatmr@rcav.org
END:VEVENT
END:VCALENDAR