BEGIN:VCALENDAR
VERSION:2.0
PRODID:-//St. Patrick&#039;s Parish - ECPv6.15.20//NONSGML v1.0//EN
CALSCALE:GREGORIAN
METHOD:PUBLISH
X-ORIGINAL-URL:https://www.stpatricksmapleridge.ca
X-WR-CALDESC:Events for St. Patrick&#039;s Parish
REFRESH-INTERVAL;VALUE=DURATION:PT1H
X-Robots-Tag:noindex
X-PUBLISHED-TTL:PT1H
BEGIN:VTIMEZONE
TZID:America/Vancouver
BEGIN:DAYLIGHT
TZOFFSETFROM:-0800
TZOFFSETTO:-0700
TZNAME:PDT
DTSTART:20300310T100000
END:DAYLIGHT
BEGIN:STANDARD
TZOFFSETFROM:-0700
TZOFFSETTO:-0800
TZNAME:PST
DTSTART:20301103T090000
END:STANDARD
BEGIN:DAYLIGHT
TZOFFSETFROM:-0800
TZOFFSETTO:-0700
TZNAME:PDT
DTSTART:20310309T100000
END:DAYLIGHT
BEGIN:STANDARD
TZOFFSETFROM:-0700
TZOFFSETTO:-0800
TZNAME:PST
DTSTART:20311102T090000
END:STANDARD
BEGIN:DAYLIGHT
TZOFFSETFROM:-0800
TZOFFSETTO:-0700
TZNAME:PDT
DTSTART:20320314T100000
END:DAYLIGHT
BEGIN:STANDARD
TZOFFSETFROM:-0700
TZOFFSETTO:-0800
TZNAME:PST
DTSTART:20321107T090000
END:STANDARD
END:VTIMEZONE
BEGIN:VEVENT
DTSTART;TZID=America/Vancouver:20310110T183000
DTEND;TZID=America/Vancouver:20310110T210000
DTSTAMP:20260424T033433
CREATED:20251016T042001Z
LAST-MODIFIED:20251016T042001Z
UID:10002348-1925836200-1925845200@www.stpatricksmapleridge.ca
SUMMARY:Bibles & Brownies : A ministry event for young women
DESCRIPTION:An open invitation to the young women of St. Patrick’s grades 8 to 12 for our newest ministry led by Monica Tabada.  Please complete the registration form here to let our organizers know if you are planning to attend. \nRegistration for Bibles & BrowniesPlease enable JavaScript in your browser to complete this form.Please enable JavaScript in your browser to complete this form.Name *FirstLastEmail *Phone		\n			Acknowledgement Special Needs\n			\n		\n		AcknowledgementI understand that this event is intended for young women\, grades 8-12.Special Requests or NeedsSubmit
URL:https://www.stpatricksmapleridge.ca/event/bibles-brownies-a-ministry-event-for-young-women/2031-01-10/
LOCATION:Holy Grounds Coffeehouse\, St. Patrick’s Parish\, 22561 121 Avenue\, Maple Ridge\, BC\, V2X 3T5\, Canada
CATEGORIES:Community,Special Event,Youth Ministry
ATTACH;FMTTYPE=image/png:https://www.stpatricksmapleridge.ca/wp-content/uploads/2025/03/2025-2026-BB-Poster.png
END:VEVENT
BEGIN:VEVENT
DTSTART;TZID=America/Vancouver:20310111T161500
DTEND;TZID=America/Vancouver:20310111T171500
DTSTAMP:20260424T033433
CREATED:20260330T141601Z
LAST-MODIFIED:20260330T141601Z
UID:10002763-1925914500-1925918100@www.stpatricksmapleridge.ca
SUMMARY:Holy Sacrament of Reconciliation (Confessions)
DESCRIPTION:Father Matthew is available to hear your confessions during this time. \nPlease visit the main church building and wait in line inside the vestibule.
URL:https://www.stpatricksmapleridge.ca/event/holy-sacrament-of-reconciliation-confessions/2031-01-11/
LOCATION:St. Patrick’s Parish\, 22561 121 Avenue\, Maple Ridge\, BC\, V2X 3T5\, Canada
CATEGORIES:Confession
ATTACH;FMTTYPE=image/png:https://www.stpatricksmapleridge.ca/wp-content/uploads/2026/03/Website-Featured-Images55.png
ORGANIZER;CN="St. Patrick's Parish":MAILTO:parish.spatmr@rcav.org
END:VEVENT
BEGIN:VEVENT
DTSTART;VALUE=DATE:20310112
DTEND;VALUE=DATE:20310113
DTSTAMP:20260424T033433
CREATED:20230330T060446Z
LAST-MODIFIED:20230330T060446Z
UID:10002349-1925942400-1926025199@www.stpatricksmapleridge.ca
SUMMARY:Sunday Mass – 9am\, 11:15am\, 4:30pm
DESCRIPTION:
URL:https://www.stpatricksmapleridge.ca/event/sunday-mass-9am-1115am-430pm-6/2031-01-12/
LOCATION:St. Patrick’s Parish\, 22561 121 Avenue\, Maple Ridge\, BC\, V2X 3T5\, Canada
CATEGORIES:Livestream,Mass,Worship
ATTACH;FMTTYPE=image/png:https://www.stpatricksmapleridge.ca/wp-content/uploads/2022/03/Sunday-Mass-OT.png
ORGANIZER;CN="St. Patrick's Parish":MAILTO:parish.spatmr@rcav.org
END:VEVENT
BEGIN:VEVENT
DTSTART;TZID=America/Vancouver:20310112T123000
DTEND;TZID=America/Vancouver:20310112T130000
DTSTAMP:20260424T033433
CREATED:20260228T061447Z
LAST-MODIFIED:20260228T061447Z
UID:10002495-1925987400-1925989200@www.stpatricksmapleridge.ca
SUMMARY:Food Recovery Giveaway
DESCRIPTION:
URL:https://www.stpatricksmapleridge.ca/event/food-recovery-giveaway/2031-01-12/
LOCATION:St. Patrick’s Parish Gymnasium\, 22561 121 Avenue\, Maple Ridge\, BC\, V2X 3T5\, Canada
CATEGORIES:Community,Food Recovery Giveaway
ATTACH;FMTTYPE=image/jpeg:https://www.stpatricksmapleridge.ca/wp-content/uploads/2026/02/unnamed.jpg
ORGANIZER;CN="St. Patrick's Parish":MAILTO:parish.spatmr@rcav.org
END:VEVENT
BEGIN:VEVENT
DTSTART;TZID=America/Vancouver:20310118T161500
DTEND;TZID=America/Vancouver:20310118T171500
DTSTAMP:20260424T033433
CREATED:20260330T141601Z
LAST-MODIFIED:20260330T141601Z
UID:10002764-1926519300-1926522900@www.stpatricksmapleridge.ca
SUMMARY:Holy Sacrament of Reconciliation (Confessions)
DESCRIPTION:Father Matthew is available to hear your confessions during this time. \nPlease visit the main church building and wait in line inside the vestibule.
URL:https://www.stpatricksmapleridge.ca/event/holy-sacrament-of-reconciliation-confessions/2031-01-18/
LOCATION:St. Patrick’s Parish\, 22561 121 Avenue\, Maple Ridge\, BC\, V2X 3T5\, Canada
CATEGORIES:Confession
ATTACH;FMTTYPE=image/png:https://www.stpatricksmapleridge.ca/wp-content/uploads/2026/03/Website-Featured-Images55.png
ORGANIZER;CN="St. Patrick's Parish":MAILTO:parish.spatmr@rcav.org
END:VEVENT
BEGIN:VEVENT
DTSTART;VALUE=DATE:20310119
DTEND;VALUE=DATE:20310120
DTSTAMP:20260424T033433
CREATED:20230330T060446Z
LAST-MODIFIED:20230330T060446Z
UID:10002350-1926547200-1926629999@www.stpatricksmapleridge.ca
SUMMARY:Sunday Mass – 9am\, 11:15am\, 4:30pm
DESCRIPTION:
URL:https://www.stpatricksmapleridge.ca/event/sunday-mass-9am-1115am-430pm-6/2031-01-19/
LOCATION:St. Patrick’s Parish\, 22561 121 Avenue\, Maple Ridge\, BC\, V2X 3T5\, Canada
CATEGORIES:Livestream,Mass,Worship
ATTACH;FMTTYPE=image/png:https://www.stpatricksmapleridge.ca/wp-content/uploads/2022/03/Sunday-Mass-OT.png
ORGANIZER;CN="St. Patrick's Parish":MAILTO:parish.spatmr@rcav.org
END:VEVENT
BEGIN:VEVENT
DTSTART;TZID=America/Vancouver:20310124T183000
DTEND;TZID=America/Vancouver:20310124T210000
DTSTAMP:20260424T033433
CREATED:20251016T041744Z
LAST-MODIFIED:20251016T041746Z
UID:10002358-1927045800-1927054800@www.stpatricksmapleridge.ca
SUMMARY:Bibles & Brownies : A ministry event for young women
DESCRIPTION:An open invitation to the young women of St. Patrick’s grades 8 to 12 for our newest ministry led by Monica Tabada.  Please complete the registration form here to let our organizers know if you are planning to attend. \nRegistration for Bibles & BrowniesPlease enable JavaScript in your browser to complete this form.Please enable JavaScript in your browser to complete this form.Name *FirstLastEmail *Phone		\n			Phone Acknowledgement Email\n			\n		\n		AcknowledgementI understand that this event is intended for young women\, grades 8-12.Special Requests or NeedsSubmit
URL:https://www.stpatricksmapleridge.ca/event/bibles-brownies-a-ministry-event-for-young-women-5-2-2-2/2031-01-24/
LOCATION:St. Patrick’s Parish\, 22561 121 Avenue\, Maple Ridge\, BC\, V2X 3T5\, Canada
CATEGORIES:Community,Special Event,Youth Ministry
ATTACH;FMTTYPE=image/png:https://www.stpatricksmapleridge.ca/wp-content/uploads/2025/03/2025-2026-BB-Poster.png
END:VEVENT
BEGIN:VEVENT
DTSTART;TZID=America/Vancouver:20310125T161500
DTEND;TZID=America/Vancouver:20310125T171500
DTSTAMP:20260424T033433
CREATED:20260330T141601Z
LAST-MODIFIED:20260330T141601Z
UID:10002765-1927124100-1927127700@www.stpatricksmapleridge.ca
SUMMARY:Holy Sacrament of Reconciliation (Confessions)
DESCRIPTION:Father Matthew is available to hear your confessions during this time. \nPlease visit the main church building and wait in line inside the vestibule.
URL:https://www.stpatricksmapleridge.ca/event/holy-sacrament-of-reconciliation-confessions/2031-01-25/
LOCATION:St. Patrick’s Parish\, 22561 121 Avenue\, Maple Ridge\, BC\, V2X 3T5\, Canada
CATEGORIES:Confession
ATTACH;FMTTYPE=image/png:https://www.stpatricksmapleridge.ca/wp-content/uploads/2026/03/Website-Featured-Images55.png
ORGANIZER;CN="St. Patrick's Parish":MAILTO:parish.spatmr@rcav.org
END:VEVENT
BEGIN:VEVENT
DTSTART;TZID=America/Vancouver:20310125T190000
DTEND;TZID=America/Vancouver:20310125T210000
DTSTAMP:20260424T033433
CREATED:20230518T230530Z
LAST-MODIFIED:20250418T172441Z
UID:10002500-1927134000-1927141200@www.stpatricksmapleridge.ca
SUMMARY:Men's Ministry - Drinking with the Saints
DESCRIPTION:Our event is based loosely around the book ‘Drinking with the Saints’. Come and enjoy companionship\, good conversation\, prayer\, and a bit of fun.  This event is led by Raff Misceo\, a parishioner of St. Patrick’s. \nRecipe for a liturgically correct cocktail: mix Bartender’s Guide and Lives of the Saints\, shake well\, garnish with good cheer. \nRegistration for Drinking with the SaintsPlease enable JavaScript in your browser to complete this form.Please enable JavaScript in your browser to complete this form.Name *FirstLastEmail *PhoneAcknowledgementI understand that this event is intended for adult men who are over the age of 18.		\n			Requests Phone Special\n			\n		\n		Special Requests or NeedsSubmit
URL:https://www.stpatricksmapleridge.ca/event/mens-ministry-drinking-with-the-saints/2031-01-25/
LOCATION:Holy Grounds Coffeehouse\, St. Patrick’s Parish\, 22561 121 Avenue\, Maple Ridge\, BC\, V2X 3T5\, Canada
CATEGORIES:Community,Growth,Special Event
ATTACH;FMTTYPE=image/png:https://www.stpatricksmapleridge.ca/wp-content/uploads/2023/05/dRINKING-WITH-THE-SAINTS.png
ORGANIZER;CN="St. Patrick's Parish":MAILTO:parish.spatmr@rcav.org
END:VEVENT
BEGIN:VEVENT
DTSTART;VALUE=DATE:20310126
DTEND;VALUE=DATE:20310127
DTSTAMP:20260424T033433
CREATED:20230330T060446Z
LAST-MODIFIED:20230330T060446Z
UID:10002351-1927152000-1927234799@www.stpatricksmapleridge.ca
SUMMARY:Sunday Mass – 9am\, 11:15am\, 4:30pm
DESCRIPTION:
URL:https://www.stpatricksmapleridge.ca/event/sunday-mass-9am-1115am-430pm-6/2031-01-26/
LOCATION:St. Patrick’s Parish\, 22561 121 Avenue\, Maple Ridge\, BC\, V2X 3T5\, Canada
CATEGORIES:Livestream,Mass,Worship
ATTACH;FMTTYPE=image/png:https://www.stpatricksmapleridge.ca/wp-content/uploads/2022/03/Sunday-Mass-OT.png
ORGANIZER;CN="St. Patrick's Parish":MAILTO:parish.spatmr@rcav.org
END:VEVENT
BEGIN:VEVENT
DTSTART;TZID=America/Vancouver:20310126T123000
DTEND;TZID=America/Vancouver:20310126T130000
DTSTAMP:20260424T033433
CREATED:20260228T061447Z
LAST-MODIFIED:20260228T061447Z
UID:10002496-1927197000-1927198800@www.stpatricksmapleridge.ca
SUMMARY:Food Recovery Giveaway
DESCRIPTION:
URL:https://www.stpatricksmapleridge.ca/event/food-recovery-giveaway/2031-01-26/
LOCATION:St. Patrick’s Parish Gymnasium\, 22561 121 Avenue\, Maple Ridge\, BC\, V2X 3T5\, Canada
CATEGORIES:Community,Food Recovery Giveaway
ATTACH;FMTTYPE=image/jpeg:https://www.stpatricksmapleridge.ca/wp-content/uploads/2026/02/unnamed.jpg
ORGANIZER;CN="St. Patrick's Parish":MAILTO:parish.spatmr@rcav.org
END:VEVENT
BEGIN:VEVENT
DTSTART;TZID=America/Vancouver:20310201T161500
DTEND;TZID=America/Vancouver:20310201T171500
DTSTAMP:20260424T033433
CREATED:20260330T141601Z
LAST-MODIFIED:20260330T141601Z
UID:10002766-1927728900-1927732500@www.stpatricksmapleridge.ca
SUMMARY:Holy Sacrament of Reconciliation (Confessions)
DESCRIPTION:Father Matthew is available to hear your confessions during this time. \nPlease visit the main church building and wait in line inside the vestibule.
URL:https://www.stpatricksmapleridge.ca/event/holy-sacrament-of-reconciliation-confessions/2031-02-01/
LOCATION:St. Patrick’s Parish\, 22561 121 Avenue\, Maple Ridge\, BC\, V2X 3T5\, Canada
CATEGORIES:Confession
ATTACH;FMTTYPE=image/png:https://www.stpatricksmapleridge.ca/wp-content/uploads/2026/03/Website-Featured-Images55.png
ORGANIZER;CN="St. Patrick's Parish":MAILTO:parish.spatmr@rcav.org
END:VEVENT
BEGIN:VEVENT
DTSTART;VALUE=DATE:20310202
DTEND;VALUE=DATE:20310203
DTSTAMP:20260424T033433
CREATED:20230330T060446Z
LAST-MODIFIED:20230330T060446Z
UID:10002353-1927756800-1927839599@www.stpatricksmapleridge.ca
SUMMARY:Sunday Mass – 9am\, 11:15am\, 4:30pm
DESCRIPTION:
URL:https://www.stpatricksmapleridge.ca/event/sunday-mass-9am-1115am-430pm-6/2031-02-02/
LOCATION:St. Patrick’s Parish\, 22561 121 Avenue\, Maple Ridge\, BC\, V2X 3T5\, Canada
CATEGORIES:Livestream,Mass,Worship
ATTACH;FMTTYPE=image/png:https://www.stpatricksmapleridge.ca/wp-content/uploads/2022/03/Sunday-Mass-OT.png
ORGANIZER;CN="St. Patrick's Parish":MAILTO:parish.spatmr@rcav.org
END:VEVENT
BEGIN:VEVENT
DTSTART;TZID=America/Vancouver:20310207T190000
DTEND;TZID=America/Vancouver:20310207T200000
DTSTAMP:20260424T033433
CREATED:20250927T012943Z
LAST-MODIFIED:20250927T012943Z
UID:10002504-1928257200-1928260800@www.stpatricksmapleridge.ca
SUMMARY:Encounter
DESCRIPTION:Please join us on the first Friday of the month at 7pm for a candlelit hour of Eucharistic Adoration of our Lord with Praise and Worship provided by our beautiful choir.\nThis is a beautiful\, special\, reflective time for yourself and your family; light a candle and pray to our Lord with your intentions.
URL:https://www.stpatricksmapleridge.ca/event/encounter/2031-02-07/
LOCATION:St. Patrick’s Parish\, 22561 121 Avenue\, Maple Ridge\, BC\, V2X 3T5\, Canada
CATEGORIES:Special Event,Worship
ATTACH;FMTTYPE=image/png:https://www.stpatricksmapleridge.ca/wp-content/uploads/2025/05/full-55.png
ORGANIZER;CN="St. Patrick's Parish":MAILTO:parish.spatmr@rcav.org
END:VEVENT
BEGIN:VEVENT
DTSTART;TZID=America/Vancouver:20310208T161500
DTEND;TZID=America/Vancouver:20310208T171500
DTSTAMP:20260424T033433
CREATED:20260330T141601Z
LAST-MODIFIED:20260330T141601Z
UID:10002767-1928333700-1928337300@www.stpatricksmapleridge.ca
SUMMARY:Holy Sacrament of Reconciliation (Confessions)
DESCRIPTION:Father Matthew is available to hear your confessions during this time. \nPlease visit the main church building and wait in line inside the vestibule.
URL:https://www.stpatricksmapleridge.ca/event/holy-sacrament-of-reconciliation-confessions/2031-02-08/
LOCATION:St. Patrick’s Parish\, 22561 121 Avenue\, Maple Ridge\, BC\, V2X 3T5\, Canada
CATEGORIES:Confession
ATTACH;FMTTYPE=image/png:https://www.stpatricksmapleridge.ca/wp-content/uploads/2026/03/Website-Featured-Images55.png
ORGANIZER;CN="St. Patrick's Parish":MAILTO:parish.spatmr@rcav.org
END:VEVENT
BEGIN:VEVENT
DTSTART;VALUE=DATE:20310209
DTEND;VALUE=DATE:20310210
DTSTAMP:20260424T033433
CREATED:20230330T060446Z
LAST-MODIFIED:20230330T060446Z
UID:10002354-1928361600-1928444399@www.stpatricksmapleridge.ca
SUMMARY:Sunday Mass – 9am\, 11:15am\, 4:30pm
DESCRIPTION:
URL:https://www.stpatricksmapleridge.ca/event/sunday-mass-9am-1115am-430pm-6/2031-02-09/
LOCATION:St. Patrick’s Parish\, 22561 121 Avenue\, Maple Ridge\, BC\, V2X 3T5\, Canada
CATEGORIES:Livestream,Mass,Worship
ATTACH;FMTTYPE=image/png:https://www.stpatricksmapleridge.ca/wp-content/uploads/2022/03/Sunday-Mass-OT.png
ORGANIZER;CN="St. Patrick's Parish":MAILTO:parish.spatmr@rcav.org
END:VEVENT
BEGIN:VEVENT
DTSTART;TZID=America/Vancouver:20310209T123000
DTEND;TZID=America/Vancouver:20310209T130000
DTSTAMP:20260424T033433
CREATED:20260228T061447Z
LAST-MODIFIED:20260228T061447Z
UID:10002497-1928406600-1928408400@www.stpatricksmapleridge.ca
SUMMARY:Food Recovery Giveaway
DESCRIPTION:
URL:https://www.stpatricksmapleridge.ca/event/food-recovery-giveaway/2031-02-09/
LOCATION:St. Patrick’s Parish Gymnasium\, 22561 121 Avenue\, Maple Ridge\, BC\, V2X 3T5\, Canada
CATEGORIES:Community,Food Recovery Giveaway
ATTACH;FMTTYPE=image/jpeg:https://www.stpatricksmapleridge.ca/wp-content/uploads/2026/02/unnamed.jpg
ORGANIZER;CN="St. Patrick's Parish":MAILTO:parish.spatmr@rcav.org
END:VEVENT
BEGIN:VEVENT
DTSTART;TZID=America/Vancouver:20310214T183000
DTEND;TZID=America/Vancouver:20310214T210000
DTSTAMP:20260424T033433
CREATED:20251016T042001Z
LAST-MODIFIED:20251016T042001Z
UID:10002508-1928860200-1928869200@www.stpatricksmapleridge.ca
SUMMARY:Bibles & Brownies : A ministry event for young women
DESCRIPTION:An open invitation to the young women of St. Patrick’s grades 8 to 12 for our newest ministry led by Monica Tabada.  Please complete the registration form here to let our organizers know if you are planning to attend. \nRegistration for Bibles & BrowniesPlease enable JavaScript in your browser to complete this form.Please enable JavaScript in your browser to complete this form.		\n			or Special Email\n			\n		\n		Name *FirstLastEmail *PhoneAcknowledgementI understand that this event is intended for young women\, grades 8-12.Special Requests or NeedsSubmit
URL:https://www.stpatricksmapleridge.ca/event/bibles-brownies-a-ministry-event-for-young-women/2031-02-14/
LOCATION:Holy Grounds Coffeehouse\, St. Patrick’s Parish\, 22561 121 Avenue\, Maple Ridge\, BC\, V2X 3T5\, Canada
CATEGORIES:Community,Special Event,Youth Ministry
ATTACH;FMTTYPE=image/png:https://www.stpatricksmapleridge.ca/wp-content/uploads/2025/03/2025-2026-BB-Poster.png
END:VEVENT
BEGIN:VEVENT
DTSTART;TZID=America/Vancouver:20310215T161500
DTEND;TZID=America/Vancouver:20310215T171500
DTSTAMP:20260424T033433
CREATED:20260330T141601Z
LAST-MODIFIED:20260330T141601Z
UID:10002768-1928938500-1928942100@www.stpatricksmapleridge.ca
SUMMARY:Holy Sacrament of Reconciliation (Confessions)
DESCRIPTION:Father Matthew is available to hear your confessions during this time. \nPlease visit the main church building and wait in line inside the vestibule.
URL:https://www.stpatricksmapleridge.ca/event/holy-sacrament-of-reconciliation-confessions/2031-02-15/
LOCATION:St. Patrick’s Parish\, 22561 121 Avenue\, Maple Ridge\, BC\, V2X 3T5\, Canada
CATEGORIES:Confession
ATTACH;FMTTYPE=image/png:https://www.stpatricksmapleridge.ca/wp-content/uploads/2026/03/Website-Featured-Images55.png
ORGANIZER;CN="St. Patrick's Parish":MAILTO:parish.spatmr@rcav.org
END:VEVENT
BEGIN:VEVENT
DTSTART;VALUE=DATE:20310216
DTEND;VALUE=DATE:20310217
DTSTAMP:20260424T033433
CREATED:20230330T060446Z
LAST-MODIFIED:20230330T060446Z
UID:10002356-1928966400-1929049199@www.stpatricksmapleridge.ca
SUMMARY:Sunday Mass – 9am\, 11:15am\, 4:30pm
DESCRIPTION:
URL:https://www.stpatricksmapleridge.ca/event/sunday-mass-9am-1115am-430pm-6/2031-02-16/
LOCATION:St. Patrick’s Parish\, 22561 121 Avenue\, Maple Ridge\, BC\, V2X 3T5\, Canada
CATEGORIES:Livestream,Mass,Worship
ATTACH;FMTTYPE=image/png:https://www.stpatricksmapleridge.ca/wp-content/uploads/2022/03/Sunday-Mass-OT.png
ORGANIZER;CN="St. Patrick's Parish":MAILTO:parish.spatmr@rcav.org
END:VEVENT
BEGIN:VEVENT
DTSTART;TZID=America/Vancouver:20310222T161500
DTEND;TZID=America/Vancouver:20310222T171500
DTSTAMP:20260424T033433
CREATED:20260330T141601Z
LAST-MODIFIED:20260330T141601Z
UID:10002769-1929543300-1929546900@www.stpatricksmapleridge.ca
SUMMARY:Holy Sacrament of Reconciliation (Confessions)
DESCRIPTION:Father Matthew is available to hear your confessions during this time. \nPlease visit the main church building and wait in line inside the vestibule.
URL:https://www.stpatricksmapleridge.ca/event/holy-sacrament-of-reconciliation-confessions/2031-02-22/
LOCATION:St. Patrick’s Parish\, 22561 121 Avenue\, Maple Ridge\, BC\, V2X 3T5\, Canada
CATEGORIES:Confession
ATTACH;FMTTYPE=image/png:https://www.stpatricksmapleridge.ca/wp-content/uploads/2026/03/Website-Featured-Images55.png
ORGANIZER;CN="St. Patrick's Parish":MAILTO:parish.spatmr@rcav.org
END:VEVENT
BEGIN:VEVENT
DTSTART;TZID=America/Vancouver:20310222T190000
DTEND;TZID=America/Vancouver:20310222T210000
DTSTAMP:20260424T033433
CREATED:20230518T230530Z
LAST-MODIFIED:20250418T172441Z
UID:10002501-1929553200-1929560400@www.stpatricksmapleridge.ca
SUMMARY:Men's Ministry - Drinking with the Saints
DESCRIPTION:Our event is based loosely around the book ‘Drinking with the Saints’. Come and enjoy companionship\, good conversation\, prayer\, and a bit of fun.  This event is led by Raff Misceo\, a parishioner of St. Patrick’s. \nRecipe for a liturgically correct cocktail: mix Bartender’s Guide and Lives of the Saints\, shake well\, garnish with good cheer. \nRegistration for Drinking with the SaintsPlease enable JavaScript in your browser to complete this form.Please enable JavaScript in your browser to complete this form.		\n			or Special Requests\n			\n		\n		Name *FirstLastEmail *PhoneAcknowledgementI understand that this event is intended for adult men who are over the age of 18.Special Requests or NeedsSubmit
URL:https://www.stpatricksmapleridge.ca/event/mens-ministry-drinking-with-the-saints/2031-02-22/
LOCATION:Holy Grounds Coffeehouse\, St. Patrick’s Parish\, 22561 121 Avenue\, Maple Ridge\, BC\, V2X 3T5\, Canada
CATEGORIES:Community,Growth,Special Event
ATTACH;FMTTYPE=image/png:https://www.stpatricksmapleridge.ca/wp-content/uploads/2023/05/dRINKING-WITH-THE-SAINTS.png
ORGANIZER;CN="St. Patrick's Parish":MAILTO:parish.spatmr@rcav.org
END:VEVENT
BEGIN:VEVENT
DTSTART;VALUE=DATE:20310223
DTEND;VALUE=DATE:20310224
DTSTAMP:20260424T033433
CREATED:20230330T060446Z
LAST-MODIFIED:20230330T060446Z
UID:10002359-1929571200-1929653999@www.stpatricksmapleridge.ca
SUMMARY:Sunday Mass – 9am\, 11:15am\, 4:30pm
DESCRIPTION:
URL:https://www.stpatricksmapleridge.ca/event/sunday-mass-9am-1115am-430pm-6/2031-02-23/
LOCATION:St. Patrick’s Parish\, 22561 121 Avenue\, Maple Ridge\, BC\, V2X 3T5\, Canada
CATEGORIES:Livestream,Mass,Worship
ATTACH;FMTTYPE=image/png:https://www.stpatricksmapleridge.ca/wp-content/uploads/2022/03/Sunday-Mass-OT.png
ORGANIZER;CN="St. Patrick's Parish":MAILTO:parish.spatmr@rcav.org
END:VEVENT
BEGIN:VEVENT
DTSTART;TZID=America/Vancouver:20310223T123000
DTEND;TZID=America/Vancouver:20310223T130000
DTSTAMP:20260424T033433
CREATED:20260228T061447Z
LAST-MODIFIED:20260228T061447Z
UID:10002498-1929616200-1929618000@www.stpatricksmapleridge.ca
SUMMARY:Food Recovery Giveaway
DESCRIPTION:
URL:https://www.stpatricksmapleridge.ca/event/food-recovery-giveaway/2031-02-23/
LOCATION:St. Patrick’s Parish Gymnasium\, 22561 121 Avenue\, Maple Ridge\, BC\, V2X 3T5\, Canada
CATEGORIES:Community,Food Recovery Giveaway
ATTACH;FMTTYPE=image/jpeg:https://www.stpatricksmapleridge.ca/wp-content/uploads/2026/02/unnamed.jpg
ORGANIZER;CN="St. Patrick's Parish":MAILTO:parish.spatmr@rcav.org
END:VEVENT
BEGIN:VEVENT
DTSTART;TZID=America/Vancouver:20310228T183000
DTEND;TZID=America/Vancouver:20310228T210000
DTSTAMP:20260424T033433
CREATED:20251016T041744Z
LAST-MODIFIED:20251016T041746Z
UID:10002775-1930069800-1930078800@www.stpatricksmapleridge.ca
SUMMARY:Bibles & Brownies : A ministry event for young women
DESCRIPTION:An open invitation to the young women of St. Patrick’s grades 8 to 12 for our newest ministry led by Monica Tabada.  Please complete the registration form here to let our organizers know if you are planning to attend. \nRegistration for Bibles & BrowniesPlease enable JavaScript in your browser to complete this form.Please enable JavaScript in your browser to complete this form.Name *FirstLastEmail *Phone		\n			Special Phone or\n			\n		\n		AcknowledgementI understand that this event is intended for young women\, grades 8-12.Special Requests or NeedsSubmit
URL:https://www.stpatricksmapleridge.ca/event/bibles-brownies-a-ministry-event-for-young-women-5-2-2-2/2031-02-28/
LOCATION:St. Patrick’s Parish\, 22561 121 Avenue\, Maple Ridge\, BC\, V2X 3T5\, Canada
CATEGORIES:Community,Special Event,Youth Ministry
ATTACH;FMTTYPE=image/png:https://www.stpatricksmapleridge.ca/wp-content/uploads/2025/03/2025-2026-BB-Poster.png
END:VEVENT
BEGIN:VEVENT
DTSTART;TZID=America/Vancouver:20310301T161500
DTEND;TZID=America/Vancouver:20310301T171500
DTSTAMP:20260424T033433
CREATED:20260330T141601Z
LAST-MODIFIED:20260330T141601Z
UID:10002770-1930148100-1930151700@www.stpatricksmapleridge.ca
SUMMARY:Holy Sacrament of Reconciliation (Confessions)
DESCRIPTION:Father Matthew is available to hear your confessions during this time. \nPlease visit the main church building and wait in line inside the vestibule.
URL:https://www.stpatricksmapleridge.ca/event/holy-sacrament-of-reconciliation-confessions/2031-03-01/
LOCATION:St. Patrick’s Parish\, 22561 121 Avenue\, Maple Ridge\, BC\, V2X 3T5\, Canada
CATEGORIES:Confession
ATTACH;FMTTYPE=image/png:https://www.stpatricksmapleridge.ca/wp-content/uploads/2026/03/Website-Featured-Images55.png
ORGANIZER;CN="St. Patrick's Parish":MAILTO:parish.spatmr@rcav.org
END:VEVENT
BEGIN:VEVENT
DTSTART;VALUE=DATE:20310302
DTEND;VALUE=DATE:20310303
DTSTAMP:20260424T033433
CREATED:20230330T060446Z
LAST-MODIFIED:20230330T060446Z
UID:10002502-1930176000-1930258799@www.stpatricksmapleridge.ca
SUMMARY:Sunday Mass – 9am\, 11:15am\, 4:30pm
DESCRIPTION:
URL:https://www.stpatricksmapleridge.ca/event/sunday-mass-9am-1115am-430pm-6/2031-03-02/
LOCATION:St. Patrick’s Parish\, 22561 121 Avenue\, Maple Ridge\, BC\, V2X 3T5\, Canada
CATEGORIES:Livestream,Mass,Worship
ATTACH;FMTTYPE=image/png:https://www.stpatricksmapleridge.ca/wp-content/uploads/2022/03/Sunday-Mass-OT.png
ORGANIZER;CN="St. Patrick's Parish":MAILTO:parish.spatmr@rcav.org
END:VEVENT
BEGIN:VEVENT
DTSTART;TZID=America/Vancouver:20310307T190000
DTEND;TZID=America/Vancouver:20310307T200000
DTSTAMP:20260424T033433
CREATED:20250927T012943Z
LAST-MODIFIED:20250927T012943Z
UID:10002505-1930676400-1930680000@www.stpatricksmapleridge.ca
SUMMARY:Encounter
DESCRIPTION:Please join us on the first Friday of the month at 7pm for a candlelit hour of Eucharistic Adoration of our Lord with Praise and Worship provided by our beautiful choir.\nThis is a beautiful\, special\, reflective time for yourself and your family; light a candle and pray to our Lord with your intentions.
URL:https://www.stpatricksmapleridge.ca/event/encounter/2031-03-07/
LOCATION:St. Patrick’s Parish\, 22561 121 Avenue\, Maple Ridge\, BC\, V2X 3T5\, Canada
CATEGORIES:Special Event,Worship
ATTACH;FMTTYPE=image/png:https://www.stpatricksmapleridge.ca/wp-content/uploads/2025/05/full-55.png
ORGANIZER;CN="St. Patrick's Parish":MAILTO:parish.spatmr@rcav.org
END:VEVENT
BEGIN:VEVENT
DTSTART;TZID=America/Vancouver:20310308T161500
DTEND;TZID=America/Vancouver:20310308T171500
DTSTAMP:20260424T033433
CREATED:20260330T141601Z
LAST-MODIFIED:20260330T141601Z
UID:10002771-1930752900-1930756500@www.stpatricksmapleridge.ca
SUMMARY:Holy Sacrament of Reconciliation (Confessions)
DESCRIPTION:Father Matthew is available to hear your confessions during this time. \nPlease visit the main church building and wait in line inside the vestibule.
URL:https://www.stpatricksmapleridge.ca/event/holy-sacrament-of-reconciliation-confessions/2031-03-08/
LOCATION:St. Patrick’s Parish\, 22561 121 Avenue\, Maple Ridge\, BC\, V2X 3T5\, Canada
CATEGORIES:Confession
ATTACH;FMTTYPE=image/png:https://www.stpatricksmapleridge.ca/wp-content/uploads/2026/03/Website-Featured-Images55.png
ORGANIZER;CN="St. Patrick's Parish":MAILTO:parish.spatmr@rcav.org
END:VEVENT
BEGIN:VEVENT
DTSTART;VALUE=DATE:20310309
DTEND;VALUE=DATE:20310310
DTSTAMP:20260424T033433
CREATED:20230330T060446Z
LAST-MODIFIED:20230330T060446Z
UID:10002506-1930780800-1930867199@www.stpatricksmapleridge.ca
SUMMARY:Sunday Mass – 9am\, 11:15am\, 4:30pm
DESCRIPTION:
URL:https://www.stpatricksmapleridge.ca/event/sunday-mass-9am-1115am-430pm-6/2031-03-09/
LOCATION:St. Patrick’s Parish\, 22561 121 Avenue\, Maple Ridge\, BC\, V2X 3T5\, Canada
CATEGORIES:Livestream,Mass,Worship
ATTACH;FMTTYPE=image/png:https://www.stpatricksmapleridge.ca/wp-content/uploads/2022/03/Sunday-Mass-OT.png
ORGANIZER;CN="St. Patrick's Parish":MAILTO:parish.spatmr@rcav.org
END:VEVENT
END:VCALENDAR